| Back to Multiple platform build/check report for BioC 3.10 |
|
This page was generated on 2020-04-15 12:16:34 -0400 (Wed, 15 Apr 2020).
| Package 300/1823 | Hostname | OS / Arch | INSTALL | BUILD | CHECK | BUILD BIN | ||||||
| cliqueMS 1.0.2 Oriol Senan Campos
| malbec1 | Linux (Ubuntu 18.04.4 LTS) / x86_64 | [ OK ] | OK | OK | |||||||
| tokay1 | Windows Server 2012 R2 Standard / x64 | OK | OK | OK | OK | |||||||
| merida1 | OS X 10.11.6 El Capitan / x86_64 | OK | OK | OK | OK |
| Package: cliqueMS |
| Version: 1.0.2 |
| Command: /home/biocbuild/bbs-3.10-bioc/R/bin/R CMD INSTALL cliqueMS |
| StartedAt: 2020-04-14 18:54:32 -0400 (Tue, 14 Apr 2020) |
| EndedAt: 2020-04-14 18:55:29 -0400 (Tue, 14 Apr 2020) |
| EllapsedTime: 57.2 seconds |
| RetCode: 0 |
| Status: OK |
##############################################################################
##############################################################################
###
### Running command:
###
### /home/biocbuild/bbs-3.10-bioc/R/bin/R CMD INSTALL cliqueMS
###
##############################################################################
##############################################################################
* installing to library ‘/home/biocbuild/bbs-3.10-bioc/R/library’
* installing *source* package ‘cliqueMS’ ...
** using staged installation
** libs
g++ -std=gnu++11 -I"/home/biocbuild/bbs-3.10-bioc/R/include" -DNDEBUG -I"/home/biocbuild/bbs-3.10-bioc/R/library/Rcpp/include" -I"/home/biocbuild/bbs-3.10-bioc/R/library/BH/include" -I"/home/biocbuild/bbs-3.10-bioc/R/library/RcppArmadillo/include" -I/usr/local/include -fopenmp -fpic -g -O2 -Wall -c RcppExports.cpp -o RcppExports.o
g++ -std=gnu++11 -I"/home/biocbuild/bbs-3.10-bioc/R/include" -DNDEBUG -I"/home/biocbuild/bbs-3.10-bioc/R/library/Rcpp/include" -I"/home/biocbuild/bbs-3.10-bioc/R/library/BH/include" -I"/home/biocbuild/bbs-3.10-bioc/R/library/RcppArmadillo/include" -I/usr/local/include -fopenmp -fpic -g -O2 -Wall -c findAnnotationR.cpp -o findAnnotationR.o
In file included from findAnnotationR.cpp:1:0:
annotationCliqueMSR.h: In function ‘std::vector<std::pair<double, double> > sortMass(annotData&, int, std::unordered_map<double, std::pair<double, double> >, int)’:
annotationCliqueMSR.h:440:11: warning: comparison between signed and unsigned integer expressions [-Wsign-compare]
if(id < allM.size()) // not add more masses in case that for that feature are less than "n" top masses
~~~^~~~~~~~~~~~~
annotationCliqueMSR.h: In function ‘std::unordered_set<double> getTopScoringMasses(annotData&, int, rawadList, int, int, double)’:
annotationCliqueMSR.h:476:11: warning: comparison between signed and unsigned integer expressions [-Wsign-compare]
if(id < allM.size()) // not add more masses in case that there are less than "n" top masses
~~~^~~~~~~~~~~~~
annotationCliqueMSR.h: In function ‘std::vector<int> sortAnnotations(std::unordered_map<int, Annotation>&, int)’:
annotationCliqueMSR.h:725:11: warning: comparison between signed and unsigned integer expressions [-Wsign-compare]
if(id < allAn.size() )
~~~^~~~~~~~~~~~~~
annotationCliqueMSR.h: In function ‘double computeMaxScore(std::vector<double>&, int, double)’:
annotationCliqueMSR.h:739:24: warning: ‘completeroundscore’ may be used uninitialized in this function [-Wmaybe-uninitialized]
completeroundscore += *ritv;
~~~~~~~~~~~~~~~~~~~^~~~~~~~
g++ -std=gnu++11 -I"/home/biocbuild/bbs-3.10-bioc/R/include" -DNDEBUG -I"/home/biocbuild/bbs-3.10-bioc/R/library/Rcpp/include" -I"/home/biocbuild/bbs-3.10-bioc/R/library/BH/include" -I"/home/biocbuild/bbs-3.10-bioc/R/library/RcppArmadillo/include" -I/usr/local/include -fopenmp -fpic -g -O2 -Wall -c findCliquesR.cpp -o findCliquesR.o
g++ -std=gnu++11 -I"/home/biocbuild/bbs-3.10-bioc/R/include" -DNDEBUG -I"/home/biocbuild/bbs-3.10-bioc/R/library/Rcpp/include" -I"/home/biocbuild/bbs-3.10-bioc/R/library/BH/include" -I"/home/biocbuild/bbs-3.10-bioc/R/library/RcppArmadillo/include" -I/usr/local/include -fopenmp -fpic -g -O2 -Wall -c findIsotopesR.cpp -o findIsotopesR.o
g++ -std=gnu++11 -shared -L/home/biocbuild/bbs-3.10-bioc/R/lib -L/usr/local/lib -o cliqueMS.so RcppExports.o findAnnotationR.o findCliquesR.o findIsotopesR.o -fopenmp -L/home/biocbuild/bbs-3.10-bioc/R/lib -lRlapack -L/home/biocbuild/bbs-3.10-bioc/R/lib -lRblas -lgfortran -lm -lquadmath -L/home/biocbuild/bbs-3.10-bioc/R/lib -lR
installing to /home/biocbuild/bbs-3.10-bioc/R/library/00LOCK-cliqueMS/00new/cliqueMS/libs
** R
** data
** inst
** byte-compile and prepare package for lazy loading
** help
*** installing help indices
** building package indices
** installing vignettes
** testing if installed package can be loaded from temporary location
** checking absolute paths in shared objects and dynamic libraries
** testing if installed package can be loaded from final location
** testing if installed package keeps a record of temporary installation path
* DONE (cliqueMS)