| Back to Multiple platform build/check report for BioC 3.10 |
|
This page was generated on 2020-04-15 12:32:29 -0400 (Wed, 15 Apr 2020).
| Package 1740/1823 | Hostname | OS / Arch | INSTALL | BUILD | CHECK | BUILD BIN | ||||||
| TPP2D 1.2.3 Nils Kurzawa
| malbec1 | Linux (Ubuntu 18.04.4 LTS) / x86_64 | OK | OK | OK | |||||||
| tokay1 | Windows Server 2012 R2 Standard / x64 | OK | OK | OK | [ OK ] | |||||||
| merida1 | OS X 10.11.6 El Capitan / x86_64 | OK | OK | OK | OK |
| Package: TPP2D |
| Version: 1.2.3 |
| Command: rm -rf TPP2D.buildbin-libdir && mkdir TPP2D.buildbin-libdir && C:\Users\biocbuild\bbs-3.10-bioc\R\bin\R.exe CMD INSTALL --merge-multiarch --build --library=TPP2D.buildbin-libdir TPP2D_1.2.3.tar.gz |
| StartedAt: 2020-04-15 09:50:08 -0400 (Wed, 15 Apr 2020) |
| EndedAt: 2020-04-15 09:50:51 -0400 (Wed, 15 Apr 2020) |
| EllapsedTime: 42.3 seconds |
| RetCode: 0 |
| Status: OK |
| PackageFile: TPP2D_1.2.3.zip |
| PackageFileSize: 1.017 MiB |
##############################################################################
##############################################################################
###
### Running command:
###
### rm -rf TPP2D.buildbin-libdir && mkdir TPP2D.buildbin-libdir && C:\Users\biocbuild\bbs-3.10-bioc\R\bin\R.exe CMD INSTALL --merge-multiarch --build --library=TPP2D.buildbin-libdir TPP2D_1.2.3.tar.gz
###
##############################################################################
##############################################################################
install for i386
* installing *source* package 'TPP2D' ...
** using staged installation
** R
** data
** inst
** byte-compile and prepare package for lazy loading
** help
*** installing help indices
converting help for package 'TPP2D'
finding HTML links ... done
TPP_importCheckConfigTable html
annotateDataList html
bootstrapNull html
competeModels html
computeFdr html
computeFstat html
configWide2Long html
config_tab html
filterOutContaminants html
findHits html
fitAndEvalDataset html
fitH0Model html
fitH1Model html
gg_qq html
import2dDataset html
import2dMain html
plot2dTppFit html
plot2dTppProfile html
plot2dTppRelProfile html
raw_dat_list html
recomputeSignalFromRatios html
renameColumns html
simulated_cell_extract_df html
** building package indices
** installing vignettes
** testing if installed package can be loaded from temporary location
** testing if installed package can be loaded from final location
** testing if installed package keeps a record of temporary installation path
install for x64
* installing *source* package 'TPP2D' ...
** testing if installed package can be loaded
* MD5 sums
packaged installation of 'TPP2D' as TPP2D_1.2.3.zip
* DONE (TPP2D)