| Back to Multiple platform build/check report for BioC 3.10 |
|
This page was generated on 2020-04-15 12:49:23 -0400 (Wed, 15 Apr 2020).
| Package 1740/1823 | Hostname | OS / Arch | INSTALL | BUILD | CHECK | BUILD BIN | ||||||
| TPP2D 1.2.3 Nils Kurzawa
| malbec1 | Linux (Ubuntu 18.04.4 LTS) / x86_64 | OK | OK | OK | |||||||
| tokay1 | Windows Server 2012 R2 Standard / x64 | OK | OK | OK | OK | |||||||
| merida1 | OS X 10.11.6 El Capitan / x86_64 | OK | OK | [ OK ] | OK |
| Package: TPP2D |
| Version: 1.2.3 |
| Command: /Library/Frameworks/R.framework/Versions/Current/Resources/bin/R CMD check --install=check:TPP2D.install-out.txt --library=/Library/Frameworks/R.framework/Versions/Current/Resources/library --no-vignettes --timings TPP2D_1.2.3.tar.gz |
| StartedAt: 2020-04-15 06:13:20 -0400 (Wed, 15 Apr 2020) |
| EndedAt: 2020-04-15 06:14:51 -0400 (Wed, 15 Apr 2020) |
| EllapsedTime: 90.7 seconds |
| RetCode: 0 |
| Status: OK |
| CheckDir: TPP2D.Rcheck |
| Warnings: 0 |
##############################################################################
##############################################################################
###
### Running command:
###
### /Library/Frameworks/R.framework/Versions/Current/Resources/bin/R CMD check --install=check:TPP2D.install-out.txt --library=/Library/Frameworks/R.framework/Versions/Current/Resources/library --no-vignettes --timings TPP2D_1.2.3.tar.gz
###
##############################################################################
##############################################################################
* using log directory ‘/Users/biocbuild/bbs-3.10-bioc/meat/TPP2D.Rcheck’
* using R version 3.6.3 (2020-02-29)
* using platform: x86_64-apple-darwin15.6.0 (64-bit)
* using session charset: UTF-8
* using option ‘--no-vignettes’
* checking for file ‘TPP2D/DESCRIPTION’ ... OK
* this is package ‘TPP2D’ version ‘1.2.3’
* package encoding: UTF-8
* checking package namespace information ... OK
* checking package dependencies ... OK
* checking if this is a source package ... OK
* checking if there is a namespace ... OK
* checking for hidden files and directories ... OK
* checking for portable file names ... OK
* checking for sufficient/correct file permissions ... OK
* checking whether package ‘TPP2D’ can be installed ... OK
* checking installed package size ... OK
* checking package directory ... OK
* checking ‘build’ directory ... OK
* checking DESCRIPTION meta-information ... OK
* checking top-level files ... OK
* checking for left-over files ... OK
* checking index information ... OK
* checking package subdirectories ... OK
* checking R files for non-ASCII characters ... OK
* checking R files for syntax errors ... OK
* checking whether the package can be loaded ... OK
* checking whether the package can be loaded with stated dependencies ... OK
* checking whether the package can be unloaded cleanly ... OK
* checking whether the namespace can be loaded with stated dependencies ... OK
* checking whether the namespace can be unloaded cleanly ... OK
* checking dependencies in R code ... OK
* checking S3 generic/method consistency ... OK
* checking replacement functions ... OK
* checking foreign function calls ... OK
* checking R code for possible problems ... NOTE
computeFdr: no visible binding for global variable ‘all_true’
computeFdr: no visible binding for global variable ‘all_null’
Undefined global functions or variables:
all_null all_true
* checking Rd files ... OK
* checking Rd metadata ... OK
* checking Rd cross-references ... OK
* checking for missing documentation entries ... OK
* checking for code/documentation mismatches ... OK
* checking Rd \usage sections ... OK
* checking Rd contents ... OK
* checking for unstated dependencies in examples ... OK
* checking contents of ‘data’ directory ... OK
* checking data for non-ASCII characters ... OK
* checking data for ASCII and uncompressed saves ... OK
* checking R/sysdata.rda ... OK
* checking files in ‘vignettes’ ... OK
* checking examples ... OK
Examples with CPU or elapsed time > 5s
user system elapsed
fitAndEvalDataset 7.014 0.068 7.147
computeFstat 6.204 0.078 6.337
* checking for unstated dependencies in ‘tests’ ... OK
* checking tests ...
Running ‘testthat.R’
OK
* checking for unstated dependencies in vignettes ... OK
* checking package vignettes in ‘inst/doc’ ... OK
* checking running R code from vignettes ... SKIPPED
* checking re-building of vignette outputs ... SKIPPED
* checking PDF version of manual ... OK
* DONE
Status: 1 NOTE
See
‘/Users/biocbuild/bbs-3.10-bioc/meat/TPP2D.Rcheck/00check.log’
for details.
TPP2D.Rcheck/00install.out
############################################################################## ############################################################################## ### ### Running command: ### ### /Library/Frameworks/R.framework/Versions/Current/Resources/bin/R CMD INSTALL TPP2D ### ############################################################################## ############################################################################## * installing to library ‘/Library/Frameworks/R.framework/Versions/3.6/Resources/library’ * installing *source* package ‘TPP2D’ ... ** using staged installation ** R ** data ** inst ** byte-compile and prepare package for lazy loading ** help *** installing help indices ** building package indices ** installing vignettes ** testing if installed package can be loaded from temporary location ** testing if installed package can be loaded from final location ** testing if installed package keeps a record of temporary installation path * DONE (TPP2D)
TPP2D.Rcheck/tests/testthat.Rout
R version 3.6.3 (2020-02-29) -- "Holding the Windsock"
Copyright (C) 2020 The R Foundation for Statistical Computing
Platform: x86_64-apple-darwin15.6.0 (64-bit)
R is free software and comes with ABSOLUTELY NO WARRANTY.
You are welcome to redistribute it under certain conditions.
Type 'license()' or 'licence()' for distribution details.
R is a collaborative project with many contributors.
Type 'contributors()' for more information and
'citation()' on how to cite R or R packages in publications.
Type 'demo()' for some demos, 'help()' for on-line help, or
'help.start()' for an HTML browser interface to help.
Type 'q()' to quit R.
> Sys.setenv("R_TESTS" = "")
> library(testthat)
> library(TPP2D)
Loading required package: dplyr
Attaching package: 'dplyr'
The following object is masked from 'package:testthat':
matches
The following objects are masked from 'package:stats':
filter, lag
The following objects are masked from 'package:base':
intersect, setdiff, setequal, union
>
> test_check("TPP2D")
══ testthat results ═══════════════════════════════════════════════════════════
[ OK: 11 | SKIPPED: 0 | WARNINGS: 0 | FAILED: 0 ]
>
> proc.time()
user system elapsed
5.138 0.205 7.590
TPP2D.Rcheck/TPP2D-Ex.timings
| name | user | system | elapsed | |
| TPP_importCheckConfigTable | 0.027 | 0.003 | 0.031 | |
| annotateDataList | 0.792 | 0.010 | 0.811 | |
| bootstrapNull | 0.067 | 0.004 | 1.799 | |
| competeModels | 4.015 | 0.054 | 4.101 | |
| computeFdr | 1.566 | 0.017 | 3.380 | |
| computeFstat | 6.204 | 0.078 | 6.337 | |
| configWide2Long | 0.007 | 0.001 | 0.008 | |
| config_tab | 0.001 | 0.001 | 0.004 | |
| filterOutContaminants | 0.039 | 0.001 | 0.043 | |
| findHits | 1.550 | 0.036 | 3.386 | |
| fitAndEvalDataset | 7.014 | 0.068 | 7.147 | |
| fitH0Model | 0.087 | 0.001 | 0.088 | |
| fitH1Model | 1.280 | 0.024 | 1.322 | |
| gg_qq | 0.058 | 0.001 | 0.059 | |
| import2dDataset | 0.630 | 0.006 | 0.646 | |
| import2dMain | 0.148 | 0.003 | 0.152 | |
| plot2dTppFit | 0.556 | 0.008 | 0.567 | |
| plot2dTppProfile | 0.480 | 0.003 | 0.490 | |
| plot2dTppRelProfile | 0.496 | 0.003 | 0.503 | |
| raw_dat_list | 0.002 | 0.001 | 0.004 | |
| recomputeSignalFromRatios | 0.058 | 0.001 | 0.059 | |
| renameColumns | 0.672 | 0.005 | 0.682 | |
| simulated_cell_extract_df | 0.004 | 0.001 | 0.006 | |