| Back to Multiple platform build/check report for BioC 3.10 |
|
This page was generated on 2020-04-15 12:20:02 -0400 (Wed, 15 Apr 2020).
| Package 1404/1823 | Hostname | OS / Arch | INSTALL | BUILD | CHECK | BUILD BIN | ||||||
| RedeR 1.34.0 Mauro Castro
| malbec1 | Linux (Ubuntu 18.04.4 LTS) / x86_64 | OK | OK | OK | |||||||
| tokay1 | Windows Server 2012 R2 Standard / x64 | OK | OK | OK | [ OK ] | |||||||
| merida1 | OS X 10.11.6 El Capitan / x86_64 | OK | OK | OK | OK |
| Package: RedeR |
| Version: 1.34.0 |
| Command: rm -rf RedeR.buildbin-libdir && mkdir RedeR.buildbin-libdir && C:\Users\biocbuild\bbs-3.10-bioc\R\bin\R.exe CMD INSTALL --merge-multiarch --build --library=RedeR.buildbin-libdir RedeR_1.34.0.tar.gz |
| StartedAt: 2020-04-15 09:31:06 -0400 (Wed, 15 Apr 2020) |
| EndedAt: 2020-04-15 09:31:30 -0400 (Wed, 15 Apr 2020) |
| EllapsedTime: 24.8 seconds |
| RetCode: 0 |
| Status: OK |
| PackageFile: RedeR_1.34.0.zip |
| PackageFileSize: 8.806 MiB |
##############################################################################
##############################################################################
###
### Running command:
###
### rm -rf RedeR.buildbin-libdir && mkdir RedeR.buildbin-libdir && C:\Users\biocbuild\bbs-3.10-bioc\R\bin\R.exe CMD INSTALL --merge-multiarch --build --library=RedeR.buildbin-libdir RedeR_1.34.0.tar.gz
###
##############################################################################
##############################################################################
install for i386
* installing *source* package 'RedeR' ...
** using staged installation
** R
** data
** inst
** byte-compile and prepare package for lazy loading
** help
*** installing help indices
converting help for package 'RedeR'
finding HTML links ... done
RedPort-class html
RedPort html
RedeR-package html
RedeR.data html
addEdgeBetweenContainers html
addEdges html
addGraph html
addLegend html
addNodes html
addSeries html
addSubgraph html
addSubgraph.list html
att html
calld html
cea html
deSelectEdges html
deSelectGraph html
deSelectNodes html
deleteEdges html
deleteNodes html
deleteSelectedEdges html
deleteSelectedNodes html
duplicateGraph html
exitd html
getContainerComponets html
getEdgeIDs html
getEdges html
getGraph html
getNodeIDs html
getNodes html
getSourceEdgeIDs html
getTargetEdgeIDs html
gtoy.rm html
isDynamicsActive html
mergeNodes html
mergeOutEdges html
nestNodes html
nesthc html
ping html
rederpost html
relax html
resetd html
selectAllEdges html
selectAllNodes html
selectEdges html
selectGraph html
selectNodes html
setArrowDirection html
subg html
updateContainerSize html
updateGraph html
version html
** building package indices
** installing vignettes
** testing if installed package can be loaded from temporary location
** testing if installed package can be loaded from final location
** testing if installed package keeps a record of temporary installation path
install for x64
* installing *source* package 'RedeR' ...
** testing if installed package can be loaded
* MD5 sums
packaged installation of 'RedeR' as RedeR_1.34.0.zip
* DONE (RedeR)