| Back to Multiple platform build/check report for BioC 3.10 |
|
This page was generated on 2020-04-15 12:28:23 -0400 (Wed, 15 Apr 2020).
| Package 1290/1823 | Hostname | OS / Arch | INSTALL | BUILD | CHECK | BUILD BIN | ||||||
| PPInfer 1.12.0 Dongmin Jung
| malbec1 | Linux (Ubuntu 18.04.4 LTS) / x86_64 | OK | OK | OK | |||||||
| tokay1 | Windows Server 2012 R2 Standard / x64 | OK | OK | OK | [ OK ] | |||||||
| merida1 | OS X 10.11.6 El Capitan / x86_64 | OK | OK | OK | OK |
| Package: PPInfer |
| Version: 1.12.0 |
| Command: rm -rf PPInfer.buildbin-libdir && mkdir PPInfer.buildbin-libdir && C:\Users\biocbuild\bbs-3.10-bioc\R\bin\R.exe CMD INSTALL --merge-multiarch --build --library=PPInfer.buildbin-libdir PPInfer_1.12.0.tar.gz |
| StartedAt: 2020-04-15 09:24:31 -0400 (Wed, 15 Apr 2020) |
| EndedAt: 2020-04-15 09:25:15 -0400 (Wed, 15 Apr 2020) |
| EllapsedTime: 44.7 seconds |
| RetCode: 0 |
| Status: OK |
| PackageFile: PPInfer_1.12.0.zip |
| PackageFileSize: 323 KiB |
##############################################################################
##############################################################################
###
### Running command:
###
### rm -rf PPInfer.buildbin-libdir && mkdir PPInfer.buildbin-libdir && C:\Users\biocbuild\bbs-3.10-bioc\R\bin\R.exe CMD INSTALL --merge-multiarch --build --library=PPInfer.buildbin-libdir PPInfer_1.12.0.tar.gz
###
##############################################################################
##############################################################################
install for i386
* installing *source* package 'PPInfer' ...
** using staged installation
** R
** inst
** byte-compile and prepare package for lazy loading
** help
*** installing help indices
converting help for package 'PPInfer'
finding HTML links ... done
GSEA.barplot html
ORA html
ORA.barplot html
PPInfer-package html
enrich.net html
net.infer html
net.infer.ST html
net.kernel html
ppi.infer.human html
ppi.infer.mouse html
self.train.kernel html
** building package indices
** installing vignettes
** testing if installed package can be loaded from temporary location
** testing if installed package can be loaded from final location
** testing if installed package keeps a record of temporary installation path
install for x64
* installing *source* package 'PPInfer' ...
** testing if installed package can be loaded
* MD5 sums
packaged installation of 'PPInfer' as PPInfer_1.12.0.zip
* DONE (PPInfer)