| Back to Multiple platform build/check report for BioC 3.10 |
|
This page was generated on 2020-04-15 12:45:21 -0400 (Wed, 15 Apr 2020).
| Package 1290/1823 | Hostname | OS / Arch | INSTALL | BUILD | CHECK | BUILD BIN | ||||||
| PPInfer 1.12.0 Dongmin Jung
| malbec1 | Linux (Ubuntu 18.04.4 LTS) / x86_64 | OK | OK | OK | |||||||
| tokay1 | Windows Server 2012 R2 Standard / x64 | OK | OK | OK | OK | |||||||
| merida1 | OS X 10.11.6 El Capitan / x86_64 | OK | OK | [ OK ] | OK |
| Package: PPInfer |
| Version: 1.12.0 |
| Command: /Library/Frameworks/R.framework/Versions/Current/Resources/bin/R CMD check --install=check:PPInfer.install-out.txt --library=/Library/Frameworks/R.framework/Versions/Current/Resources/library --no-vignettes --timings PPInfer_1.12.0.tar.gz |
| StartedAt: 2020-04-15 04:42:31 -0400 (Wed, 15 Apr 2020) |
| EndedAt: 2020-04-15 04:49:00 -0400 (Wed, 15 Apr 2020) |
| EllapsedTime: 388.3 seconds |
| RetCode: 0 |
| Status: OK |
| CheckDir: PPInfer.Rcheck |
| Warnings: 0 |
##############################################################################
##############################################################################
###
### Running command:
###
### /Library/Frameworks/R.framework/Versions/Current/Resources/bin/R CMD check --install=check:PPInfer.install-out.txt --library=/Library/Frameworks/R.framework/Versions/Current/Resources/library --no-vignettes --timings PPInfer_1.12.0.tar.gz
###
##############################################################################
##############################################################################
* using log directory ‘/Users/biocbuild/bbs-3.10-bioc/meat/PPInfer.Rcheck’
* using R version 3.6.3 (2020-02-29)
* using platform: x86_64-apple-darwin15.6.0 (64-bit)
* using session charset: UTF-8
* using option ‘--no-vignettes’
* checking for file ‘PPInfer/DESCRIPTION’ ... OK
* checking extension type ... Package
* this is package ‘PPInfer’ version ‘1.12.0’
* checking package namespace information ... OK
* checking package dependencies ... NOTE
Depends: includes the non-default packages:
'biomaRt', 'fgsea', 'kernlab', 'ggplot2', 'igraph', 'STRINGdb',
'yeastExpData'
Adding so many packages to the search path is excessive and importing
selectively is preferable.
* checking if this is a source package ... OK
* checking if there is a namespace ... OK
* checking for hidden files and directories ... OK
* checking for portable file names ... OK
* checking for sufficient/correct file permissions ... OK
* checking whether package ‘PPInfer’ can be installed ... OK
* checking installed package size ... OK
* checking package directory ... OK
* checking ‘build’ directory ... OK
* checking DESCRIPTION meta-information ... OK
* checking top-level files ... OK
* checking for left-over files ... OK
* checking index information ... OK
* checking package subdirectories ... OK
* checking R files for non-ASCII characters ... OK
* checking R files for syntax errors ... OK
* checking whether the package can be loaded ... OK
* checking whether the package can be loaded with stated dependencies ... OK
* checking whether the package can be unloaded cleanly ... OK
* checking whether the namespace can be loaded with stated dependencies ... OK
* checking whether the namespace can be unloaded cleanly ... OK
* checking dependencies in R code ... OK
* checking S3 generic/method consistency ... OK
* checking replacement functions ... OK
* checking foreign function calls ... OK
* checking R code for possible problems ... NOTE
ORA: no visible global function definition for ‘txtProgressBar’
ORA: no visible global function definition for ‘fisher.test’
ORA: no visible global function definition for ‘setTxtProgressBar’
ORA: no visible global function definition for ‘p.adjust’
ORA.barplot: no visible global function definition for ‘p.adjust’
enrich.net: no visible global function definition for ‘stack’
enrich.net: no visible global function definition for ‘adjustcolor’
enrich.net : <anonymous>: no visible global function definition for
‘adjustcolor’
enrich.net: no visible binding for global variable ‘legend’
net.infer: no visible global function definition for ‘na.omit’
net.infer.ST: no visible global function definition for ‘na.omit’
ppi.infer.human: no visible global function definition for ‘na.omit’
ppi.infer.mouse: no visible global function definition for ‘na.omit’
Undefined global functions or variables:
adjustcolor fisher.test legend na.omit p.adjust setTxtProgressBar
stack txtProgressBar
Consider adding
importFrom("grDevices", "adjustcolor")
importFrom("graphics", "legend")
importFrom("stats", "fisher.test", "na.omit", "p.adjust")
importFrom("utils", "setTxtProgressBar", "stack", "txtProgressBar")
to your NAMESPACE file.
* checking Rd files ... OK
* checking Rd metadata ... OK
* checking Rd cross-references ... OK
* checking for missing documentation entries ... OK
* checking for code/documentation mismatches ... OK
* checking Rd \usage sections ... OK
* checking Rd contents ... OK
* checking for unstated dependencies in examples ... OK
* checking sizes of PDF files under ‘inst/doc’ ... OK
* checking installed files from ‘inst/doc’ ... OK
* checking files in ‘vignettes’ ... OK
* checking examples ... OK
Examples with CPU or elapsed time > 5s
user system elapsed
ppi.infer.human 70.639 2.576 91.914
ppi.infer.mouse 60.885 3.219 86.959
ORA.barplot 2.012 0.042 20.294
ORA 1.641 0.112 19.766
* checking for unstated dependencies in vignettes ... OK
* checking package vignettes in ‘inst/doc’ ... OK
* checking running R code from vignettes ... SKIPPED
* checking re-building of vignette outputs ... SKIPPED
* checking PDF version of manual ... OK
* DONE
Status: 2 NOTEs
See
‘/Users/biocbuild/bbs-3.10-bioc/meat/PPInfer.Rcheck/00check.log’
for details.
PPInfer.Rcheck/00install.out
############################################################################## ############################################################################## ### ### Running command: ### ### /Library/Frameworks/R.framework/Versions/Current/Resources/bin/R CMD INSTALL PPInfer ### ############################################################################## ############################################################################## * installing to library ‘/Library/Frameworks/R.framework/Versions/3.6/Resources/library’ * installing *source* package ‘PPInfer’ ... ** using staged installation ** R ** inst ** byte-compile and prepare package for lazy loading ** help *** installing help indices ** building package indices ** installing vignettes ‘PPInfer.Rnw’ ** testing if installed package can be loaded from temporary location ** testing if installed package can be loaded from final location ** testing if installed package keeps a record of temporary installation path * DONE (PPInfer)
PPInfer.Rcheck/PPInfer-Ex.timings
| name | user | system | elapsed | |
| GSEA.barplot | 4.097 | 0.896 | 3.654 | |
| ORA | 1.641 | 0.112 | 19.766 | |
| ORA.barplot | 2.012 | 0.042 | 20.294 | |
| enrich.net | 3.147 | 0.891 | 2.720 | |
| net.infer | 3.015 | 0.018 | 3.044 | |
| net.infer.ST | 0.126 | 0.003 | 0.129 | |
| net.kernel | 0.040 | 0.002 | 0.042 | |
| ppi.infer.human | 70.639 | 2.576 | 91.914 | |
| ppi.infer.mouse | 60.885 | 3.219 | 86.959 | |
| self.train.kernel | 0.115 | 0.008 | 0.124 | |