| Back to Multiple platform build/check report for BioC 3.10 |
|
This page was generated on 2020-04-15 12:23:51 -0400 (Wed, 15 Apr 2020).
| Package 1209/1823 | Hostname | OS / Arch | INSTALL | BUILD | CHECK | BUILD BIN | ||||||
| PAA 1.20.0 Michael Turewicz
| malbec1 | Linux (Ubuntu 18.04.4 LTS) / x86_64 | OK | OK | OK | |||||||
| tokay1 | Windows Server 2012 R2 Standard / x64 | OK | OK | OK | [ OK ] | |||||||
| merida1 | OS X 10.11.6 El Capitan / x86_64 | OK | OK | OK | OK |
| Package: PAA |
| Version: 1.20.0 |
| Command: rm -rf PAA.buildbin-libdir && mkdir PAA.buildbin-libdir && C:\Users\biocbuild\bbs-3.10-bioc\R\bin\R.exe CMD INSTALL --merge-multiarch --build --library=PAA.buildbin-libdir PAA_1.20.0.tar.gz |
| StartedAt: 2020-04-15 09:19:48 -0400 (Wed, 15 Apr 2020) |
| EndedAt: 2020-04-15 09:21:03 -0400 (Wed, 15 Apr 2020) |
| EllapsedTime: 74.2 seconds |
| RetCode: 0 |
| Status: OK |
| PackageFile: PAA_1.20.0.zip |
| PackageFileSize: 3.572 MiB |
##############################################################################
##############################################################################
###
### Running command:
###
### rm -rf PAA.buildbin-libdir && mkdir PAA.buildbin-libdir && C:\Users\biocbuild\bbs-3.10-bioc\R\bin\R.exe CMD INSTALL --merge-multiarch --build --library=PAA.buildbin-libdir PAA_1.20.0.tar.gz
###
##############################################################################
##############################################################################
install for i386
* installing *source* package 'PAA' ...
** using staged installation
** libs
C:/Rtools/mingw_32/bin/gcc -I"C:/Users/BIOCBU~1/BBS-3~1.10-/R/include" -DNDEBUG -I"C:/Users/biocbuild/bbs-3.10-bioc/R/library/Rcpp/include" -I"C:/extsoft/include" -O3 -Wall -std=gnu99 -mtune=core2 -c PAA_init.c -o PAA_init.o
C:/Rtools/mingw_32/bin/g++ -std=gnu++11 -I"C:/Users/BIOCBU~1/BBS-3~1.10-/R/include" -DNDEBUG -I"C:/Users/biocbuild/bbs-3.10-bioc/R/library/Rcpp/include" -I"C:/extsoft/include" -O2 -Wall -mtune=core2 -c RcppExports.cpp -o RcppExports.o
C:/Rtools/mingw_32/bin/g++ -std=gnu++11 -I"C:/Users/BIOCBU~1/BBS-3~1.10-/R/include" -DNDEBUG -I"C:/Users/biocbuild/bbs-3.10-bioc/R/library/Rcpp/include" -I"C:/extsoft/include" -O2 -Wall -mtune=core2 -c joinMCountResults.cpp -o joinMCountResults.o
C:/Rtools/mingw_32/bin/g++ -std=gnu++11 -I"C:/Users/BIOCBU~1/BBS-3~1.10-/R/include" -DNDEBUG -I"C:/Users/biocbuild/bbs-3.10-bioc/R/library/Rcpp/include" -I"C:/extsoft/include" -O2 -Wall -mtune=core2 -c mCount.cpp -o mCount.o
C:/Rtools/mingw_32/bin/g++ -std=gnu++11 -I"C:/Users/BIOCBU~1/BBS-3~1.10-/R/include" -DNDEBUG -I"C:/Users/biocbuild/bbs-3.10-bioc/R/library/Rcpp/include" -I"C:/extsoft/include" -O2 -Wall -mtune=core2 -c mMsMatrix.cpp -o mMsMatrix.o
C:/Rtools/mingw_32/bin/g++ -std=gnu++11 -I"C:/Users/BIOCBU~1/BBS-3~1.10-/R/include" -DNDEBUG -I"C:/Users/biocbuild/bbs-3.10-bioc/R/library/Rcpp/include" -I"C:/extsoft/include" -O2 -Wall -mtune=core2 -c sampling.cpp -o sampling.o
C:/Rtools/mingw_32/bin/g++ -std=gnu++11 -shared -s -static-libgcc -o PAA.dll tmp.def PAA_init.o RcppExports.o joinMCountResults.o mCount.o mMsMatrix.o sampling.o -LC:/extsoft/lib/i386 -LC:/extsoft/lib -LC:/Users/BIOCBU~1/BBS-3~1.10-/R/bin/i386 -lR
installing to C:/Users/biocbuild/bbs-3.10-bioc/meat/PAA.buildbin-libdir/00LOCK-PAA/00new/PAA/libs/i386
** R
** demo
** inst
** byte-compile and prepare package for lazy loading
** help
*** installing help indices
converting help for package 'PAA'
finding HTML links ... done
batchAdjust html
batchFilter html
batchFilter.anova html
diffAnalysis html
loadGPR html
mMsMatrix html
normalizeArrays html
plotArray html
plotFeatures html
plotFeaturesHeatmap.2 html
plotFeaturesHeatmap html
plotMAPlots html
plotNormMethods html
preselect html
printFeatures html
pvaluePlot html
selectFeatures html
shuffleData html
volcanoPlot html
** building package indices
** installing vignettes
** testing if installed package can be loaded from temporary location
** testing if installed package can be loaded from final location
** testing if installed package keeps a record of temporary installation path
install for x64
* installing *source* package 'PAA' ...
** libs
C:/Rtools/mingw_64/bin/gcc -I"C:/Users/BIOCBU~1/BBS-3~1.10-/R/include" -DNDEBUG -I"C:/Users/biocbuild/bbs-3.10-bioc/R/library/Rcpp/include" -I"C:/extsoft/include" -O2 -Wall -std=gnu99 -mtune=core2 -c PAA_init.c -o PAA_init.o
C:/Rtools/mingw_64/bin/g++ -std=gnu++11 -I"C:/Users/BIOCBU~1/BBS-3~1.10-/R/include" -DNDEBUG -I"C:/Users/biocbuild/bbs-3.10-bioc/R/library/Rcpp/include" -I"C:/extsoft/include" -O2 -Wall -mtune=core2 -c RcppExports.cpp -o RcppExports.o
C:/Rtools/mingw_64/bin/g++ -std=gnu++11 -I"C:/Users/BIOCBU~1/BBS-3~1.10-/R/include" -DNDEBUG -I"C:/Users/biocbuild/bbs-3.10-bioc/R/library/Rcpp/include" -I"C:/extsoft/include" -O2 -Wall -mtune=core2 -c joinMCountResults.cpp -o joinMCountResults.o
C:/Rtools/mingw_64/bin/g++ -std=gnu++11 -I"C:/Users/BIOCBU~1/BBS-3~1.10-/R/include" -DNDEBUG -I"C:/Users/biocbuild/bbs-3.10-bioc/R/library/Rcpp/include" -I"C:/extsoft/include" -O2 -Wall -mtune=core2 -c mCount.cpp -o mCount.o
C:/Rtools/mingw_64/bin/g++ -std=gnu++11 -I"C:/Users/BIOCBU~1/BBS-3~1.10-/R/include" -DNDEBUG -I"C:/Users/biocbuild/bbs-3.10-bioc/R/library/Rcpp/include" -I"C:/extsoft/include" -O2 -Wall -mtune=core2 -c mMsMatrix.cpp -o mMsMatrix.o
C:/Rtools/mingw_64/bin/g++ -std=gnu++11 -I"C:/Users/BIOCBU~1/BBS-3~1.10-/R/include" -DNDEBUG -I"C:/Users/biocbuild/bbs-3.10-bioc/R/library/Rcpp/include" -I"C:/extsoft/include" -O2 -Wall -mtune=core2 -c sampling.cpp -o sampling.o
C:/Rtools/mingw_64/bin/g++ -std=gnu++11 -shared -s -static-libgcc -o PAA.dll tmp.def PAA_init.o RcppExports.o joinMCountResults.o mCount.o mMsMatrix.o sampling.o -LC:/extsoft/lib/x64 -LC:/extsoft/lib -LC:/Users/BIOCBU~1/BBS-3~1.10-/R/bin/x64 -lR
installing to C:/Users/biocbuild/bbs-3.10-bioc/meat/PAA.buildbin-libdir/PAA/libs/x64
** testing if installed package can be loaded
* MD5 sums
packaged installation of 'PAA' as PAA_1.20.0.zip
* DONE (PAA)