| Back to Multiple platform build/check report for BioC 3.10 |
|
This page was generated on 2020-04-15 12:09:17 -0400 (Wed, 15 Apr 2020).
| Package 1209/1823 | Hostname | OS / Arch | INSTALL | BUILD | CHECK | BUILD BIN | ||||||
| PAA 1.20.0 Michael Turewicz
| malbec1 | Linux (Ubuntu 18.04.4 LTS) / x86_64 | OK | [ OK ] | OK | |||||||
| tokay1 | Windows Server 2012 R2 Standard / x64 | OK | OK | OK | OK | |||||||
| merida1 | OS X 10.11.6 El Capitan / x86_64 | OK | OK | OK | OK |
| Package: PAA |
| Version: 1.20.0 |
| Command: /home/biocbuild/bbs-3.10-bioc/R/bin/R CMD build --keep-empty-dirs --no-resave-data PAA |
| StartedAt: 2020-04-14 21:08:52 -0400 (Tue, 14 Apr 2020) |
| EndedAt: 2020-04-14 21:10:53 -0400 (Tue, 14 Apr 2020) |
| EllapsedTime: 120.6 seconds |
| RetCode: 0 |
| Status: OK |
| PackageFile: PAA_1.20.0.tar.gz |
| PackageFileSize: 3.887 MiB |
##############################################################################
##############################################################################
###
### Running command:
###
### /home/biocbuild/bbs-3.10-bioc/R/bin/R CMD build --keep-empty-dirs --no-resave-data PAA
###
##############################################################################
##############################################################################
* checking for file ‘PAA/DESCRIPTION’ ... OK
* preparing ‘PAA’:
* checking DESCRIPTION meta-information ... OK
* cleaning src
* installing the package to build vignettes
* creating vignettes ... OK
Warning: ‘inst/doc’ file
‘PAA_vignette.pdf’
ignored as vignettes have been rebuilt.
Run R CMD build with --no-build-vignettes to prevent rebuilding.
* cleaning src
* checking for LF line-endings in source and make files and shell scripts
* checking for empty or unneeded directories
* building ‘PAA_1.20.0.tar.gz’