| Back to Multiple platform build/check report for BioC 3.10 |
|
This page was generated on 2020-04-15 12:24:45 -0400 (Wed, 15 Apr 2020).
| Package 1181/1823 | Hostname | OS / Arch | INSTALL | BUILD | CHECK | BUILD BIN | ||||||
| OmicsMarkeR 1.18.0 Charles E. Determan Jr.
| malbec1 | Linux (Ubuntu 18.04.4 LTS) / x86_64 | OK | OK | OK | |||||||
| tokay1 | Windows Server 2012 R2 Standard / x64 | [ OK ] | OK | OK | OK | |||||||
| merida1 | OS X 10.11.6 El Capitan / x86_64 | OK | OK | OK | OK |
| Package: OmicsMarkeR |
| Version: 1.18.0 |
| Command: C:\cygwin\bin\curl.exe -O https://malbec1.bioconductor.org/BBS/3.10/bioc/src/contrib/OmicsMarkeR_1.18.0.tar.gz && rm -rf OmicsMarkeR.buildbin-libdir && mkdir OmicsMarkeR.buildbin-libdir && C:\Users\biocbuild\bbs-3.10-bioc\R\bin\R.exe CMD INSTALL --merge-multiarch --build --library=OmicsMarkeR.buildbin-libdir OmicsMarkeR_1.18.0.tar.gz && C:\Users\biocbuild\bbs-3.10-bioc\R\bin\R.exe CMD INSTALL OmicsMarkeR_1.18.0.zip && rm OmicsMarkeR_1.18.0.tar.gz OmicsMarkeR_1.18.0.zip |
| StartedAt: 2020-04-14 20:29:37 -0400 (Tue, 14 Apr 2020) |
| EndedAt: 2020-04-14 20:30:20 -0400 (Tue, 14 Apr 2020) |
| EllapsedTime: 43.1 seconds |
| RetCode: 0 |
| Status: OK |
##############################################################################
##############################################################################
###
### Running command:
###
### C:\cygwin\bin\curl.exe -O https://malbec1.bioconductor.org/BBS/3.10/bioc/src/contrib/OmicsMarkeR_1.18.0.tar.gz && rm -rf OmicsMarkeR.buildbin-libdir && mkdir OmicsMarkeR.buildbin-libdir && C:\Users\biocbuild\bbs-3.10-bioc\R\bin\R.exe CMD INSTALL --merge-multiarch --build --library=OmicsMarkeR.buildbin-libdir OmicsMarkeR_1.18.0.tar.gz && C:\Users\biocbuild\bbs-3.10-bioc\R\bin\R.exe CMD INSTALL OmicsMarkeR_1.18.0.zip && rm OmicsMarkeR_1.18.0.tar.gz OmicsMarkeR_1.18.0.zip
###
##############################################################################
##############################################################################
% Total % Received % Xferd Average Speed Time Time Time Current
Dload Upload Total Spent Left Speed
0 0 0 0 0 0 0 0 --:--:-- --:--:-- --:--:-- 0
100 236k 100 236k 0 0 5315k 0 --:--:-- --:--:-- --:--:-- 5757k
install for i386
* installing *source* package 'OmicsMarkeR' ...
** using staged installation
** R
** inst
** byte-compile and prepare package for lazy loading
** help
*** installing help indices
converting help for package 'OmicsMarkeR'
finding HTML links ... done
CLA html
EE html
EM html
ES html
RPT html
aggregation html
bagging.wrapper html
canberra html
canberra_stability html
create.corr.matrix html
create.discr.matrix html
create.random.matrix html
denovo.grid html
extract.args html
extract.features html
feature.table html
fit.only.model html
fs.ensembl.stability html
fs.stability html
jaccard html
kuncheva html
modelList html
modelTuner html
modelTuner_loo html
noise.matrix html
ochiai html
optimize.model html
pairwise.model.stability html
pairwise.stability html
params html
perf.calc html
finding level-2 HTML links ... done
performance.metrics html
performance.stats html
perm.class html
perm.features html
pof html
predictNewClasses html
predicting html
prediction.metrics html
sequester html
sorensen html
spearman html
svm.weights html
svmrfeFeatureRanking html
svmrfeFeatureRankingForMulticlass html
training html
tune.instructions html
** building package indices
** installing vignettes
** testing if installed package can be loaded from temporary location
** testing if installed package can be loaded from final location
** testing if installed package keeps a record of temporary installation path
install for x64
* installing *source* package 'OmicsMarkeR' ...
** testing if installed package can be loaded
* MD5 sums
packaged installation of 'OmicsMarkeR' as OmicsMarkeR_1.18.0.zip
* DONE (OmicsMarkeR)
* installing to library 'C:/Users/biocbuild/bbs-3.10-bioc/R/library'
package 'OmicsMarkeR' successfully unpacked and MD5 sums checked