| Back to Multiple platform build/check report for BioC 3.10 |
|
This page was generated on 2020-04-15 12:09:57 -0400 (Wed, 15 Apr 2020).
| Package 1181/1823 | Hostname | OS / Arch | INSTALL | BUILD | CHECK | BUILD BIN | ||||||
| OmicsMarkeR 1.18.0 Charles E. Determan Jr.
| malbec1 | Linux (Ubuntu 18.04.4 LTS) / x86_64 | OK | [ OK ] | OK | |||||||
| tokay1 | Windows Server 2012 R2 Standard / x64 | OK | OK | OK | OK | |||||||
| merida1 | OS X 10.11.6 El Capitan / x86_64 | OK | OK | OK | OK |
| Package: OmicsMarkeR |
| Version: 1.18.0 |
| Command: /home/biocbuild/bbs-3.10-bioc/R/bin/R CMD build --keep-empty-dirs --no-resave-data OmicsMarkeR |
| StartedAt: 2020-04-14 21:22:51 -0400 (Tue, 14 Apr 2020) |
| EndedAt: 2020-04-14 21:23:20 -0400 (Tue, 14 Apr 2020) |
| EllapsedTime: 28.3 seconds |
| RetCode: 0 |
| Status: OK |
| PackageFile: OmicsMarkeR_1.18.0.tar.gz |
| PackageFileSize: 295 KiB |
##############################################################################
##############################################################################
###
### Running command:
###
### /home/biocbuild/bbs-3.10-bioc/R/bin/R CMD build --keep-empty-dirs --no-resave-data OmicsMarkeR
###
##############################################################################
##############################################################################
* checking for file ‘OmicsMarkeR/DESCRIPTION’ ... OK
* preparing ‘OmicsMarkeR’:
* checking DESCRIPTION meta-information ... OK
* installing the package to build vignettes
* creating vignettes ... OK
Warning: ‘inst/doc’ files
‘OmicsMarkeR.Rnw’, ‘OmicsMarkeR.pdf’, ‘OmicsMarkeR.R’
ignored as vignettes have been rebuilt.
Run R CMD build with --no-build-vignettes to prevent rebuilding.
* checking for LF line-endings in source and make files and shell scripts
* checking for empty or unneeded directories
* building ‘OmicsMarkeR_1.18.0.tar.gz’