| Back to Multiple platform build/check report for BioC 3.10 |
|
This page was generated on 2020-04-15 12:19:26 -0400 (Wed, 15 Apr 2020).
| Package 1205/1823 | Hostname | OS / Arch | INSTALL | BUILD | CHECK | BUILD BIN | ||||||
| OTUbase 1.36.0 Daniel Beck
| malbec1 | Linux (Ubuntu 18.04.4 LTS) / x86_64 | OK | OK | OK | |||||||
| tokay1 | Windows Server 2012 R2 Standard / x64 | [ OK ] | OK | OK | OK | |||||||
| merida1 | OS X 10.11.6 El Capitan / x86_64 | OK | ERROR | skipped | skipped |
| Package: OTUbase |
| Version: 1.36.0 |
| Command: C:\cygwin\bin\curl.exe -O https://malbec1.bioconductor.org/BBS/3.10/bioc/src/contrib/OTUbase_1.36.0.tar.gz && rm -rf OTUbase.buildbin-libdir && mkdir OTUbase.buildbin-libdir && C:\Users\biocbuild\bbs-3.10-bioc\R\bin\R.exe CMD INSTALL --merge-multiarch --build --library=OTUbase.buildbin-libdir OTUbase_1.36.0.tar.gz && C:\Users\biocbuild\bbs-3.10-bioc\R\bin\R.exe CMD INSTALL OTUbase_1.36.0.zip && rm OTUbase_1.36.0.tar.gz OTUbase_1.36.0.zip |
| StartedAt: 2020-04-14 19:41:28 -0400 (Tue, 14 Apr 2020) |
| EndedAt: 2020-04-14 19:42:16 -0400 (Tue, 14 Apr 2020) |
| EllapsedTime: 48.2 seconds |
| RetCode: 0 |
| Status: OK |
##############################################################################
##############################################################################
###
### Running command:
###
### C:\cygwin\bin\curl.exe -O https://malbec1.bioconductor.org/BBS/3.10/bioc/src/contrib/OTUbase_1.36.0.tar.gz && rm -rf OTUbase.buildbin-libdir && mkdir OTUbase.buildbin-libdir && C:\Users\biocbuild\bbs-3.10-bioc\R\bin\R.exe CMD INSTALL --merge-multiarch --build --library=OTUbase.buildbin-libdir OTUbase_1.36.0.tar.gz && C:\Users\biocbuild\bbs-3.10-bioc\R\bin\R.exe CMD INSTALL OTUbase_1.36.0.zip && rm OTUbase_1.36.0.tar.gz OTUbase_1.36.0.zip
###
##############################################################################
##############################################################################
% Total % Received % Xferd Average Speed Time Time Time Current
Dload Upload Total Spent Left Speed
0 0 0 0 0 0 0 0 --:--:-- --:--:-- --:--:-- 0
100 84271 100 84271 0 0 2498k 0 --:--:-- --:--:-- --:--:-- 2837k
install for i386
* installing *source* package 'OTUbase' ...
** using staged installation
** R
** inst
** byte-compile and prepare package for lazy loading
** help
*** installing help indices
converting help for package 'OTUbase'
finding HTML links ... done
OTUbase-package html
OTUset-class html
TAXset-class html
abundance html
accessors html
finding level-2 HTML links ... done
assignmentData html
clusterSamples html
other_functions html
other_generics html
readOTUset html
readTAXset html
sampleData html
subOTUset html
subTAXset html
** building package indices
** installing vignettes
** testing if installed package can be loaded from temporary location
** testing if installed package can be loaded from final location
** testing if installed package keeps a record of temporary installation path
install for x64
* installing *source* package 'OTUbase' ...
** testing if installed package can be loaded
* MD5 sums
packaged installation of 'OTUbase' as OTUbase_1.36.0.zip
* DONE (OTUbase)
* installing to library 'C:/Users/biocbuild/bbs-3.10-bioc/R/library'
package 'OTUbase' successfully unpacked and MD5 sums checked