| Back to Multiple platform build/check report for BioC 3.10 |
|
This page was generated on 2020-04-15 12:19:27 -0400 (Wed, 15 Apr 2020).
| Package 1205/1823 | Hostname | OS / Arch | INSTALL | BUILD | CHECK | BUILD BIN | ||||||
| OTUbase 1.36.0 Daniel Beck
| malbec1 | Linux (Ubuntu 18.04.4 LTS) / x86_64 | OK | OK | OK | |||||||
| tokay1 | Windows Server 2012 R2 Standard / x64 | OK | OK | [ OK ] | OK | |||||||
| merida1 | OS X 10.11.6 El Capitan / x86_64 | OK | ERROR | skipped | skipped |
| Package: OTUbase |
| Version: 1.36.0 |
| Command: C:\Users\biocbuild\bbs-3.10-bioc\R\bin\R.exe CMD check --force-multiarch --install=check:OTUbase.install-out.txt --library=C:\Users\biocbuild\bbs-3.10-bioc\R\library --no-vignettes --timings OTUbase_1.36.0.tar.gz |
| StartedAt: 2020-04-15 05:17:14 -0400 (Wed, 15 Apr 2020) |
| EndedAt: 2020-04-15 05:21:37 -0400 (Wed, 15 Apr 2020) |
| EllapsedTime: 263.3 seconds |
| RetCode: 0 |
| Status: OK |
| CheckDir: OTUbase.Rcheck |
| Warnings: 0 |
##############################################################################
##############################################################################
###
### Running command:
###
### C:\Users\biocbuild\bbs-3.10-bioc\R\bin\R.exe CMD check --force-multiarch --install=check:OTUbase.install-out.txt --library=C:\Users\biocbuild\bbs-3.10-bioc\R\library --no-vignettes --timings OTUbase_1.36.0.tar.gz
###
##############################################################################
##############################################################################
* using log directory 'C:/Users/biocbuild/bbs-3.10-bioc/meat/OTUbase.Rcheck'
* using R version 3.6.3 (2020-02-29)
* using platform: x86_64-w64-mingw32 (64-bit)
* using session charset: ISO8859-1
* using option '--no-vignettes'
* checking for file 'OTUbase/DESCRIPTION' ... OK
* checking extension type ... Package
* this is package 'OTUbase' version '1.36.0'
* checking package namespace information ... OK
* checking package dependencies ... OK
* checking if this is a source package ... OK
* checking if there is a namespace ... OK
* checking for hidden files and directories ... OK
* checking for portable file names ... OK
* checking whether package 'OTUbase' can be installed ... OK
* checking installed package size ... OK
* checking package directory ... OK
* checking 'build' directory ... OK
* checking DESCRIPTION meta-information ... NOTE
Malformed Description field: should contain one or more complete sentences.
* checking top-level files ... OK
* checking for left-over files ... OK
* checking index information ... OK
* checking package subdirectories ... OK
* checking R files for non-ASCII characters ... OK
* checking R files for syntax errors ... OK
* loading checks for arch 'i386'
** checking whether the package can be loaded ... OK
** checking whether the package can be loaded with stated dependencies ... OK
** checking whether the package can be unloaded cleanly ... OK
** checking whether the namespace can be loaded with stated dependencies ... OK
** checking whether the namespace can be unloaded cleanly ... OK
* loading checks for arch 'x64'
** checking whether the package can be loaded ... OK
** checking whether the package can be loaded with stated dependencies ... OK
** checking whether the package can be unloaded cleanly ... OK
** checking whether the namespace can be loaded with stated dependencies ... OK
** checking whether the namespace can be unloaded cleanly ... OK
* checking dependencies in R code ... NOTE
Package in Depends field not imported from: 'vegan'
These packages need to be imported from (in the NAMESPACE file)
for when this namespace is loaded but not attached.
* checking S3 generic/method consistency ... OK
* checking replacement functions ... OK
* checking foreign function calls ... OK
* checking R code for possible problems ... NOTE
.onAttach: warning in packageDescription("OTUbase", field = "Version"):
partial argument match of 'field' to 'fields'
.readADF: warning in read.table(file.path(dirPath, ADF), sep = "\t",
head = T): partial argument match of 'head' to 'header'
.readRDP: warning in read.table(file.path(dirPath, ADF), head = F, sep
= "\t", stringsAsFactors = F): partial argument match of 'head' to
'header'
.readrdpfix: warning in read.table(file.path(dirPath, rdpfile), head =
F, stringsAsFactors = F, sep = "\t"): partial argument match of
'head' to 'header'
readTAXset: warning in read.table(file.path(dirPath, namefile), head =
F, stringsAsFactors = F, sep = "\t"): partial argument match of
'head' to 'header'
o_diversity: no visible global function definition for 'diversity'
o_estimateR : <anonymous>: no visible global function definition for
'estimateR'
clusterSamples,.OTUset: no visible global function definition for
'vegdist'
clusterSamples,.TAXset: no visible global function definition for
'vegdist'
Undefined global functions or variables:
diversity estimateR vegdist
* checking Rd files ... OK
* checking Rd metadata ... OK
* checking Rd cross-references ... OK
* checking for missing documentation entries ... OK
* checking for code/documentation mismatches ... OK
* checking Rd \usage sections ... OK
* checking Rd contents ... OK
* checking for unstated dependencies in examples ... OK
* checking files in 'vignettes' ... OK
* checking examples ...
** running examples for arch 'i386' ... OK
** running examples for arch 'x64' ... OK
* checking for unstated dependencies in vignettes ... OK
* checking package vignettes in 'inst/doc' ... OK
* checking running R code from vignettes ... SKIPPED
* checking re-building of vignette outputs ... SKIPPED
* checking PDF version of manual ... OK
* DONE
Status: 3 NOTEs
See
'C:/Users/biocbuild/bbs-3.10-bioc/meat/OTUbase.Rcheck/00check.log'
for details.
OTUbase.Rcheck/00install.out
##############################################################################
##############################################################################
###
### Running command:
###
### C:\cygwin\bin\curl.exe -O https://malbec1.bioconductor.org/BBS/3.10/bioc/src/contrib/OTUbase_1.36.0.tar.gz && rm -rf OTUbase.buildbin-libdir && mkdir OTUbase.buildbin-libdir && C:\Users\biocbuild\bbs-3.10-bioc\R\bin\R.exe CMD INSTALL --merge-multiarch --build --library=OTUbase.buildbin-libdir OTUbase_1.36.0.tar.gz && C:\Users\biocbuild\bbs-3.10-bioc\R\bin\R.exe CMD INSTALL OTUbase_1.36.0.zip && rm OTUbase_1.36.0.tar.gz OTUbase_1.36.0.zip
###
##############################################################################
##############################################################################
% Total % Received % Xferd Average Speed Time Time Time Current
Dload Upload Total Spent Left Speed
0 0 0 0 0 0 0 0 --:--:-- --:--:-- --:--:-- 0
100 84271 100 84271 0 0 2498k 0 --:--:-- --:--:-- --:--:-- 2837k
install for i386
* installing *source* package 'OTUbase' ...
** using staged installation
** R
** inst
** byte-compile and prepare package for lazy loading
** help
*** installing help indices
converting help for package 'OTUbase'
finding HTML links ... done
OTUbase-package html
OTUset-class html
TAXset-class html
abundance html
accessors html
finding level-2 HTML links ... done
assignmentData html
clusterSamples html
other_functions html
other_generics html
readOTUset html
readTAXset html
sampleData html
subOTUset html
subTAXset html
** building package indices
** installing vignettes
** testing if installed package can be loaded from temporary location
** testing if installed package can be loaded from final location
** testing if installed package keeps a record of temporary installation path
install for x64
* installing *source* package 'OTUbase' ...
** testing if installed package can be loaded
* MD5 sums
packaged installation of 'OTUbase' as OTUbase_1.36.0.zip
* DONE (OTUbase)
* installing to library 'C:/Users/biocbuild/bbs-3.10-bioc/R/library'
package 'OTUbase' successfully unpacked and MD5 sums checked
|
OTUbase.Rcheck/examples_i386/OTUbase-Ex.timings
|
OTUbase.Rcheck/examples_x64/OTUbase-Ex.timings
|