| Back to Multiple platform build/check report for BioC 3.10 |
|
This page was generated on 2020-04-15 12:17:02 -0400 (Wed, 15 Apr 2020).
| Package 1173/1823 | Hostname | OS / Arch | INSTALL | BUILD | CHECK | BUILD BIN | ||||||
| OLIN 1.64.0 Matthias Futschik
| malbec1 | Linux (Ubuntu 18.04.4 LTS) / x86_64 | OK | OK | OK | |||||||
| tokay1 | Windows Server 2012 R2 Standard / x64 | OK | OK | OK | [ OK ] | |||||||
| merida1 | OS X 10.11.6 El Capitan / x86_64 | OK | OK | OK | OK |
| Package: OLIN |
| Version: 1.64.0 |
| Command: rm -rf OLIN.buildbin-libdir && mkdir OLIN.buildbin-libdir && C:\Users\biocbuild\bbs-3.10-bioc\R\bin\R.exe CMD INSTALL --merge-multiarch --build --library=OLIN.buildbin-libdir OLIN_1.64.0.tar.gz |
| StartedAt: 2020-04-15 09:17:45 -0400 (Wed, 15 Apr 2020) |
| EndedAt: 2020-04-15 09:18:16 -0400 (Wed, 15 Apr 2020) |
| EllapsedTime: 31.3 seconds |
| RetCode: 0 |
| Status: OK |
| PackageFile: OLIN_1.64.0.zip |
| PackageFileSize: 1.531 MiB |
##############################################################################
##############################################################################
###
### Running command:
###
### rm -rf OLIN.buildbin-libdir && mkdir OLIN.buildbin-libdir && C:\Users\biocbuild\bbs-3.10-bioc\R\bin\R.exe CMD INSTALL --merge-multiarch --build --library=OLIN.buildbin-libdir OLIN_1.64.0.tar.gz
###
##############################################################################
##############################################################################
install for i386
* installing *source* package 'OLIN' ...
** using staged installation
** R
** data
** inst
** byte-compile and prepare package for lazy loading
** help
*** installing help indices
converting help for package 'OLIN'
finding HTML links ... done
anovaint html
anovapin html
anovaplate html
anovaspatial html
backgroundCorrect2 html
bas html
colorbar.mxy html
colorbar.mxy.abs html
colorbar.sig html
fdr.int html
fdr.int2 html
fdr.spatial html
fdr.spatial2 html
fgbg.visu html
ino html
lin html
m2v html
ma.matrix html
ma.vector html
mxy.abs.plot html
mxy.plot html
mxy2.plot html
oin html
olin html
p.int html
p.int2 html
p.spatial html
p.spatial2 html
sig.mask html
sigint.plot html
sigint.plot2 html
sigxy.plot html
sigxy.plot2 html
sw html
sw.olin html
sw.xy html
v2m html
** building package indices
** installing vignettes
** testing if installed package can be loaded from temporary location
** testing if installed package can be loaded from final location
** testing if installed package keeps a record of temporary installation path
install for x64
* installing *source* package 'OLIN' ...
** testing if installed package can be loaded
* MD5 sums
packaged installation of 'OLIN' as OLIN_1.64.0.zip
* DONE (OLIN)