| Back to Multiple platform build/check report for BioC 3.10 |
|
This page was generated on 2020-04-15 12:04:15 -0400 (Wed, 15 Apr 2020).
| Package 1173/1823 | Hostname | OS / Arch | INSTALL | BUILD | CHECK | BUILD BIN | ||||||
| OLIN 1.64.0 Matthias Futschik
| malbec1 | Linux (Ubuntu 18.04.4 LTS) / x86_64 | OK | OK | [ OK ] | |||||||
| tokay1 | Windows Server 2012 R2 Standard / x64 | OK | OK | OK | OK | |||||||
| merida1 | OS X 10.11.6 El Capitan / x86_64 | OK | OK | OK | OK |
| Package: OLIN |
| Version: 1.64.0 |
| Command: /home/biocbuild/bbs-3.10-bioc/R/bin/R CMD check --install=check:OLIN.install-out.txt --library=/home/biocbuild/bbs-3.10-bioc/R/library --no-vignettes --timings OLIN_1.64.0.tar.gz |
| StartedAt: 2020-04-15 00:12:47 -0400 (Wed, 15 Apr 2020) |
| EndedAt: 2020-04-15 00:13:45 -0400 (Wed, 15 Apr 2020) |
| EllapsedTime: 57.8 seconds |
| RetCode: 0 |
| Status: OK |
| CheckDir: OLIN.Rcheck |
| Warnings: 0 |
##############################################################################
##############################################################################
###
### Running command:
###
### /home/biocbuild/bbs-3.10-bioc/R/bin/R CMD check --install=check:OLIN.install-out.txt --library=/home/biocbuild/bbs-3.10-bioc/R/library --no-vignettes --timings OLIN_1.64.0.tar.gz
###
##############################################################################
##############################################################################
* using log directory ‘/home/biocbuild/bbs-3.10-bioc/meat/OLIN.Rcheck’
* using R version 3.6.3 (2020-02-29)
* using platform: x86_64-pc-linux-gnu (64-bit)
* using session charset: UTF-8
* using option ‘--no-vignettes’
* checking for file ‘OLIN/DESCRIPTION’ ... OK
* this is package ‘OLIN’ version ‘1.64.0’
* checking package namespace information ... OK
* checking package dependencies ... OK
* checking if this is a source package ... OK
* checking if there is a namespace ... OK
* checking for hidden files and directories ... OK
* checking for portable file names ... OK
* checking for sufficient/correct file permissions ... OK
* checking whether package ‘OLIN’ can be installed ... OK
* checking installed package size ... OK
* checking package directory ... OK
* checking ‘build’ directory ... OK
* checking DESCRIPTION meta-information ... NOTE
Malformed Description field: should contain one or more complete sentences.
Packages listed in more than one of Depends, Imports, Suggests, Enhances:
‘marray’ ‘methods’
A package should be listed in only one of these fields.
* checking top-level files ... OK
* checking for left-over files ... OK
* checking index information ... OK
* checking package subdirectories ... OK
* checking R files for non-ASCII characters ... OK
* checking R files for syntax errors ... OK
* checking whether the package can be loaded ... OK
* checking whether the package can be loaded with stated dependencies ... OK
* checking whether the package can be unloaded cleanly ... OK
* checking whether the namespace can be loaded with stated dependencies ... OK
* checking whether the namespace can be unloaded cleanly ... OK
* checking dependencies in R code ... NOTE
'library' or 'require' call to ‘convert’ in package code.
Please use :: or requireNamespace() instead.
See section 'Suggested packages' in the 'Writing R Extensions' manual.
Package in Depends field not imported from: ‘locfit’
These packages need to be imported from (in the NAMESPACE file)
for when this namespace is loaded but not attached.
* checking S3 generic/method consistency ... OK
* checking replacement functions ... OK
* checking foreign function calls ... OK
* checking R code for possible problems ... NOTE
ino: no visible global function definition for ‘locfit’
ino: no visible global function definition for ‘predict’
lin: no visible global function definition for ‘locfit’
lin: no visible global function definition for ‘predict’
oin: no visible global function definition for ‘gcvplot’
oin: no visible global function definition for ‘locfit’
oin: no visible global function definition for ‘predict’
olin: no visible global function definition for ‘gcv’
olin: no visible global function definition for ‘locfit’
olin: no visible global function definition for ‘predict’
Undefined global functions or variables:
gcv gcvplot locfit predict
Consider adding
importFrom("stats", "predict")
to your NAMESPACE file.
* checking Rd files ... OK
* checking Rd metadata ... OK
* checking Rd cross-references ... OK
* checking for missing documentation entries ... OK
* checking for code/documentation mismatches ... OK
* checking Rd \usage sections ... OK
* checking Rd contents ... OK
* checking for unstated dependencies in examples ... OK
* checking contents of ‘data’ directory ... OK
* checking data for non-ASCII characters ... OK
* checking data for ASCII and uncompressed saves ... OK
* checking files in ‘vignettes’ ... OK
* checking examples ... OK
Examples with CPU or elapsed time > 5s
user system elapsed
olin 20.104 0 20.159
* checking for unstated dependencies in vignettes ... OK
* checking package vignettes in ‘inst/doc’ ... OK
* checking running R code from vignettes ... SKIPPED
* checking re-building of vignette outputs ... SKIPPED
* checking PDF version of manual ... OK
* DONE
Status: 3 NOTEs
See
‘/home/biocbuild/bbs-3.10-bioc/meat/OLIN.Rcheck/00check.log’
for details.
OLIN.Rcheck/00install.out
############################################################################## ############################################################################## ### ### Running command: ### ### /home/biocbuild/bbs-3.10-bioc/R/bin/R CMD INSTALL OLIN ### ############################################################################## ############################################################################## * installing to library ‘/home/biocbuild/bbs-3.10-bioc/R/library’ * installing *source* package ‘OLIN’ ... ** using staged installation ** R ** data ** inst ** byte-compile and prepare package for lazy loading ** help *** installing help indices ** building package indices ** installing vignettes ** testing if installed package can be loaded from temporary location ** testing if installed package can be loaded from final location ** testing if installed package keeps a record of temporary installation path * DONE (OLIN)
OLIN.Rcheck/OLIN-Ex.timings
| name | user | system | elapsed | |
| anovaint | 0.156 | 0.012 | 0.167 | |
| anovapin | 0.112 | 0.020 | 0.131 | |
| anovaplate | 0.116 | 0.000 | 0.114 | |
| anovaspatial | 0.344 | 0.004 | 0.349 | |
| backgroundCorrect2 | 0.520 | 0.020 | 0.543 | |
| bas | 0.068 | 0.004 | 0.070 | |
| colorbar.mxy | 0.052 | 0.000 | 0.051 | |
| fdr.int | 0 | 0 | 0 | |
| fdr.int2 | 0 | 0 | 0 | |
| fdr.spatial | 0 | 0 | 0 | |
| fdr.spatial2 | 0.000 | 0.000 | 0.001 | |
| fgbg.visu | 0.112 | 0.000 | 0.112 | |
| ino | 0.208 | 0.008 | 0.216 | |
| lin | 0.724 | 0.012 | 0.738 | |
| m2v | 0.072 | 0.000 | 0.073 | |
| ma.matrix | 0.328 | 0.000 | 0.325 | |
| ma.vector | 0.268 | 0.000 | 0.271 | |
| mxy.abs.plot | 0.112 | 0.004 | 0.114 | |
| mxy.plot | 0.104 | 0.008 | 0.111 | |
| mxy2.plot | 0.084 | 0.004 | 0.090 | |
| oin | 0.936 | 0.000 | 0.938 | |
| olin | 20.104 | 0.000 | 20.159 | |
| p.int | 0 | 0 | 0 | |
| p.int2 | 0 | 0 | 0 | |
| p.spatial | 0 | 0 | 0 | |
| p.spatial2 | 0.000 | 0.000 | 0.001 | |
| sig.mask | 0.000 | 0.000 | 0.001 | |
| sigint.plot | 0.000 | 0.000 | 0.001 | |
| sigint.plot2 | 0 | 0 | 0 | |
| sigxy.plot | 0 | 0 | 0 | |
| sigxy.plot2 | 0 | 0 | 0 | |
| v2m | 0.092 | 0.004 | 0.094 | |