| Back to Multiple platform build/check report for BioC 3.10 |
|
This page was generated on 2020-04-15 12:34:50 -0400 (Wed, 15 Apr 2020).
| Package 703/1823 | Hostname | OS / Arch | INSTALL | BUILD | CHECK | BUILD BIN | ||||||
| GGtools 5.22.0 VJ Carey
| malbec1 | Linux (Ubuntu 18.04.4 LTS) / x86_64 | OK | OK | OK | |||||||
| tokay1 | Windows Server 2012 R2 Standard / x64 | OK | OK | WARNINGS | OK | |||||||
| merida1 | OS X 10.11.6 El Capitan / x86_64 | OK | OK | OK | [ OK ] |
| Package: GGtools |
| Version: 5.22.0 |
| Command: rm -rf GGtools.buildbin-libdir && mkdir GGtools.buildbin-libdir && /Users/biocbuild/BBS/utils/build-universal.sh GGtools_5.22.0.tar.gz /Library/Frameworks/R.framework/Versions/Current/Resources/bin/R GGtools.buildbin-libdir |
| StartedAt: 2020-04-15 07:37:20 -0400 (Wed, 15 Apr 2020) |
| EndedAt: 2020-04-15 07:39:14 -0400 (Wed, 15 Apr 2020) |
| EllapsedTime: 114.9 seconds |
| RetCode: 0 |
| Status: OK |
| PackageFile: GGtools_5.22.0.tgz |
| PackageFileSize: 70.47 MiB |
############################################################################## ############################################################################## ### ### Running command: ### ### rm -rf GGtools.buildbin-libdir && mkdir GGtools.buildbin-libdir && /Users/biocbuild/BBS/utils/build-universal.sh GGtools_5.22.0.tar.gz /Library/Frameworks/R.framework/Versions/Current/Resources/bin/R GGtools.buildbin-libdir ### ############################################################################## ############################################################################## >>>>>>> >>>>>>> INSTALLATION WITH 'R CMD INSTALL --preclean --no-multiarch --library=GGtools.buildbin-libdir GGtools_5.22.0.tar.gz' >>>>>>> * installing *source* package ‘GGtools’ ... ** using staged installation ** R ** data ** inst ** byte-compile and prepare package for lazy loading ** help *** installing help indices ** building package indices ** installing vignettes ** testing if installed package can be loaded from temporary location ** testing if installed package can be loaded from final location ** testing if installed package keeps a record of temporary installation path * DONE (GGtools)