| Back to Multiple platform build/check report for BioC 3.10 |
|
This page was generated on 2020-04-15 12:20:38 -0400 (Wed, 15 Apr 2020).
| Package 499/1823 | Hostname | OS / Arch | INSTALL | BUILD | CHECK | BUILD BIN | ||||||
| EBcoexpress 1.30.0 John A. Dawson
| malbec1 | Linux (Ubuntu 18.04.4 LTS) / x86_64 | OK | OK | WARNINGS | |||||||
| tokay1 | Windows Server 2012 R2 Standard / x64 | [ OK ] | OK | WARNINGS | OK | |||||||
| merida1 | OS X 10.11.6 El Capitan / x86_64 | OK | OK | OK | OK |
| Package: EBcoexpress |
| Version: 1.30.0 |
| Command: C:\cygwin\bin\curl.exe -O https://malbec1.bioconductor.org/BBS/3.10/bioc/src/contrib/EBcoexpress_1.30.0.tar.gz && rm -rf EBcoexpress.buildbin-libdir && mkdir EBcoexpress.buildbin-libdir && C:\Users\biocbuild\bbs-3.10-bioc\R\bin\R.exe CMD INSTALL --merge-multiarch --build --library=EBcoexpress.buildbin-libdir EBcoexpress_1.30.0.tar.gz && C:\Users\biocbuild\bbs-3.10-bioc\R\bin\R.exe CMD INSTALL EBcoexpress_1.30.0.zip && rm EBcoexpress_1.30.0.tar.gz EBcoexpress_1.30.0.zip |
| StartedAt: 2020-04-14 18:50:02 -0400 (Tue, 14 Apr 2020) |
| EndedAt: 2020-04-14 18:50:37 -0400 (Tue, 14 Apr 2020) |
| EllapsedTime: 34.8 seconds |
| RetCode: 0 |
| Status: OK |
##############################################################################
##############################################################################
###
### Running command:
###
### C:\cygwin\bin\curl.exe -O https://malbec1.bioconductor.org/BBS/3.10/bioc/src/contrib/EBcoexpress_1.30.0.tar.gz && rm -rf EBcoexpress.buildbin-libdir && mkdir EBcoexpress.buildbin-libdir && C:\Users\biocbuild\bbs-3.10-bioc\R\bin\R.exe CMD INSTALL --merge-multiarch --build --library=EBcoexpress.buildbin-libdir EBcoexpress_1.30.0.tar.gz && C:\Users\biocbuild\bbs-3.10-bioc\R\bin\R.exe CMD INSTALL EBcoexpress_1.30.0.zip && rm EBcoexpress_1.30.0.tar.gz EBcoexpress_1.30.0.zip
###
##############################################################################
##############################################################################
% Total % Received % Xferd Average Speed Time Time Time Current
Dload Upload Total Spent Left Speed
0 0 0 0 0 0 0 0 --:--:-- --:--:-- --:--:-- 0
100 82228 100 82228 0 0 2330k 0 --:--:-- --:--:-- --:--:-- 2590k
install for i386
* installing *source* package 'EBcoexpress' ...
** using staged installation
** libs
C:/Rtools/mingw_32/bin/gcc -I"C:/Users/BIOCBU~1/BBS-3~1.10-/R/include" -DNDEBUG -I"C:/extsoft/include" -O3 -Wall -std=gnu99 -mtune=core2 -c EBcoexpress.c -o EBcoexpress.o
EBcoexpress.c: In function 'bwmcCworker':
EBcoexpress.c:74:15: warning: suggest parentheses around comparison in operand of '|' [-Wparentheses]
if(temp < -1 | temp > 1)
^
C:/Rtools/mingw_32/bin/gcc -shared -s -static-libgcc -o EBcoexpress.dll tmp.def EBcoexpress.o -LC:/extsoft/lib/i386 -LC:/extsoft/lib -LC:/Users/BIOCBU~1/BBS-3~1.10-/R/bin/i386 -lR
installing to C:/Users/biocbuild/bbs-3.10-bioc/meat/EBcoexpress.buildbin-libdir/00LOCK-EBcoexpress/00new/EBcoexpress/libs/i386
** R
** data
** demo
** byte-compile and prepare package for lazy loading
** help
*** installing help indices
converting help for package 'EBcoexpress'
finding HTML links ... done
ebCoexpressMeta html
ebCoexpressSeries html
fiftyGenes html
initializeHP html
makeMyD html
priorDiagnostic html
rankMyGenes html
showNetwork html
showPair html
utilities html
** building package indices
** installing vignettes
** testing if installed package can be loaded from temporary location
** testing if installed package can be loaded from final location
** testing if installed package keeps a record of temporary installation path
install for x64
* installing *source* package 'EBcoexpress' ...
** libs
C:/Rtools/mingw_64/bin/gcc -I"C:/Users/BIOCBU~1/BBS-3~1.10-/R/include" -DNDEBUG -I"C:/extsoft/include" -O2 -Wall -std=gnu99 -mtune=core2 -c EBcoexpress.c -o EBcoexpress.o
EBcoexpress.c: In function 'bwmcCworker':
EBcoexpress.c:74:15: warning: suggest parentheses around comparison in operand of '|' [-Wparentheses]
if(temp < -1 | temp > 1)
^
C:/Rtools/mingw_64/bin/gcc -shared -s -static-libgcc -o EBcoexpress.dll tmp.def EBcoexpress.o -LC:/extsoft/lib/x64 -LC:/extsoft/lib -LC:/Users/BIOCBU~1/BBS-3~1.10-/R/bin/x64 -lR
installing to C:/Users/biocbuild/bbs-3.10-bioc/meat/EBcoexpress.buildbin-libdir/EBcoexpress/libs/x64
** testing if installed package can be loaded
* MD5 sums
packaged installation of 'EBcoexpress' as EBcoexpress_1.30.0.zip
* DONE (EBcoexpress)
* installing to library 'C:/Users/biocbuild/bbs-3.10-bioc/R/library'
package 'EBcoexpress' successfully unpacked and MD5 sums checked