| Back to Multiple platform build/check report for BioC 3.10 |
|
This page was generated on 2020-04-15 12:06:55 -0400 (Wed, 15 Apr 2020).
| Package 499/1823 | Hostname | OS / Arch | INSTALL | BUILD | CHECK | BUILD BIN | ||||||
| EBcoexpress 1.30.0 John A. Dawson
| malbec1 | Linux (Ubuntu 18.04.4 LTS) / x86_64 | [ OK ] | OK | WARNINGS | |||||||
| tokay1 | Windows Server 2012 R2 Standard / x64 | OK | OK | WARNINGS | OK | |||||||
| merida1 | OS X 10.11.6 El Capitan / x86_64 | OK | OK | OK | OK |
| Package: EBcoexpress |
| Version: 1.30.0 |
| Command: /home/biocbuild/bbs-3.10-bioc/R/bin/R CMD INSTALL EBcoexpress |
| StartedAt: 2020-04-14 18:58:30 -0400 (Tue, 14 Apr 2020) |
| EndedAt: 2020-04-14 18:58:36 -0400 (Tue, 14 Apr 2020) |
| EllapsedTime: 5.3 seconds |
| RetCode: 0 |
| Status: OK |
##############################################################################
##############################################################################
###
### Running command:
###
### /home/biocbuild/bbs-3.10-bioc/R/bin/R CMD INSTALL EBcoexpress
###
##############################################################################
##############################################################################
* installing to library ‘/home/biocbuild/bbs-3.10-bioc/R/library’
* installing *source* package ‘EBcoexpress’ ...
** using staged installation
** libs
gcc -I"/home/biocbuild/bbs-3.10-bioc/R/include" -DNDEBUG -I/usr/local/include -fpic -g -O2 -Wall -c EBcoexpress.c -o EBcoexpress.o
EBcoexpress.c: In function ‘bwmcCworker’:
EBcoexpress.c:74:15: warning: suggest parentheses around comparison in operand of ‘|’ [-Wparentheses]
if(temp < -1 | temp > 1)
~~~~~^~~~
gcc -shared -L/home/biocbuild/bbs-3.10-bioc/R/lib -L/usr/local/lib -o EBcoexpress.so EBcoexpress.o -L/home/biocbuild/bbs-3.10-bioc/R/lib -lR
installing to /home/biocbuild/bbs-3.10-bioc/R/library/00LOCK-EBcoexpress/00new/EBcoexpress/libs
** R
** data
** demo
** byte-compile and prepare package for lazy loading
** help
*** installing help indices
** building package indices
** installing vignettes
** testing if installed package can be loaded from temporary location
** checking absolute paths in shared objects and dynamic libraries
** testing if installed package can be loaded from final location
** testing if installed package keeps a record of temporary installation path
* DONE (EBcoexpress)