| Back to Multiple platform build/check report for BioC 3.10 |
|
This page was generated on 2020-04-15 12:31:39 -0400 (Wed, 15 Apr 2020).
| Package 306/1823 | Hostname | OS / Arch | INSTALL | BUILD | CHECK | BUILD BIN | ||||||
| CluMSID 1.2.1 Tobias Depke
| malbec1 | Linux (Ubuntu 18.04.4 LTS) / x86_64 | OK | OK | OK | |||||||
| tokay1 | Windows Server 2012 R2 Standard / x64 | OK | OK | OK | [ OK ] | |||||||
| merida1 | OS X 10.11.6 El Capitan / x86_64 | OK | OK | OK | OK |
| Package: CluMSID |
| Version: 1.2.1 |
| Command: rm -rf CluMSID.buildbin-libdir && mkdir CluMSID.buildbin-libdir && C:\Users\biocbuild\bbs-3.10-bioc\R\bin\R.exe CMD INSTALL --merge-multiarch --build --library=CluMSID.buildbin-libdir CluMSID_1.2.1.tar.gz |
| StartedAt: 2020-04-15 08:26:06 -0400 (Wed, 15 Apr 2020) |
| EndedAt: 2020-04-15 08:26:54 -0400 (Wed, 15 Apr 2020) |
| EllapsedTime: 48.2 seconds |
| RetCode: 0 |
| Status: OK |
| PackageFile: CluMSID_1.2.1.zip |
| PackageFileSize: 3.07 MiB |
##############################################################################
##############################################################################
###
### Running command:
###
### rm -rf CluMSID.buildbin-libdir && mkdir CluMSID.buildbin-libdir && C:\Users\biocbuild\bbs-3.10-bioc\R\bin\R.exe CMD INSTALL --merge-multiarch --build --library=CluMSID.buildbin-libdir CluMSID_1.2.1.tar.gz
###
##############################################################################
##############################################################################
install for i386
* installing *source* package 'CluMSID' ...
** using staged installation
** R
** inst
** byte-compile and prepare package for lazy loading
** help
*** installing help indices
converting help for package 'CluMSID'
finding HTML links ... done
Featurelist html
HCplot html
HCtbl html
MDSplot html
MS2spectrum-class html
OPTICSplot html
OPTICStbl html
accessors html
addAnnotations html
as.MS2spectrum html
cossim html
distanceMatrix html
extractMS2spectra html
extractPseudospectra html
findFragment html
findNL html
getSimilarities html
getSpectrum html
mergeMS2spectra html
mergeSpecList html
mergeTolerance html
networkplot html
neutrallossPatterns html
pseudospectrum-class html
specplot html
splitPolarities html
writeFeaturelist html
** building package indices
** installing vignettes
** testing if installed package can be loaded from temporary location
** testing if installed package can be loaded from final location
** testing if installed package keeps a record of temporary installation path
install for x64
* installing *source* package 'CluMSID' ...
** testing if installed package can be loaded
* MD5 sums
packaged installation of 'CluMSID' as CluMSID_1.2.1.zip
* DONE (CluMSID)