| Back to Multiple platform build/check report for BioC 3.10 |
|
This page was generated on 2020-04-15 12:48:33 -0400 (Wed, 15 Apr 2020).
| Package 306/1823 | Hostname | OS / Arch | INSTALL | BUILD | CHECK | BUILD BIN | ||||||
| CluMSID 1.2.1 Tobias Depke
| malbec1 | Linux (Ubuntu 18.04.4 LTS) / x86_64 | OK | OK | OK | |||||||
| tokay1 | Windows Server 2012 R2 Standard / x64 | OK | OK | OK | OK | |||||||
| merida1 | OS X 10.11.6 El Capitan / x86_64 | OK | OK | [ OK ] | OK |
| Package: CluMSID |
| Version: 1.2.1 |
| Command: /Library/Frameworks/R.framework/Versions/Current/Resources/bin/R CMD check --install=check:CluMSID.install-out.txt --library=/Library/Frameworks/R.framework/Versions/Current/Resources/library --no-vignettes --timings CluMSID_1.2.1.tar.gz |
| StartedAt: 2020-04-15 01:16:00 -0400 (Wed, 15 Apr 2020) |
| EndedAt: 2020-04-15 01:19:29 -0400 (Wed, 15 Apr 2020) |
| EllapsedTime: 208.9 seconds |
| RetCode: 0 |
| Status: OK |
| CheckDir: CluMSID.Rcheck |
| Warnings: 0 |
##############################################################################
##############################################################################
###
### Running command:
###
### /Library/Frameworks/R.framework/Versions/Current/Resources/bin/R CMD check --install=check:CluMSID.install-out.txt --library=/Library/Frameworks/R.framework/Versions/Current/Resources/library --no-vignettes --timings CluMSID_1.2.1.tar.gz
###
##############################################################################
##############################################################################
* using log directory ‘/Users/biocbuild/bbs-3.10-bioc/meat/CluMSID.Rcheck’
* using R version 3.6.3 (2020-02-29)
* using platform: x86_64-apple-darwin15.6.0 (64-bit)
* using session charset: UTF-8
* using option ‘--no-vignettes’
* checking for file ‘CluMSID/DESCRIPTION’ ... OK
* checking extension type ... Package
* this is package ‘CluMSID’ version ‘1.2.1’
* package encoding: UTF-8
* checking package namespace information ... OK
* checking package dependencies ... OK
* checking if this is a source package ... OK
* checking if there is a namespace ... OK
* checking for hidden files and directories ... OK
* checking for portable file names ... OK
* checking for sufficient/correct file permissions ... OK
* checking whether package ‘CluMSID’ can be installed ... OK
* checking installed package size ... OK
* checking package directory ... OK
* checking ‘build’ directory ... OK
* checking DESCRIPTION meta-information ... OK
* checking top-level files ... OK
* checking for left-over files ... OK
* checking index information ... OK
* checking package subdirectories ... OK
* checking R files for non-ASCII characters ... OK
* checking R files for syntax errors ... OK
* checking whether the package can be loaded ... OK
* checking whether the package can be loaded with stated dependencies ... OK
* checking whether the package can be unloaded cleanly ... OK
* checking whether the namespace can be loaded with stated dependencies ... OK
* checking whether the namespace can be unloaded cleanly ... OK
* checking dependencies in R code ... OK
* checking S3 generic/method consistency ... OK
* checking replacement functions ... OK
* checking foreign function calls ... OK
* checking R code for possible problems ... OK
* checking Rd files ... OK
* checking Rd metadata ... OK
* checking Rd cross-references ... OK
* checking for missing documentation entries ... OK
* checking for code/documentation mismatches ... OK
* checking Rd \usage sections ... OK
* checking Rd contents ... OK
* checking for unstated dependencies in examples ... OK
* checking files in ‘vignettes’ ... OK
* checking examples ... OK
Examples with CPU or elapsed time > 5s
user system elapsed
mergeMS2spectra 7.906 0.071 8.033
getSimilarities 5.018 0.061 5.126
* checking for unstated dependencies in ‘tests’ ... OK
* checking tests ...
Running ‘testthat.R’
OK
* checking for unstated dependencies in vignettes ... OK
* checking package vignettes in ‘inst/doc’ ... OK
* checking running R code from vignettes ... SKIPPED
* checking re-building of vignette outputs ... SKIPPED
* checking PDF version of manual ... OK
* DONE
Status: OK
CluMSID.Rcheck/00install.out
############################################################################## ############################################################################## ### ### Running command: ### ### /Library/Frameworks/R.framework/Versions/Current/Resources/bin/R CMD INSTALL CluMSID ### ############################################################################## ############################################################################## * installing to library ‘/Library/Frameworks/R.framework/Versions/3.6/Resources/library’ * installing *source* package ‘CluMSID’ ... ** using staged installation ** R ** byte-compile and prepare package for lazy loading ** help *** installing help indices ** building package indices ** installing vignettes ** testing if installed package can be loaded from temporary location ** testing if installed package can be loaded from final location ** testing if installed package keeps a record of temporary installation path * DONE (CluMSID)
CluMSID.Rcheck/tests/testthat.Rout
R version 3.6.3 (2020-02-29) -- "Holding the Windsock"
Copyright (C) 2020 The R Foundation for Statistical Computing
Platform: x86_64-apple-darwin15.6.0 (64-bit)
R is free software and comes with ABSOLUTELY NO WARRANTY.
You are welcome to redistribute it under certain conditions.
Type 'license()' or 'licence()' for distribution details.
R is a collaborative project with many contributors.
Type 'contributors()' for more information and
'citation()' on how to cite R or R packages in publications.
Type 'demo()' for some demos, 'help()' for on-line help, or
'help.start()' for an HTML browser interface to help.
Type 'q()' to quit R.
> library(testthat)
> library(CluMSID)
>
> test_check("CluMSID")
══ testthat results ═══════════════════════════════════════════════════════════
[ OK: 16 | SKIPPED: 0 | WARNINGS: 0 | FAILED: 0 ]
>
> proc.time()
user system elapsed
20.116 0.541 20.827
CluMSID.Rcheck/CluMSID-Ex.timings
| name | user | system | elapsed | |
| Featurelist | 0.023 | 0.001 | 0.025 | |
| HCplot | 0.339 | 0.007 | 0.348 | |
| HCtbl | 0.012 | 0.002 | 0.013 | |
| MDSplot | 0.563 | 0.018 | 0.588 | |
| OPTICSplot | 0.133 | 0.002 | 0.137 | |
| OPTICStbl | 0.017 | 0.000 | 0.016 | |
| accessors | 0.085 | 0.004 | 0.088 | |
| addAnnotations | 0.146 | 0.086 | 0.234 | |
| as.MS2spectrum | 0.197 | 0.008 | 0.210 | |
| cossim | 0.023 | 0.001 | 0.023 | |
| distanceMatrix | 1.474 | 0.079 | 1.568 | |
| extractMS2spectra | 1.875 | 0.066 | 1.965 | |
| extractPseudospectra | 0.638 | 0.059 | 0.716 | |
| findFragment | 0.031 | 0.000 | 0.032 | |
| findNL | 0.038 | 0.001 | 0.040 | |
| getSimilarities | 5.018 | 0.061 | 5.126 | |
| getSpectrum | 0.061 | 0.001 | 0.065 | |
| mergeMS2spectra | 7.906 | 0.071 | 8.033 | |
| networkplot | 0.231 | 0.004 | 0.237 | |
| specplot | 0.010 | 0.000 | 0.011 | |
| splitPolarities | 1.678 | 0.032 | 1.723 | |
| writeFeaturelist | 0.020 | 0.001 | 0.021 | |