| Back to Multiple platform build/check report for BioC 3.10 |
|
This page was generated on 2020-04-15 12:30:30 -0400 (Wed, 15 Apr 2020).
| Package 213/1823 | Hostname | OS / Arch | INSTALL | BUILD | CHECK | BUILD BIN | ||||||
| CAGEfightR 1.6.0 Malte Thodberg
| malbec1 | Linux (Ubuntu 18.04.4 LTS) / x86_64 | OK | OK | OK | |||||||
| tokay1 | Windows Server 2012 R2 Standard / x64 | [ OK ] | OK | OK | OK | |||||||
| merida1 | OS X 10.11.6 El Capitan / x86_64 | OK | OK | OK | OK |
| Package: CAGEfightR |
| Version: 1.6.0 |
| Command: C:\cygwin\bin\curl.exe -O https://malbec1.bioconductor.org/BBS/3.10/bioc/src/contrib/CAGEfightR_1.6.0.tar.gz && rm -rf CAGEfightR.buildbin-libdir && mkdir CAGEfightR.buildbin-libdir && C:\Users\biocbuild\bbs-3.10-bioc\R\bin\R.exe CMD INSTALL --merge-multiarch --build --library=CAGEfightR.buildbin-libdir CAGEfightR_1.6.0.tar.gz && C:\Users\biocbuild\bbs-3.10-bioc\R\bin\R.exe CMD INSTALL CAGEfightR_1.6.0.zip && rm CAGEfightR_1.6.0.tar.gz CAGEfightR_1.6.0.zip |
| StartedAt: 2020-04-14 20:16:27 -0400 (Tue, 14 Apr 2020) |
| EndedAt: 2020-04-14 20:17:56 -0400 (Tue, 14 Apr 2020) |
| EllapsedTime: 89.0 seconds |
| RetCode: 0 |
| Status: OK |
##############################################################################
##############################################################################
###
### Running command:
###
### C:\cygwin\bin\curl.exe -O https://malbec1.bioconductor.org/BBS/3.10/bioc/src/contrib/CAGEfightR_1.6.0.tar.gz && rm -rf CAGEfightR.buildbin-libdir && mkdir CAGEfightR.buildbin-libdir && C:\Users\biocbuild\bbs-3.10-bioc\R\bin\R.exe CMD INSTALL --merge-multiarch --build --library=CAGEfightR.buildbin-libdir CAGEfightR_1.6.0.tar.gz && C:\Users\biocbuild\bbs-3.10-bioc\R\bin\R.exe CMD INSTALL CAGEfightR_1.6.0.zip && rm CAGEfightR_1.6.0.tar.gz CAGEfightR_1.6.0.zip
###
##############################################################################
##############################################################################
% Total % Received % Xferd Average Speed Time Time Time Current
Dload Upload Total Spent Left Speed
0 0 0 0 0 0 0 0 --:--:-- --:--:-- --:--:-- 0
22 2293k 22 512k 0 0 3479k 0 --:--:-- --:--:-- --:--:-- 3555k
100 2293k 100 2293k 0 0 4767k 0 --:--:-- --:--:-- --:--:-- 4798k
install for i386
* installing *source* package 'CAGEfightR' ...
** using staged installation
** R
** data
*** moving datasets to lazyload DB
** inst
** byte-compile and prepare package for lazy loading
** help
*** installing help indices
converting help for package 'CAGEfightR'
finding HTML links ... done
assignGeneID html
assignMissingID html
assignTxID html
assignTxType html
balanceBC html
balanceD html
bwCommonGenome html
bwGenomeCompatibility html
bwValid html
calcBidirectionality html
calcComposition html
calcPooled html
calcShape html
calcSupport html
calcTPM html
calcTotalTags html
checkPeaked html
checkPooled html
clusterBidirectionally html
clusterUnidirectionally html
combineClusters html
exampleDesign html
findLinks html
findStretches html
quantifyCTSSs html
quantifyClusters html
quantifyGenes html
quickEnhancers html
quickTSSs html
shapeEntropy html
shapeIQR html
shapeMultimodality html
subsetByBidirectionality html
subsetByComposition html
subsetBySupport html
swapRanges html
swapScores html
trackBalance html
trackCTSS html
trackClusters html
trackLinks html
trimToPeak html
trimToPercentiles html
tuneTagClustering html
** building package indices
** installing vignettes
** testing if installed package can be loaded from temporary location
** testing if installed package can be loaded from final location
** testing if installed package keeps a record of temporary installation path
install for x64
* installing *source* package 'CAGEfightR' ...
** testing if installed package can be loaded
* MD5 sums
packaged installation of 'CAGEfightR' as CAGEfightR_1.6.0.zip
* DONE (CAGEfightR)
* installing to library 'C:/Users/biocbuild/bbs-3.10-bioc/R/library'
package 'CAGEfightR' successfully unpacked and MD5 sums checked