| Back to Multiple platform build/check report for BioC 3.10 |
|
This page was generated on 2020-04-15 12:30:31 -0400 (Wed, 15 Apr 2020).
| Package 213/1823 | Hostname | OS / Arch | INSTALL | BUILD | CHECK | BUILD BIN | ||||||
| CAGEfightR 1.6.0 Malte Thodberg
| malbec1 | Linux (Ubuntu 18.04.4 LTS) / x86_64 | OK | OK | OK | |||||||
| tokay1 | Windows Server 2012 R2 Standard / x64 | OK | OK | OK | [ OK ] | |||||||
| merida1 | OS X 10.11.6 El Capitan / x86_64 | OK | OK | OK | OK |
| Package: CAGEfightR |
| Version: 1.6.0 |
| Command: rm -rf CAGEfightR.buildbin-libdir && mkdir CAGEfightR.buildbin-libdir && C:\Users\biocbuild\bbs-3.10-bioc\R\bin\R.exe CMD INSTALL --merge-multiarch --build --library=CAGEfightR.buildbin-libdir CAGEfightR_1.6.0.tar.gz |
| StartedAt: 2020-04-15 08:19:58 -0400 (Wed, 15 Apr 2020) |
| EndedAt: 2020-04-15 08:21:05 -0400 (Wed, 15 Apr 2020) |
| EllapsedTime: 66.5 seconds |
| RetCode: 0 |
| Status: OK |
| PackageFile: CAGEfightR_1.6.0.zip |
| PackageFileSize: 2.963 MiB |
##############################################################################
##############################################################################
###
### Running command:
###
### rm -rf CAGEfightR.buildbin-libdir && mkdir CAGEfightR.buildbin-libdir && C:\Users\biocbuild\bbs-3.10-bioc\R\bin\R.exe CMD INSTALL --merge-multiarch --build --library=CAGEfightR.buildbin-libdir CAGEfightR_1.6.0.tar.gz
###
##############################################################################
##############################################################################
install for i386
* installing *source* package 'CAGEfightR' ...
** using staged installation
** R
** data
*** moving datasets to lazyload DB
** inst
** byte-compile and prepare package for lazy loading
** help
*** installing help indices
converting help for package 'CAGEfightR'
finding HTML links ... done
assignGeneID html
assignMissingID html
assignTxID html
assignTxType html
balanceBC html
balanceD html
bwCommonGenome html
bwGenomeCompatibility html
bwValid html
calcBidirectionality html
calcComposition html
calcPooled html
calcShape html
calcSupport html
calcTPM html
calcTotalTags html
checkPeaked html
checkPooled html
clusterBidirectionally html
clusterUnidirectionally html
combineClusters html
exampleDesign html
findLinks html
findStretches html
quantifyCTSSs html
quantifyClusters html
quantifyGenes html
quickEnhancers html
quickTSSs html
shapeEntropy html
shapeIQR html
shapeMultimodality html
subsetByBidirectionality html
subsetByComposition html
subsetBySupport html
swapRanges html
swapScores html
trackBalance html
trackCTSS html
trackClusters html
trackLinks html
trimToPeak html
trimToPercentiles html
tuneTagClustering html
** building package indices
** installing vignettes
** testing if installed package can be loaded from temporary location
** testing if installed package can be loaded from final location
** testing if installed package keeps a record of temporary installation path
install for x64
* installing *source* package 'CAGEfightR' ...
** testing if installed package can be loaded
* MD5 sums
packaged installation of 'CAGEfightR' as CAGEfightR_1.6.0.zip
* DONE (CAGEfightR)