| Back to Multiple platform build/check report for BioC 3.10 |
|
This page was generated on 2020-04-15 12:30:15 -0400 (Wed, 15 Apr 2020).
| Package 1504/1823 | Hostname | OS / Arch | INSTALL | BUILD | CHECK | BUILD BIN | ||||||
| rWikiPathways 1.6.1 Egon Willighagen
| malbec1 | Linux (Ubuntu 18.04.4 LTS) / x86_64 | OK | OK | OK | |||||||
| tokay1 | Windows Server 2012 R2 Standard / x64 | OK | OK | [ OK ] | OK | |||||||
| merida1 | OS X 10.11.6 El Capitan / x86_64 | OK | OK | OK | OK |
| Package: rWikiPathways |
| Version: 1.6.1 |
| Command: C:\Users\biocbuild\bbs-3.10-bioc\R\bin\R.exe CMD check --force-multiarch --install=check:rWikiPathways.install-out.txt --library=C:\Users\biocbuild\bbs-3.10-bioc\R\library --no-vignettes --timings rWikiPathways_1.6.1.tar.gz |
| StartedAt: 2020-04-15 06:21:37 -0400 (Wed, 15 Apr 2020) |
| EndedAt: 2020-04-15 06:24:30 -0400 (Wed, 15 Apr 2020) |
| EllapsedTime: 173.0 seconds |
| RetCode: 0 |
| Status: OK |
| CheckDir: rWikiPathways.Rcheck |
| Warnings: 0 |
##############################################################################
##############################################################################
###
### Running command:
###
### C:\Users\biocbuild\bbs-3.10-bioc\R\bin\R.exe CMD check --force-multiarch --install=check:rWikiPathways.install-out.txt --library=C:\Users\biocbuild\bbs-3.10-bioc\R\library --no-vignettes --timings rWikiPathways_1.6.1.tar.gz
###
##############################################################################
##############################################################################
* using log directory 'C:/Users/biocbuild/bbs-3.10-bioc/meat/rWikiPathways.Rcheck'
* using R version 3.6.3 (2020-02-29)
* using platform: x86_64-w64-mingw32 (64-bit)
* using session charset: ISO8859-1
* using option '--no-vignettes'
* checking for file 'rWikiPathways/DESCRIPTION' ... OK
* checking extension type ... Package
* this is package 'rWikiPathways' version '1.6.1'
* checking package namespace information ... OK
* checking package dependencies ... OK
* checking if this is a source package ... OK
* checking if there is a namespace ... OK
* checking for hidden files and directories ... NOTE
Found the following hidden files and directories:
.travis.yml
These were most likely included in error. See section 'Package
structure' in the 'Writing R Extensions' manual.
* checking for portable file names ... OK
* checking whether package 'rWikiPathways' can be installed ... OK
* checking installed package size ... OK
* checking package directory ... OK
* checking 'build' directory ... OK
* checking DESCRIPTION meta-information ... OK
* checking top-level files ... OK
* checking for left-over files ... OK
* checking index information ... OK
* checking package subdirectories ... OK
* checking R files for non-ASCII characters ... OK
* checking R files for syntax errors ... OK
* loading checks for arch 'i386'
** checking whether the package can be loaded ... OK
** checking whether the package can be loaded with stated dependencies ... OK
** checking whether the package can be unloaded cleanly ... OK
** checking whether the namespace can be loaded with stated dependencies ... OK
** checking whether the namespace can be unloaded cleanly ... OK
* loading checks for arch 'x64'
** checking whether the package can be loaded ... OK
** checking whether the package can be loaded with stated dependencies ... OK
** checking whether the package can be unloaded cleanly ... OK
** checking whether the namespace can be loaded with stated dependencies ... OK
** checking whether the namespace can be unloaded cleanly ... OK
* checking dependencies in R code ... OK
* checking S3 generic/method consistency ... OK
* checking replacement functions ... OK
* checking foreign function calls ... OK
* checking R code for possible problems ... OK
* checking Rd files ... OK
* checking Rd metadata ... OK
* checking Rd cross-references ... OK
* checking for missing documentation entries ... OK
* checking for code/documentation mismatches ... OK
* checking Rd \usage sections ... OK
* checking Rd contents ... OK
* checking for unstated dependencies in examples ... OK
* checking files in 'vignettes' ... OK
* checking examples ...
** running examples for arch 'i386' ... OK
Examples with CPU or elapsed time > 5s
user system elapsed
findPathwayIdsByLiterature 0.08 0.05 5.05
findPathwayUrlsByLiterature 0.02 0.01 5.03
** running examples for arch 'x64' ... OK
Examples with CPU or elapsed time > 5s
user system elapsed
findPathwayIdsByLiterature 0.08 0.02 5.4
* checking for unstated dependencies in 'tests' ... OK
* checking tests ...
** running tests for arch 'i386' ...
Running 'testthat.R'
OK
** running tests for arch 'x64' ...
Running 'testthat.R'
OK
* checking for unstated dependencies in vignettes ... OK
* checking package vignettes in 'inst/doc' ... OK
* checking running R code from vignettes ... SKIPPED
* checking re-building of vignette outputs ... SKIPPED
* checking PDF version of manual ... OK
* DONE
Status: 1 NOTE
See
'C:/Users/biocbuild/bbs-3.10-bioc/meat/rWikiPathways.Rcheck/00check.log'
for details.
rWikiPathways.Rcheck/00install.out
##############################################################################
##############################################################################
###
### Running command:
###
### C:\cygwin\bin\curl.exe -O https://malbec1.bioconductor.org/BBS/3.10/bioc/src/contrib/rWikiPathways_1.6.1.tar.gz && rm -rf rWikiPathways.buildbin-libdir && mkdir rWikiPathways.buildbin-libdir && C:\Users\biocbuild\bbs-3.10-bioc\R\bin\R.exe CMD INSTALL --merge-multiarch --build --library=rWikiPathways.buildbin-libdir rWikiPathways_1.6.1.tar.gz && C:\Users\biocbuild\bbs-3.10-bioc\R\bin\R.exe CMD INSTALL rWikiPathways_1.6.1.zip && rm rWikiPathways_1.6.1.tar.gz rWikiPathways_1.6.1.zip
###
##############################################################################
##############################################################################
% Total % Received % Xferd Average Speed Time Time Time Current
Dload Upload Total Spent Left Speed
0 0 0 0 0 0 0 0 --:--:-- --:--:-- --:--:-- 0
100 1592k 100 1592k 0 0 27.2M 0 --:--:-- --:--:-- --:--:-- 29.3M
install for i386
* installing *source* package 'rWikiPathways' ...
** using staged installation
** R
** inst
** byte-compile and prepare package for lazy loading
** help
*** installing help indices
converting help for package 'rWikiPathways'
finding HTML links ... done
downloadPathwayArchive html
findPathwayIdsByLiterature html
findPathwayIdsByText html
findPathwayIdsByXref html
findPathwayNamesByLiterature html
findPathwayNamesByText html
findPathwayNamesByXref html
findPathwayUrlsByLiterature html
findPathwayUrlsByText html
findPathwayUrlsByXref html
findPathwaysByLiterature html
findPathwaysByText html
findPathwaysByXref html
getColoredPathway html
getCurationTagNames html
getCurationTags html
getEveryCurationTag html
getOntologyTermIds html
getOntologyTermNames html
getOntologyTerms html
getPathway html
getPathwayHistory html
getPathwayIdsByCurationTag html
getPathwayIdsByOntologyTerm html
getPathwayIdsByParentOntologyTerm html
getPathwayInfo html
getPathwaysByCurationTag html
getPathwaysByOntologyTerm html
getPathwaysByParentOntologyTerm html
getRecentChanges html
getRecentChangesIds html
getRecentChangesNames html
getXrefList html
listOrganisms html
listPathwayIds html
listPathwayNames html
listPathwayUrls html
listPathways html
wikipathwaysAPI html
wikipathwaysGET html
** building package indices
** installing vignettes
** testing if installed package can be loaded from temporary location
** testing if installed package can be loaded from final location
** testing if installed package keeps a record of temporary installation path
install for x64
* installing *source* package 'rWikiPathways' ...
** testing if installed package can be loaded
* MD5 sums
packaged installation of 'rWikiPathways' as rWikiPathways_1.6.1.zip
* DONE (rWikiPathways)
* installing to library 'C:/Users/biocbuild/bbs-3.10-bioc/R/library'
package 'rWikiPathways' successfully unpacked and MD5 sums checked
|
rWikiPathways.Rcheck/tests_i386/testthat.Rout
R version 3.6.3 (2020-02-29) -- "Holding the Windsock"
Copyright (C) 2020 The R Foundation for Statistical Computing
Platform: i386-w64-mingw32/i386 (32-bit)
R is free software and comes with ABSOLUTELY NO WARRANTY.
You are welcome to redistribute it under certain conditions.
Type 'license()' or 'licence()' for distribution details.
R is a collaborative project with many contributors.
Type 'contributors()' for more information and
'citation()' on how to cite R or R packages in publications.
Type 'demo()' for some demos, 'help()' for on-line help, or
'help.start()' for an HTML browser interface to help.
Type 'q()' to quit R.
> library(testthat)
> library(rWikiPathways)
>
> test_check("rWikiPathways")
== testthat results ===========================================================
[ OK: 27 | SKIPPED: 0 | WARNINGS: 0 | FAILED: 0 ]
>
> proc.time()
user system elapsed
1.89 0.14 22.70
|
rWikiPathways.Rcheck/tests_x64/testthat.Rout
R version 3.6.3 (2020-02-29) -- "Holding the Windsock"
Copyright (C) 2020 The R Foundation for Statistical Computing
Platform: x86_64-w64-mingw32/x64 (64-bit)
R is free software and comes with ABSOLUTELY NO WARRANTY.
You are welcome to redistribute it under certain conditions.
Type 'license()' or 'licence()' for distribution details.
R is a collaborative project with many contributors.
Type 'contributors()' for more information and
'citation()' on how to cite R or R packages in publications.
Type 'demo()' for some demos, 'help()' for on-line help, or
'help.start()' for an HTML browser interface to help.
Type 'q()' to quit R.
> library(testthat)
> library(rWikiPathways)
>
> test_check("rWikiPathways")
== testthat results ===========================================================
[ OK: 27 | SKIPPED: 0 | WARNINGS: 0 | FAILED: 0 ]
>
> proc.time()
user system elapsed
1.73 0.10 24.76
|
|
rWikiPathways.Rcheck/examples_i386/rWikiPathways-Ex.timings
|
rWikiPathways.Rcheck/examples_x64/rWikiPathways-Ex.timings
|