| Back to Multiple platform build/check report for BioC 3.10 |
|
This page was generated on 2020-04-15 12:16:51 -0400 (Wed, 15 Apr 2020).
| Package 1265/1823 | Hostname | OS / Arch | INSTALL | BUILD | CHECK | BUILD BIN | ||||||
| pickgene 1.58.0 Brian S. Yandell
| malbec1 | Linux (Ubuntu 18.04.4 LTS) / x86_64 | OK | OK | WARNINGS | |||||||
| tokay1 | Windows Server 2012 R2 Standard / x64 | [ OK ] | OK | WARNINGS | OK | |||||||
| merida1 | OS X 10.11.6 El Capitan / x86_64 | OK | OK | WARNINGS | OK |
| Package: pickgene |
| Version: 1.58.0 |
| Command: C:\cygwin\bin\curl.exe -O https://malbec1.bioconductor.org/BBS/3.10/bioc/src/contrib/pickgene_1.58.0.tar.gz && rm -rf pickgene.buildbin-libdir && mkdir pickgene.buildbin-libdir && C:\Users\biocbuild\bbs-3.10-bioc\R\bin\R.exe CMD INSTALL --merge-multiarch --build --library=pickgene.buildbin-libdir pickgene_1.58.0.tar.gz && C:\Users\biocbuild\bbs-3.10-bioc\R\bin\R.exe CMD INSTALL pickgene_1.58.0.zip && rm pickgene_1.58.0.tar.gz pickgene_1.58.0.zip |
| StartedAt: 2020-04-14 18:40:35 -0400 (Tue, 14 Apr 2020) |
| EndedAt: 2020-04-14 18:41:01 -0400 (Tue, 14 Apr 2020) |
| EllapsedTime: 25.3 seconds |
| RetCode: 0 |
| Status: OK |
##############################################################################
##############################################################################
###
### Running command:
###
### C:\cygwin\bin\curl.exe -O https://malbec1.bioconductor.org/BBS/3.10/bioc/src/contrib/pickgene_1.58.0.tar.gz && rm -rf pickgene.buildbin-libdir && mkdir pickgene.buildbin-libdir && C:\Users\biocbuild\bbs-3.10-bioc\R\bin\R.exe CMD INSTALL --merge-multiarch --build --library=pickgene.buildbin-libdir pickgene_1.58.0.tar.gz && C:\Users\biocbuild\bbs-3.10-bioc\R\bin\R.exe CMD INSTALL pickgene_1.58.0.zip && rm pickgene_1.58.0.tar.gz pickgene_1.58.0.zip
###
##############################################################################
##############################################################################
% Total % Received % Xferd Average Speed Time Time Time Current
Dload Upload Total Spent Left Speed
0 0 0 0 0 0 0 0 --:--:-- --:--:-- --:--:-- 0
100 33153 100 33153 0 0 650k 0 --:--:-- --:--:-- --:--:-- 703k
install for i386
* installing *source* package 'pickgene' ...
** using staged installation
** R
** byte-compile and prepare package for lazy loading
Note: possible error in 'oddsplot(exp(data[[x]]), ': unused argument (chip = "")
** help
*** installing help indices
converting help for package 'pickgene'
finding HTML links ... done
Simulation.pickgene html
em.ggb html
model.pickgene html
oddsplot html
pickgene-internal html
pickgene html
robustscale html
** building package indices
** installing vignettes
** testing if installed package can be loaded from temporary location
** testing if installed package can be loaded from final location
** testing if installed package keeps a record of temporary installation path
install for x64
* installing *source* package 'pickgene' ...
** testing if installed package can be loaded
* MD5 sums
packaged installation of 'pickgene' as pickgene_1.58.0.zip
* DONE (pickgene)
* installing to library 'C:/Users/biocbuild/bbs-3.10-bioc/R/library'
package 'pickgene' successfully unpacked and MD5 sums checked