| Back to Multiple platform build/check report for BioC 3.10 |
|
This page was generated on 2020-04-15 12:16:51 -0400 (Wed, 15 Apr 2020).
| Package 1265/1823 | Hostname | OS / Arch | INSTALL | BUILD | CHECK | BUILD BIN | ||||||
| pickgene 1.58.0 Brian S. Yandell
| malbec1 | Linux (Ubuntu 18.04.4 LTS) / x86_64 | OK | OK | WARNINGS | |||||||
| tokay1 | Windows Server 2012 R2 Standard / x64 | OK | OK | WARNINGS | [ OK ] | |||||||
| merida1 | OS X 10.11.6 El Capitan / x86_64 | OK | OK | WARNINGS | OK |
| Package: pickgene |
| Version: 1.58.0 |
| Command: rm -rf pickgene.buildbin-libdir && mkdir pickgene.buildbin-libdir && C:\Users\biocbuild\bbs-3.10-bioc\R\bin\R.exe CMD INSTALL --merge-multiarch --build --library=pickgene.buildbin-libdir pickgene_1.58.0.tar.gz |
| StartedAt: 2020-04-15 09:23:04 -0400 (Wed, 15 Apr 2020) |
| EndedAt: 2020-04-15 09:23:36 -0400 (Wed, 15 Apr 2020) |
| EllapsedTime: 31.2 seconds |
| RetCode: 0 |
| Status: OK |
| PackageFile: pickgene_1.58.0.zip |
| PackageFileSize: 336.1 KiB |
##############################################################################
##############################################################################
###
### Running command:
###
### rm -rf pickgene.buildbin-libdir && mkdir pickgene.buildbin-libdir && C:\Users\biocbuild\bbs-3.10-bioc\R\bin\R.exe CMD INSTALL --merge-multiarch --build --library=pickgene.buildbin-libdir pickgene_1.58.0.tar.gz
###
##############################################################################
##############################################################################
install for i386
* installing *source* package 'pickgene' ...
** using staged installation
** R
** inst
** byte-compile and prepare package for lazy loading
Note: possible error in 'oddsplot(exp(data[[x]]), ': unused argument (chip = "")
** help
*** installing help indices
converting help for package 'pickgene'
finding HTML links ... done
Simulation.pickgene html
em.ggb html
model.pickgene html
oddsplot html
pickgene-internal html
pickgene html
robustscale html
** building package indices
** installing vignettes
** testing if installed package can be loaded from temporary location
** testing if installed package can be loaded from final location
** testing if installed package keeps a record of temporary installation path
install for x64
* installing *source* package 'pickgene' ...
** testing if installed package can be loaded
* MD5 sums
packaged installation of 'pickgene' as pickgene_1.58.0.zip
* DONE (pickgene)