| Back to Multiple platform build/check report for BioC 3.10 |
|
This page was generated on 2020-04-15 12:22:55 -0400 (Wed, 15 Apr 2020).
| Package 1161/1823 | Hostname | OS / Arch | INSTALL | BUILD | CHECK | BUILD BIN | ||||||
| npGSEA 1.22.0 Jessica Larson
| malbec1 | Linux (Ubuntu 18.04.4 LTS) / x86_64 | OK | OK | OK | |||||||
| tokay1 | Windows Server 2012 R2 Standard / x64 | OK | OK | OK | [ OK ] | |||||||
| merida1 | OS X 10.11.6 El Capitan / x86_64 | OK | OK | OK | OK |
| Package: npGSEA |
| Version: 1.22.0 |
| Command: rm -rf npGSEA.buildbin-libdir && mkdir npGSEA.buildbin-libdir && C:\Users\biocbuild\bbs-3.10-bioc\R\bin\R.exe CMD INSTALL --merge-multiarch --build --library=npGSEA.buildbin-libdir npGSEA_1.22.0.tar.gz |
| StartedAt: 2020-04-15 09:17:03 -0400 (Wed, 15 Apr 2020) |
| EndedAt: 2020-04-15 09:17:24 -0400 (Wed, 15 Apr 2020) |
| EllapsedTime: 21.3 seconds |
| RetCode: 0 |
| Status: OK |
| PackageFile: npGSEA_1.22.0.zip |
| PackageFileSize: 536.7 KiB |
##############################################################################
##############################################################################
###
### Running command:
###
### rm -rf npGSEA.buildbin-libdir && mkdir npGSEA.buildbin-libdir && C:\Users\biocbuild\bbs-3.10-bioc\R\bin\R.exe CMD INSTALL --merge-multiarch --build --library=npGSEA.buildbin-libdir npGSEA_1.22.0.tar.gz
###
##############################################################################
##############################################################################
install for i386
* installing *source* package 'npGSEA' ...
** using staged installation
** R
** inst
** byte-compile and prepare package for lazy loading
No methods found in package 'BiocGenerics' for request: 'unlist' when loading 'npGSEA'
** help
*** installing help indices
converting help for package 'npGSEA'
finding HTML links ... done
DF-methods html
alphaValue-methods html
betaHats-methods html
betaStat-methods html
betaValue-methods html
chiSqStat-methods html
geneSetName-methods html
getIncidence html
npGSEA html
npGSEAPlot-methods html
npGSEAResultBeta-class html
npGSEAResultBetaCollection-class html
npGSEAResultChiSq-class html
npGSEAResultChiSqCollection-class html
npGSEAResultNorm-class html
npGSEAResultNormCollection-class html
pLeft-methods html
pRight-methods html
pTwoSided-methods html
pValues-methods html
show-methods html
sigmaSq-methods html
stat-methods html
xSet-methods html
zStat-methods html
** building package indices
** installing vignettes
** testing if installed package can be loaded from temporary location
No methods found in package 'BiocGenerics' for request: 'unlist' when loading 'npGSEA'
** testing if installed package can be loaded from final location
No methods found in package 'BiocGenerics' for request: 'unlist' when loading 'npGSEA'
** testing if installed package keeps a record of temporary installation path
install for x64
* installing *source* package 'npGSEA' ...
** testing if installed package can be loaded
No methods found in package 'BiocGenerics' for request: 'unlist' when loading 'npGSEA'
* MD5 sums
packaged installation of 'npGSEA' as npGSEA_1.22.0.zip
* DONE (npGSEA)