| Back to Multiple platform build/check report for BioC 3.10 |
|
This page was generated on 2020-04-15 12:39:59 -0400 (Wed, 15 Apr 2020).
| Package 1161/1823 | Hostname | OS / Arch | INSTALL | BUILD | CHECK | BUILD BIN | ||||||
| npGSEA 1.22.0 Jessica Larson
| malbec1 | Linux (Ubuntu 18.04.4 LTS) / x86_64 | OK | OK | OK | |||||||
| tokay1 | Windows Server 2012 R2 Standard / x64 | OK | OK | OK | OK | |||||||
| merida1 | OS X 10.11.6 El Capitan / x86_64 | OK | OK | [ OK ] | OK |
| Package: npGSEA |
| Version: 1.22.0 |
| Command: /Library/Frameworks/R.framework/Versions/Current/Resources/bin/R CMD check --install=check:npGSEA.install-out.txt --library=/Library/Frameworks/R.framework/Versions/Current/Resources/library --no-vignettes --timings npGSEA_1.22.0.tar.gz |
| StartedAt: 2020-04-15 04:16:33 -0400 (Wed, 15 Apr 2020) |
| EndedAt: 2020-04-15 04:18:25 -0400 (Wed, 15 Apr 2020) |
| EllapsedTime: 112.3 seconds |
| RetCode: 0 |
| Status: OK |
| CheckDir: npGSEA.Rcheck |
| Warnings: 0 |
##############################################################################
##############################################################################
###
### Running command:
###
### /Library/Frameworks/R.framework/Versions/Current/Resources/bin/R CMD check --install=check:npGSEA.install-out.txt --library=/Library/Frameworks/R.framework/Versions/Current/Resources/library --no-vignettes --timings npGSEA_1.22.0.tar.gz
###
##############################################################################
##############################################################################
* using log directory ‘/Users/biocbuild/bbs-3.10-bioc/meat/npGSEA.Rcheck’
* using R version 3.6.3 (2020-02-29)
* using platform: x86_64-apple-darwin15.6.0 (64-bit)
* using session charset: UTF-8
* using option ‘--no-vignettes’
* checking for file ‘npGSEA/DESCRIPTION’ ... OK
* checking extension type ... Package
* this is package ‘npGSEA’ version ‘1.22.0’
* checking package namespace information ... OK
* checking package dependencies ... OK
* checking if this is a source package ... OK
* checking if there is a namespace ... OK
* checking for hidden files and directories ... OK
* checking for portable file names ... OK
* checking for sufficient/correct file permissions ... OK
* checking whether package ‘npGSEA’ can be installed ... OK
* checking installed package size ... OK
* checking package directory ... OK
* checking ‘build’ directory ... OK
* checking DESCRIPTION meta-information ... OK
* checking top-level files ... OK
* checking for left-over files ... OK
* checking index information ... OK
* checking package subdirectories ... OK
* checking R files for non-ASCII characters ... OK
* checking R files for syntax errors ... OK
* checking whether the package can be loaded ... OK
* checking whether the package can be loaded with stated dependencies ... OK
* checking whether the package can be unloaded cleanly ... OK
* checking whether the namespace can be loaded with stated dependencies ... OK
* checking whether the namespace can be unloaded cleanly ... OK
* checking dependencies in R code ... OK
* checking S3 generic/method consistency ... OK
* checking replacement functions ... OK
* checking foreign function calls ... OK
* checking R code for possible problems ... NOTE
.prepXYZ: no visible global function definition for ‘sd’
Undefined global functions or variables:
sd
Consider adding
importFrom("stats", "sd")
to your NAMESPACE file.
* checking Rd files ... OK
* checking Rd metadata ... OK
* checking Rd cross-references ... OK
* checking for missing documentation entries ... OK
* checking for code/documentation mismatches ... OK
* checking Rd \usage sections ... OK
* checking Rd contents ... OK
* checking for unstated dependencies in examples ... OK
* checking sizes of PDF files under ‘inst/doc’ ... OK
* checking files in ‘vignettes’ ... OK
* checking examples ... OK
* checking for unstated dependencies in vignettes ... OK
* checking package vignettes in ‘inst/doc’ ... OK
* checking running R code from vignettes ... SKIPPED
* checking re-building of vignette outputs ... SKIPPED
* checking PDF version of manual ... OK
* DONE
Status: 1 NOTE
See
‘/Users/biocbuild/bbs-3.10-bioc/meat/npGSEA.Rcheck/00check.log’
for details.
npGSEA.Rcheck/00install.out
############################################################################## ############################################################################## ### ### Running command: ### ### /Library/Frameworks/R.framework/Versions/Current/Resources/bin/R CMD INSTALL npGSEA ### ############################################################################## ############################################################################## * installing to library ‘/Library/Frameworks/R.framework/Versions/3.6/Resources/library’ * installing *source* package ‘npGSEA’ ... ** using staged installation ** R ** inst ** byte-compile and prepare package for lazy loading No methods found in package ‘BiocGenerics’ for request: ‘unlist’ when loading ‘npGSEA’ ** help *** installing help indices ** building package indices ** installing vignettes ** testing if installed package can be loaded from temporary location No methods found in package ‘BiocGenerics’ for request: ‘unlist’ when loading ‘npGSEA’ ** testing if installed package can be loaded from final location No methods found in package ‘BiocGenerics’ for request: ‘unlist’ when loading ‘npGSEA’ ** testing if installed package keeps a record of temporary installation path * DONE (npGSEA)
npGSEA.Rcheck/npGSEA-Ex.timings
| name | user | system | elapsed | |
| DF-methods | 0.012 | 0.001 | 0.013 | |
| alphaValue-methods | 0.004 | 0.000 | 0.005 | |
| betaHats-methods | 0.005 | 0.001 | 0.005 | |
| betaStat-methods | 0.004 | 0.000 | 0.005 | |
| betaValue-methods | 0.004 | 0.000 | 0.005 | |
| chiSqStat-methods | 0.008 | 0.000 | 0.008 | |
| geneSetName-methods | 0.003 | 0.000 | 0.003 | |
| getIncidence | 0.001 | 0.000 | 0.002 | |
| npGSEA | 0.003 | 0.001 | 0.003 | |
| npGSEAPlot-methods | 0.002 | 0.000 | 0.002 | |
| npGSEAResultBeta-class | 0.002 | 0.000 | 0.001 | |
| npGSEAResultBetaCollection-class | 0.001 | 0.000 | 0.001 | |
| npGSEAResultChiSq-class | 0.001 | 0.000 | 0.001 | |
| npGSEAResultChiSqCollection-class | 0 | 0 | 0 | |
| npGSEAResultNorm-class | 0.001 | 0.000 | 0.001 | |
| npGSEAResultNormCollection-class | 0.001 | 0.000 | 0.001 | |
| pLeft-methods | 0.002 | 0.000 | 0.003 | |
| pRight-methods | 0.002 | 0.000 | 0.002 | |
| pTwoSided-methods | 0.002 | 0.000 | 0.003 | |
| pValues-methods | 0.002 | 0.000 | 0.002 | |
| show-methods | 0.003 | 0.000 | 0.003 | |
| sigmaSq-methods | 0.003 | 0.001 | 0.003 | |
| stat-methods | 0.003 | 0.000 | 0.003 | |
| xSet-methods | 0.004 | 0.001 | 0.004 | |
| zStat-methods | 0.004 | 0.000 | 0.004 | |