| Back to Multiple platform build/check report for BioC 3.10 |
|
This page was generated on 2020-04-15 12:04:31 -0400 (Wed, 15 Apr 2020).
| Package 934/1823 | Hostname | OS / Arch | INSTALL | BUILD | CHECK | BUILD BIN | ||||||
| maanova 1.56.0 Keith Sheppard
| malbec1 | Linux (Ubuntu 18.04.4 LTS) / x86_64 | [ OK ] | OK | OK | |||||||
| tokay1 | Windows Server 2012 R2 Standard / x64 | OK | OK | OK | OK | |||||||
| merida1 | OS X 10.11.6 El Capitan / x86_64 | OK | OK | WARNINGS | OK |
| Package: maanova |
| Version: 1.56.0 |
| Command: /home/biocbuild/bbs-3.10-bioc/R/bin/R CMD INSTALL maanova |
| StartedAt: 2020-04-14 18:11:29 -0400 (Tue, 14 Apr 2020) |
| EndedAt: 2020-04-14 18:11:36 -0400 (Tue, 14 Apr 2020) |
| EllapsedTime: 7.0 seconds |
| RetCode: 0 |
| Status: OK |
##############################################################################
##############################################################################
###
### Running command:
###
### /home/biocbuild/bbs-3.10-bioc/R/bin/R CMD INSTALL maanova
###
##############################################################################
##############################################################################
* installing to library ‘/home/biocbuild/bbs-3.10-bioc/R/library’
* installing *source* package ‘maanova’ ...
** using staged installation
** libs
gcc -I"/home/biocbuild/bbs-3.10-bioc/R/include" -DNDEBUG -I/usr/local/include -fpic -g -O2 -Wall -c makeratio.c -o makeratio.o
gcc -I"/home/biocbuild/bbs-3.10-bioc/R/include" -DNDEBUG -I/usr/local/include -fpic -g -O2 -Wall -c masvd.c -o masvd.o
masvd.c:114:2: warning: "/*" within comment [-Wcomment]
/* work on a copy of x */
masvd.c:154:1: warning: "/*" within comment [-Wcomment]
/*#ifndef IEEE_754
masvd.c:161:5: warning: "/*" within comment [-Wcomment]
/* work on a copy of x */
masvd.c:165:2: warning: "/*" within comment [-Wcomment]
/* ask for optimal size of work array */
masvd.c:189:2: warning: "/*" within comment [-Wcomment]
/* ask for optimal size of work array */
gcc -I"/home/biocbuild/bbs-3.10-bioc/R/include" -DNDEBUG -I/usr/local/include -fpic -g -O2 -Wall -c shift.c -o shift.o
shift.c: In function ‘shift’:
shift.c:27:13: warning: unused variable ‘k’ [-Wunused-variable]
int i, j, k;
^
gcc -I"/home/biocbuild/bbs-3.10-bioc/R/include" -DNDEBUG -I/usr/local/include -fpic -g -O2 -Wall -c util.c -o util.o
gcc -shared -L/home/biocbuild/bbs-3.10-bioc/R/lib -L/usr/local/lib -o maanova.so makeratio.o masvd.o shift.o util.o -L/home/biocbuild/bbs-3.10-bioc/R/lib -lRlapack -L/home/biocbuild/bbs-3.10-bioc/R/lib -lRblas -lgfortran -lm -lquadmath -L/home/biocbuild/bbs-3.10-bioc/R/lib -lR
installing to /home/biocbuild/bbs-3.10-bioc/R/library/00LOCK-maanova/00new/maanova/libs
** R
** data
** demo
** inst
** byte-compile and prepare package for lazy loading
** help
*** installing help indices
** building package indices
** installing vignettes
** testing if installed package can be loaded from temporary location
** checking absolute paths in shared objects and dynamic libraries
** testing if installed package can be loaded from final location
** testing if installed package keeps a record of temporary installation path
* DONE (maanova)