| Back to Multiple platform build/check report for BioC 3.10 |
|
This page was generated on 2020-04-15 12:30:42 -0400 (Wed, 15 Apr 2020).
| Package 817/1823 | Hostname | OS / Arch | INSTALL | BUILD | CHECK | BUILD BIN | ||||||
| icetea 1.4.0 Vivek Bhardwaj
| malbec1 | Linux (Ubuntu 18.04.4 LTS) / x86_64 | OK | OK | OK | |||||||
| tokay1 | Windows Server 2012 R2 Standard / x64 | OK | OK | [ OK ] | OK | |||||||
| merida1 | OS X 10.11.6 El Capitan / x86_64 | OK | OK | OK | OK |
| Package: icetea |
| Version: 1.4.0 |
| Command: set _R_CHECK_FORCE_SUGGESTS_=0&& C:\Users\biocbuild\bbs-3.10-bioc\R\bin\R.exe CMD check --force-multiarch --install=check:icetea.install-out.txt --library=C:\Users\biocbuild\bbs-3.10-bioc\R\library --no-vignettes --timings icetea_1.4.0.tar.gz |
| StartedAt: 2020-04-15 03:58:24 -0400 (Wed, 15 Apr 2020) |
| EndedAt: 2020-04-15 04:12:02 -0400 (Wed, 15 Apr 2020) |
| EllapsedTime: 817.9 seconds |
| RetCode: 0 |
| Status: OK |
| CheckDir: icetea.Rcheck |
| Warnings: 0 |
##############################################################################
##############################################################################
###
### Running command:
###
### set _R_CHECK_FORCE_SUGGESTS_=0&& C:\Users\biocbuild\bbs-3.10-bioc\R\bin\R.exe CMD check --force-multiarch --install=check:icetea.install-out.txt --library=C:\Users\biocbuild\bbs-3.10-bioc\R\library --no-vignettes --timings icetea_1.4.0.tar.gz
###
##############################################################################
##############################################################################
* using log directory 'C:/Users/biocbuild/bbs-3.10-bioc/meat/icetea.Rcheck'
* using R version 3.6.3 (2020-02-29)
* using platform: x86_64-w64-mingw32 (64-bit)
* using session charset: ISO8859-1
* using option '--no-vignettes'
* checking for file 'icetea/DESCRIPTION' ... OK
* checking extension type ... Package
* this is package 'icetea' version '1.4.0'
* package encoding: UTF-8
* checking package namespace information ... OK
* checking package dependencies ... OK
* checking if this is a source package ... OK
* checking if there is a namespace ... OK
* checking for hidden files and directories ... OK
* checking for portable file names ... OK
* checking whether package 'icetea' can be installed ... OK
* checking installed package size ... OK
* checking package directory ... OK
* checking 'build' directory ... OK
* checking DESCRIPTION meta-information ... OK
* checking top-level files ... OK
* checking for left-over files ... OK
* checking index information ... OK
* checking package subdirectories ... OK
* checking R files for non-ASCII characters ... OK
* checking R files for syntax errors ... OK
* loading checks for arch 'i386'
** checking whether the package can be loaded ... OK
** checking whether the package can be loaded with stated dependencies ... OK
** checking whether the package can be unloaded cleanly ... OK
** checking whether the namespace can be loaded with stated dependencies ... OK
** checking whether the namespace can be unloaded cleanly ... OK
* loading checks for arch 'x64'
** checking whether the package can be loaded ... OK
** checking whether the package can be loaded with stated dependencies ... OK
** checking whether the package can be unloaded cleanly ... OK
** checking whether the namespace can be loaded with stated dependencies ... OK
** checking whether the namespace can be unloaded cleanly ... OK
* checking dependencies in R code ... OK
* checking S3 generic/method consistency ... OK
* checking replacement functions ... OK
* checking foreign function calls ... OK
* checking R code for possible problems ... NOTE
detectTSS,CapSet : <anonymous>: no visible binding for global variable
'filter'
Undefined global functions or variables:
filter
Consider adding
importFrom("stats", "filter")
to your NAMESPACE file.
* checking Rd files ... OK
* checking Rd metadata ... OK
* checking Rd cross-references ... OK
* checking for missing documentation entries ... OK
* checking for code/documentation mismatches ... OK
* checking Rd \usage sections ... OK
* checking Rd contents ... OK
* checking for unstated dependencies in examples ... OK
* checking files in 'vignettes' ... OK
* checking examples ...
** running examples for arch 'i386' ... OK
Examples with CPU or elapsed time > 5s
user system elapsed
detectTSS 17.78 2.09 35.91
annotateTSS 12.07 0.60 86.69
getNormFactors 2.39 0.14 37.90
demultiplexFASTQ 2.26 0.04 10.63
** running examples for arch 'x64' ... OK
Examples with CPU or elapsed time > 5s
user system elapsed
detectTSS 22.56 2.76 41.80
annotateTSS 16.68 0.24 17.11
getNormFactors 2.64 0.04 37.55
* checking for unstated dependencies in 'tests' ... OK
* checking tests ...
** running tests for arch 'i386' ...
Running 'testthat.R'
OK
** running tests for arch 'x64' ...
Running 'testthat.R'
OK
* checking for unstated dependencies in vignettes ... OK
* checking package vignettes in 'inst/doc' ... OK
* checking running R code from vignettes ... SKIPPED
* checking re-building of vignette outputs ... SKIPPED
* checking PDF version of manual ... OK
* DONE
Status: 1 NOTE
See
'C:/Users/biocbuild/bbs-3.10-bioc/meat/icetea.Rcheck/00check.log'
for details.
icetea.Rcheck/00install.out
##############################################################################
##############################################################################
###
### Running command:
###
### C:\cygwin\bin\curl.exe -O https://malbec1.bioconductor.org/BBS/3.10/bioc/src/contrib/icetea_1.4.0.tar.gz && rm -rf icetea.buildbin-libdir && mkdir icetea.buildbin-libdir && C:\Users\biocbuild\bbs-3.10-bioc\R\bin\R.exe CMD INSTALL --merge-multiarch --build --library=icetea.buildbin-libdir icetea_1.4.0.tar.gz && C:\Users\biocbuild\bbs-3.10-bioc\R\bin\R.exe CMD INSTALL icetea_1.4.0.zip && rm icetea_1.4.0.tar.gz icetea_1.4.0.zip
###
##############################################################################
##############################################################################
% Total % Received % Xferd Average Speed Time Time Time Current
Dload Upload Total Spent Left Speed
0 0 0 0 0 0 0 0 --:--:-- --:--:-- --:--:-- 0
0 1377k 0 0 0 0 0 0 --:--:-- --:--:-- --:--:-- 0
100 1377k 100 1377k 0 0 4129k 0 --:--:-- --:--:-- --:--:-- 4172k
install for i386
* installing *source* package 'icetea' ...
** using staged installation
** R
** inst
** byte-compile and prepare package for lazy loading
** help
*** installing help indices
converting help for package 'icetea'
finding HTML links ... done
ResizeReads html
activeChrs html
annotateTSS html
check_capSet html
demultiplexFASTQ html
detectDiffTSS html
finding level-2 HTML links ... done
detectTSS html
diffQCplots html
exampleCSobject html
exportTSS html
filterDuplicates html
filterDups html
fitDiffTSS html
getBamFlags html
getChromBins html
getChromWindows html
getGeneCounts html
getMCparams html
getNormFactors html
get_newfastq html
getranks html
mapCaps html
newCapSet html
numReadsInBed html
plotPrecision html
plotReadStats html
plotTSSprecision html
sampleInfo html
splitBAM_byIndex html
splitBAM_byRepindex html
split_fastq html
splitranks html
strandBinCounts html
** building package indices
** installing vignettes
** testing if installed package can be loaded from temporary location
** testing if installed package can be loaded from final location
** testing if installed package keeps a record of temporary installation path
install for x64
* installing *source* package 'icetea' ...
** testing if installed package can be loaded
* MD5 sums
packaged installation of 'icetea' as icetea_1.4.0.zip
* DONE (icetea)
* installing to library 'C:/Users/biocbuild/bbs-3.10-bioc/R/library'
package 'icetea' successfully unpacked and MD5 sums checked
|
icetea.Rcheck/tests_i386/testthat.Rout
R version 3.6.3 (2020-02-29) -- "Holding the Windsock"
Copyright (C) 2020 The R Foundation for Statistical Computing
Platform: i386-w64-mingw32/i386 (32-bit)
R is free software and comes with ABSOLUTELY NO WARRANTY.
You are welcome to redistribute it under certain conditions.
Type 'license()' or 'licence()' for distribution details.
R is a collaborative project with many contributors.
Type 'contributors()' for more information and
'citation()' on how to cite R or R packages in publications.
Type 'demo()' for some demos, 'help()' for on-line help, or
'help.start()' for an HTML browser interface to help.
Type 'q()' to quit R.
> library(testthat)
> library(icetea)
>
> test_check("icetea")
== testthat results ===========================================================
[ OK: 17 | SKIPPED: 0 | WARNINGS: 2 | FAILED: 0 ]
>
> proc.time()
user system elapsed
37.10 3.23 64.85
|
icetea.Rcheck/tests_x64/testthat.Rout
R version 3.6.3 (2020-02-29) -- "Holding the Windsock"
Copyright (C) 2020 The R Foundation for Statistical Computing
Platform: x86_64-w64-mingw32/x64 (64-bit)
R is free software and comes with ABSOLUTELY NO WARRANTY.
You are welcome to redistribute it under certain conditions.
Type 'license()' or 'licence()' for distribution details.
R is a collaborative project with many contributors.
Type 'contributors()' for more information and
'citation()' on how to cite R or R packages in publications.
Type 'demo()' for some demos, 'help()' for on-line help, or
'help.start()' for an HTML browser interface to help.
Type 'q()' to quit R.
> library(testthat)
> library(icetea)
>
> test_check("icetea")
== testthat results ===========================================================
[ OK: 17 | SKIPPED: 0 | WARNINGS: 2 | FAILED: 0 ]
>
> proc.time()
user system elapsed
53.87 2.79 80.76
|
|
icetea.Rcheck/examples_i386/icetea-Ex.timings
|
icetea.Rcheck/examples_x64/icetea-Ex.timings
|