| Back to Multiple platform build/check report for BioC 3.10 |
|
This page was generated on 2020-04-15 12:30:42 -0400 (Wed, 15 Apr 2020).
| Package 817/1823 | Hostname | OS / Arch | INSTALL | BUILD | CHECK | BUILD BIN | ||||||
| icetea 1.4.0 Vivek Bhardwaj
| malbec1 | Linux (Ubuntu 18.04.4 LTS) / x86_64 | OK | OK | OK | |||||||
| tokay1 | Windows Server 2012 R2 Standard / x64 | OK | OK | OK | [ OK ] | |||||||
| merida1 | OS X 10.11.6 El Capitan / x86_64 | OK | OK | OK | OK |
| Package: icetea |
| Version: 1.4.0 |
| Command: rm -rf icetea.buildbin-libdir && mkdir icetea.buildbin-libdir && C:\Users\biocbuild\bbs-3.10-bioc\R\bin\R.exe CMD INSTALL --merge-multiarch --build --library=icetea.buildbin-libdir icetea_1.4.0.tar.gz |
| StartedAt: 2020-04-15 08:57:31 -0400 (Wed, 15 Apr 2020) |
| EndedAt: 2020-04-15 08:59:06 -0400 (Wed, 15 Apr 2020) |
| EllapsedTime: 95.2 seconds |
| RetCode: 0 |
| Status: OK |
| PackageFile: icetea_1.4.0.zip |
| PackageFileSize: 955.9 KiB |
##############################################################################
##############################################################################
###
### Running command:
###
### rm -rf icetea.buildbin-libdir && mkdir icetea.buildbin-libdir && C:\Users\biocbuild\bbs-3.10-bioc\R\bin\R.exe CMD INSTALL --merge-multiarch --build --library=icetea.buildbin-libdir icetea_1.4.0.tar.gz
###
##############################################################################
##############################################################################
install for i386
* installing *source* package 'icetea' ...
** using staged installation
** R
** inst
** byte-compile and prepare package for lazy loading
** help
*** installing help indices
converting help for package 'icetea'
finding HTML links ... done
ResizeReads html
activeChrs html
annotateTSS html
check_capSet html
demultiplexFASTQ html
detectDiffTSS html
finding level-2 HTML links ... done
detectTSS html
diffQCplots html
exampleCSobject html
exportTSS html
filterDuplicates html
filterDups html
fitDiffTSS html
getBamFlags html
getChromBins html
getChromWindows html
getGeneCounts html
getMCparams html
getNormFactors html
get_newfastq html
getranks html
mapCaps html
newCapSet html
numReadsInBed html
plotPrecision html
plotReadStats html
plotTSSprecision html
sampleInfo html
splitBAM_byIndex html
splitBAM_byRepindex html
split_fastq html
splitranks html
strandBinCounts html
** building package indices
** installing vignettes
** testing if installed package can be loaded from temporary location
** testing if installed package can be loaded from final location
** testing if installed package keeps a record of temporary installation path
install for x64
* installing *source* package 'icetea' ...
** testing if installed package can be loaded
* MD5 sums
packaged installation of 'icetea' as icetea_1.4.0.zip
* DONE (icetea)