| Back to Multiple platform build/check report for BioC 3.10 |
|
This page was generated on 2020-04-15 12:22:50 -0400 (Wed, 15 Apr 2020).
| Package 587/1823 | Hostname | OS / Arch | INSTALL | BUILD | CHECK | BUILD BIN | ||||||
| flowCyBar 1.22.0 Joachim Schumann
| malbec1 | Linux (Ubuntu 18.04.4 LTS) / x86_64 | OK | OK | OK | |||||||
| tokay1 | Windows Server 2012 R2 Standard / x64 | OK | OK | OK | [ OK ] | |||||||
| merida1 | OS X 10.11.6 El Capitan / x86_64 | OK | OK | OK | OK |
| Package: flowCyBar |
| Version: 1.22.0 |
| Command: rm -rf flowCyBar.buildbin-libdir && mkdir flowCyBar.buildbin-libdir && C:\Users\biocbuild\bbs-3.10-bioc\R\bin\R.exe CMD INSTALL --merge-multiarch --build --library=flowCyBar.buildbin-libdir flowCyBar_1.22.0.tar.gz |
| StartedAt: 2020-04-15 08:43:35 -0400 (Wed, 15 Apr 2020) |
| EndedAt: 2020-04-15 08:44:16 -0400 (Wed, 15 Apr 2020) |
| EllapsedTime: 40.8 seconds |
| RetCode: 0 |
| Status: OK |
| PackageFile: flowCyBar_1.22.0.zip |
| PackageFileSize: 450.7 KiB |
##############################################################################
##############################################################################
###
### Running command:
###
### rm -rf flowCyBar.buildbin-libdir && mkdir flowCyBar.buildbin-libdir && C:\Users\biocbuild\bbs-3.10-bioc\R\bin\R.exe CMD INSTALL --merge-multiarch --build --library=flowCyBar.buildbin-libdir flowCyBar_1.22.0.tar.gz
###
##############################################################################
##############################################################################
install for i386
* installing *source* package 'flowCyBar' ...
** using staged installation
** R
** data
** inst
** byte-compile and prepare package for lazy loading
** help
*** installing help indices
converting help for package 'flowCyBar'
finding HTML links ... done
Abiotic_data_sample html
Cell_number_sample html
Corr_data_sample html
correlation html
cybar_plot html
flowCyBar-package html
nmds html
normalize html
** building package indices
** installing vignettes
** testing if installed package can be loaded from temporary location
** testing if installed package can be loaded from final location
** testing if installed package keeps a record of temporary installation path
install for x64
* installing *source* package 'flowCyBar' ...
** testing if installed package can be loaded
* MD5 sums
packaged installation of 'flowCyBar' as flowCyBar_1.22.0.zip
* DONE (flowCyBar)