| Back to Multiple platform build/check report for BioC 3.10 |
|
This page was generated on 2020-04-15 12:39:54 -0400 (Wed, 15 Apr 2020).
| Package 587/1823 | Hostname | OS / Arch | INSTALL | BUILD | CHECK | BUILD BIN | ||||||
| flowCyBar 1.22.0 Joachim Schumann
| malbec1 | Linux (Ubuntu 18.04.4 LTS) / x86_64 | OK | OK | OK | |||||||
| tokay1 | Windows Server 2012 R2 Standard / x64 | OK | OK | OK | OK | |||||||
| merida1 | OS X 10.11.6 El Capitan / x86_64 | OK | OK | OK | [ OK ] |
| Package: flowCyBar |
| Version: 1.22.0 |
| Command: rm -rf flowCyBar.buildbin-libdir && mkdir flowCyBar.buildbin-libdir && /Users/biocbuild/BBS/utils/build-universal.sh flowCyBar_1.22.0.tar.gz /Library/Frameworks/R.framework/Versions/Current/Resources/bin/R flowCyBar.buildbin-libdir |
| StartedAt: 2020-04-15 07:28:25 -0400 (Wed, 15 Apr 2020) |
| EndedAt: 2020-04-15 07:29:20 -0400 (Wed, 15 Apr 2020) |
| EllapsedTime: 55.1 seconds |
| RetCode: 0 |
| Status: OK |
| PackageFile: flowCyBar_1.22.0.tgz |
| PackageFileSize: 431.8 KiB |
############################################################################## ############################################################################## ### ### Running command: ### ### rm -rf flowCyBar.buildbin-libdir && mkdir flowCyBar.buildbin-libdir && /Users/biocbuild/BBS/utils/build-universal.sh flowCyBar_1.22.0.tar.gz /Library/Frameworks/R.framework/Versions/Current/Resources/bin/R flowCyBar.buildbin-libdir ### ############################################################################## ############################################################################## >>>>>>> >>>>>>> INSTALLATION WITH 'R CMD INSTALL --preclean --no-multiarch --library=flowCyBar.buildbin-libdir flowCyBar_1.22.0.tar.gz' >>>>>>> * installing *source* package ‘flowCyBar’ ... ** using staged installation ** R ** data ** inst ** byte-compile and prepare package for lazy loading ** help *** installing help indices ** building package indices ** installing vignettes ** testing if installed package can be loaded from temporary location ** testing if installed package can be loaded from final location ** testing if installed package keeps a record of temporary installation path * DONE (flowCyBar)