| Back to Multiple platform build/check report for BioC 3.10 |
|
This page was generated on 2020-04-15 12:18:16 -0400 (Wed, 15 Apr 2020).
| Package 1613/1823 | Hostname | OS / Arch | INSTALL | BUILD | CHECK | BUILD BIN | ||||||
| SLGI 1.46.0 Nolwenn Le Meur
| malbec1 | Linux (Ubuntu 18.04.4 LTS) / x86_64 | OK | OK | OK | |||||||
| tokay1 | Windows Server 2012 R2 Standard / x64 | OK | OK | OK | [ OK ] | |||||||
| merida1 | OS X 10.11.6 El Capitan / x86_64 | OK | OK | OK | OK |
| Package: SLGI |
| Version: 1.46.0 |
| Command: rm -rf SLGI.buildbin-libdir && mkdir SLGI.buildbin-libdir && C:\Users\biocbuild\bbs-3.10-bioc\R\bin\R.exe CMD INSTALL --merge-multiarch --build --library=SLGI.buildbin-libdir SLGI_1.46.0.tar.gz |
| StartedAt: 2020-04-15 09:42:54 -0400 (Wed, 15 Apr 2020) |
| EndedAt: 2020-04-15 09:43:22 -0400 (Wed, 15 Apr 2020) |
| EllapsedTime: 27.9 seconds |
| RetCode: 0 |
| Status: OK |
| PackageFile: SLGI_1.46.0.zip |
| PackageFileSize: 8.324 MiB |
##############################################################################
##############################################################################
###
### Running command:
###
### rm -rf SLGI.buildbin-libdir && mkdir SLGI.buildbin-libdir && C:\Users\biocbuild\bbs-3.10-bioc\R\bin\R.exe CMD INSTALL --merge-multiarch --build --library=SLGI.buildbin-libdir SLGI_1.46.0.tar.gz
###
##############################################################################
##############################################################################
install for i386
* installing *source* package 'SLGI' ...
** using staged installation
** R
** data
** inst
** byte-compile and prepare package for lazy loading
No methods found in package 'Biobase' for request: 'listlen' when loading 'RpsiXML'
No methods found in package 'annotate' for requests: 'pubmed', 'buildPubMedAbst' when loading 'RpsiXML'
No methods found in package 'BiocGenerics' for request: 'plot' when loading 'SLGI'
** help
*** installing help indices
converting help for package 'SLGI'
finding HTML links ... done
Atong html
AtongFnDomain html
AtongPair html
Boeke html
SDL html
SGA html
SGD.SL html
TFmat html
byComplex html
comemberIn html
compare html
congruence html
createSquareMatrix html
dSLAM.GPL1444 html
domainDist html
essglist html
getInteraction html
getSharedDomains html
getSharedInteraction html
getTestedPairs html
getUniquePairs html
gi2005 html
gi2007 html
gi2Interactome html
hyperG html
iSummary html
modelSLGI html
normInteraction html
plot html
seqMatcherAlign html
sharedBy html
sharedInt html
siResult-class html
test2Interact html
topInteraction html
twoWayTable html
withinComplex html
** building package indices
** installing vignettes
** testing if installed package can be loaded from temporary location
No methods found in package 'Biobase' for request: 'listlen' when loading 'RpsiXML'
No methods found in package 'annotate' for requests: 'pubmed', 'buildPubMedAbst' when loading 'RpsiXML'
No methods found in package 'BiocGenerics' for request: 'plot' when loading 'SLGI'
** testing if installed package can be loaded from final location
No methods found in package 'Biobase' for request: 'listlen' when loading 'RpsiXML'
No methods found in package 'annotate' for requests: 'pubmed', 'buildPubMedAbst' when loading 'RpsiXML'
No methods found in package 'BiocGenerics' for request: 'plot' when loading 'SLGI'
** testing if installed package keeps a record of temporary installation path
install for x64
* installing *source* package 'SLGI' ...
** testing if installed package can be loaded
No methods found in package 'Biobase' for request: 'listlen' when loading 'RpsiXML'
No methods found in package 'annotate' for requests: 'pubmed', 'buildPubMedAbst' when loading 'RpsiXML'
No methods found in package 'BiocGenerics' for request: 'plot' when loading 'SLGI'
* MD5 sums
packaged installation of 'SLGI' as SLGI_1.46.0.zip
* DONE (SLGI)