| Back to Multiple platform build/check report for BioC 3.10 |
|
This page was generated on 2020-04-15 12:35:21 -0400 (Wed, 15 Apr 2020).
| Package 1613/1823 | Hostname | OS / Arch | INSTALL | BUILD | CHECK | BUILD BIN | ||||||
| SLGI 1.46.0 Nolwenn Le Meur
| malbec1 | Linux (Ubuntu 18.04.4 LTS) / x86_64 | OK | OK | OK | |||||||
| tokay1 | Windows Server 2012 R2 Standard / x64 | OK | OK | OK | OK | |||||||
| merida1 | OS X 10.11.6 El Capitan / x86_64 | OK | [ OK ] | OK | OK |
| Package: SLGI |
| Version: 1.46.0 |
| Command: /Library/Frameworks/R.framework/Versions/Current/Resources/bin/R CMD build --keep-empty-dirs --no-resave-data SLGI |
| StartedAt: 2020-04-14 20:00:07 -0400 (Tue, 14 Apr 2020) |
| EndedAt: 2020-04-14 20:01:15 -0400 (Tue, 14 Apr 2020) |
| EllapsedTime: 67.6 seconds |
| RetCode: 0 |
| Status: OK |
| PackageFile: SLGI_1.46.0.tar.gz |
| PackageFileSize: 8.059 MiB |
############################################################################## ############################################################################## ### ### Running command: ### ### /Library/Frameworks/R.framework/Versions/Current/Resources/bin/R CMD build --keep-empty-dirs --no-resave-data SLGI ### ############################################################################## ############################################################################## * checking for file ‘SLGI/DESCRIPTION’ ... OK * preparing ‘SLGI’: * checking DESCRIPTION meta-information ... OK * installing the package to build vignettes * creating vignettes ... OK * checking for LF line-endings in source and make files and shell scripts * checking for empty or unneeded directories * looking to see if a ‘data/datalist’ file should be added * building ‘SLGI_1.46.0.tar.gz’