| Back to Multiple platform build/check report for BioC 3.10 |
|
This page was generated on 2020-04-15 12:29:34 -0400 (Wed, 15 Apr 2020).
| Package 1175/1823 | Hostname | OS / Arch | INSTALL | BUILD | CHECK | BUILD BIN | ||||||
| OmaDB 2.2.0 Klara Kaleb
| malbec1 | Linux (Ubuntu 18.04.4 LTS) / x86_64 | OK | OK | WARNINGS | |||||||
| tokay1 | Windows Server 2012 R2 Standard / x64 | OK | OK | WARNINGS | [ OK ] | |||||||
| merida1 | OS X 10.11.6 El Capitan / x86_64 | OK | OK | WARNINGS | OK |
| Package: OmaDB |
| Version: 2.2.0 |
| Command: rm -rf OmaDB.buildbin-libdir && mkdir OmaDB.buildbin-libdir && C:\Users\biocbuild\bbs-3.10-bioc\R\bin\R.exe CMD INSTALL --merge-multiarch --build --library=OmaDB.buildbin-libdir OmaDB_2.2.0.tar.gz |
| StartedAt: 2020-04-15 09:17:52 -0400 (Wed, 15 Apr 2020) |
| EndedAt: 2020-04-15 09:18:23 -0400 (Wed, 15 Apr 2020) |
| EllapsedTime: 31.3 seconds |
| RetCode: 0 |
| Status: OK |
| PackageFile: OmaDB_2.2.0.zip |
| PackageFileSize: 227.8 KiB |
##############################################################################
##############################################################################
###
### Running command:
###
### rm -rf OmaDB.buildbin-libdir && mkdir OmaDB.buildbin-libdir && C:\Users\biocbuild\bbs-3.10-bioc\R\bin\R.exe CMD INSTALL --merge-multiarch --build --library=OmaDB.buildbin-libdir OmaDB_2.2.0.tar.gz
###
##############################################################################
##############################################################################
install for i386
* installing *source* package 'OmaDB' ...
** using staged installation
** R
** data
*** moving datasets to lazyload DB
** inst
** byte-compile and prepare package for lazy loading
** help
*** installing help indices
converting help for package 'OmaDB'
finding HTML links ... done
OmaDB-deprecated html
OmaDB-package html
annotateSequence html
cash-.omadb_obj html
formatTopGO html
getAnnotation-deprecated html
getAttribute html
getData-deprecated html
getGenome html
getGenomeAlignment-deprecated html
getGenomePairs html
getHOG html
getLocus html
getOMAGroup html
getObjectAttributes html
getProtein html
getTaxonomy html
getTopGO html
getTree html
getVersion html
getXref-deprecated html
group html
hog html
mapSequence html
orthologs html
pairs html
protein html
resolveURL html
searchProtein html
sequence_annotation html
sequence_map html
setAPI html
taxonomy html
xref html
** building package indices
** installing vignettes
** testing if installed package can be loaded from temporary location
** testing if installed package can be loaded from final location
** testing if installed package keeps a record of temporary installation path
install for x64
* installing *source* package 'OmaDB' ...
** testing if installed package can be loaded
* MD5 sums
packaged installation of 'OmaDB' as OmaDB_2.2.0.zip
* DONE (OmaDB)