| Back to Multiple platform build/check report for BioC 3.10 |
|
This page was generated on 2020-04-15 12:29:38 -0400 (Wed, 15 Apr 2020).
| Package 943/1823 | Hostname | OS / Arch | INSTALL | BUILD | CHECK | BUILD BIN | ||||||
| MAGeCKFlute 1.6.5 Wubing Zhang
| malbec1 | Linux (Ubuntu 18.04.4 LTS) / x86_64 | OK | OK | OK | |||||||
| tokay1 | Windows Server 2012 R2 Standard / x64 | OK | OK | OK | [ OK ] | |||||||
| merida1 | OS X 10.11.6 El Capitan / x86_64 | OK | OK | OK | OK |
| Package: MAGeCKFlute |
| Version: 1.6.5 |
| Command: rm -rf MAGeCKFlute.buildbin-libdir && mkdir MAGeCKFlute.buildbin-libdir && C:\Users\biocbuild\bbs-3.10-bioc\R\bin\R.exe CMD INSTALL --merge-multiarch --build --library=MAGeCKFlute.buildbin-libdir MAGeCKFlute_1.6.5.tar.gz |
| StartedAt: 2020-04-15 09:04:43 -0400 (Wed, 15 Apr 2020) |
| EndedAt: 2020-04-15 09:06:07 -0400 (Wed, 15 Apr 2020) |
| EllapsedTime: 84.3 seconds |
| RetCode: 0 |
| Status: OK |
| PackageFile: MAGeCKFlute_1.6.5.zip |
| PackageFileSize: 13.96 MiB |
##############################################################################
##############################################################################
###
### Running command:
###
### rm -rf MAGeCKFlute.buildbin-libdir && mkdir MAGeCKFlute.buildbin-libdir && C:\Users\biocbuild\bbs-3.10-bioc\R\bin\R.exe CMD INSTALL --merge-multiarch --build --library=MAGeCKFlute.buildbin-libdir MAGeCKFlute_1.6.5.tar.gz
###
##############################################################################
##############################################################################
install for i386
* installing *source* package 'MAGeCKFlute' ...
** using staged installation
** R
** data
*** moving datasets to lazyload DB
** inst
** byte-compile and prepare package for lazy loading
** help
*** installing help indices
converting help for package 'MAGeCKFlute'
finding HTML links ... done
BarView html
BatchRemove html
ConsistencyView html
CutoffCalling html
DensityDiffView html
DensityView html
EnrichAB html
EnrichAnalyzer html
EnrichSquare html
EnrichedFilter html
EnrichedGeneView html
EnrichedView html
FluteMLE html
FluteRRA html
HeatmapView html
IdentBarView html
IncorporateDepmap html
KeggPathwayView html
MAView html
MapRatesView html
NormalizeBeta html
OmitCommonEssential html
RankView html
ReadBeta html
ReadRRA html
ReadsgRRA html
ResembleDepmap html
ScatterView html
Selector html
SquareView html
TransGeneID html
ViolinView html
VolcanoView html
arrangePathview html
countsummary html
enrich.GSE html
enrich.HGT html
enrich.ORT html
getCols html
getGeneAnn html
getOrg html
getOrtAnn html
gsGetter html
hclustView html
mle.gene_summary html
noEnrichPlot html
normalize.loess html
readGMT html
reexports html
retrieve_gs html
rra.gene_summary html
rra.sgrna_summary html
sgRankView html
** building package indices
** installing vignettes
** testing if installed package can be loaded from temporary location
** testing if installed package can be loaded from final location
** testing if installed package keeps a record of temporary installation path
install for x64
* installing *source* package 'MAGeCKFlute' ...
** testing if installed package can be loaded
* MD5 sums
packaged installation of 'MAGeCKFlute' as MAGeCKFlute_1.6.5.zip
* DONE (MAGeCKFlute)