| Back to Multiple platform build/check report for BioC 3.10 |
|
This page was generated on 2020-04-15 12:19:53 -0400 (Wed, 15 Apr 2020).
| Package 760/1823 | Hostname | OS / Arch | INSTALL | BUILD | CHECK | BUILD BIN | ||||||
| GSVA 1.34.0 Justin Guinney
| malbec1 | Linux (Ubuntu 18.04.4 LTS) / x86_64 | OK | OK | OK | |||||||
| tokay1 | Windows Server 2012 R2 Standard / x64 | OK | OK | OK | [ OK ] | |||||||
| merida1 | OS X 10.11.6 El Capitan / x86_64 | OK | OK | OK | OK |
| Package: GSVA |
| Version: 1.34.0 |
| Command: rm -rf GSVA.buildbin-libdir && mkdir GSVA.buildbin-libdir && C:\Users\biocbuild\bbs-3.10-bioc\R\bin\R.exe CMD INSTALL --merge-multiarch --build --library=GSVA.buildbin-libdir GSVA_1.34.0.tar.gz |
| StartedAt: 2020-04-15 08:54:34 -0400 (Wed, 15 Apr 2020) |
| EndedAt: 2020-04-15 08:55:15 -0400 (Wed, 15 Apr 2020) |
| EllapsedTime: 41.7 seconds |
| RetCode: 0 |
| Status: OK |
| PackageFile: GSVA_1.34.0.zip |
| PackageFileSize: 1.271 MiB |
##############################################################################
##############################################################################
###
### Running command:
###
### rm -rf GSVA.buildbin-libdir && mkdir GSVA.buildbin-libdir && C:\Users\biocbuild\bbs-3.10-bioc\R\bin\R.exe CMD INSTALL --merge-multiarch --build --library=GSVA.buildbin-libdir GSVA_1.34.0.tar.gz
###
##############################################################################
##############################################################################
install for i386
* installing *source* package 'GSVA' ...
** using staged installation
** libs
C:/Rtools/mingw_32/bin/gcc -I"C:/Users/BIOCBU~1/BBS-3~1.10-/R/include" -DNDEBUG -I"C:/extsoft/include" -O3 -Wall -std=gnu99 -mtune=core2 -c kernel_estimation.c -o kernel_estimation.o
C:/Rtools/mingw_32/bin/gcc -I"C:/Users/BIOCBU~1/BBS-3~1.10-/R/include" -DNDEBUG -I"C:/extsoft/include" -O3 -Wall -std=gnu99 -mtune=core2 -c ks_test.c -o ks_test.o
ks_test.c: In function 'ks_sample':
ks_test.c:24:9: warning: unused variable 'mx_value' [-Wunused-variable]
double mx_value = 0.0;
^
C:/Rtools/mingw_32/bin/gcc -I"C:/Users/BIOCBU~1/BBS-3~1.10-/R/include" -DNDEBUG -I"C:/extsoft/include" -O3 -Wall -std=gnu99 -mtune=core2 -c register_cmethods.c -o register_cmethods.o
C:/Rtools/mingw_32/bin/gcc -shared -s -static-libgcc -o GSVA.dll tmp.def kernel_estimation.o ks_test.o register_cmethods.o -LC:/extsoft/lib/i386 -LC:/extsoft/lib -LC:/Users/BIOCBU~1/BBS-3~1.10-/R/bin/i386 -lR
installing to C:/Users/biocbuild/bbs-3.10-bioc/meat/GSVA.buildbin-libdir/00LOCK-GSVA/00new/GSVA/libs/i386
** R
** inst
** byte-compile and prepare package for lazy loading
** help
*** installing help indices
converting help for package 'GSVA'
finding HTML links ... done
computeGeneSetsOverlap html
filterGeneSets html
gsva html
igsva html
** building package indices
** installing vignettes
** testing if installed package can be loaded from temporary location
** testing if installed package can be loaded from final location
** testing if installed package keeps a record of temporary installation path
install for x64
* installing *source* package 'GSVA' ...
** libs
C:/Rtools/mingw_64/bin/gcc -I"C:/Users/BIOCBU~1/BBS-3~1.10-/R/include" -DNDEBUG -I"C:/extsoft/include" -O2 -Wall -std=gnu99 -mtune=core2 -c kernel_estimation.c -o kernel_estimation.o
C:/Rtools/mingw_64/bin/gcc -I"C:/Users/BIOCBU~1/BBS-3~1.10-/R/include" -DNDEBUG -I"C:/extsoft/include" -O2 -Wall -std=gnu99 -mtune=core2 -c ks_test.c -o ks_test.o
ks_test.c: In function 'ks_sample':
ks_test.c:24:9: warning: unused variable 'mx_value' [-Wunused-variable]
double mx_value = 0.0;
^
C:/Rtools/mingw_64/bin/gcc -I"C:/Users/BIOCBU~1/BBS-3~1.10-/R/include" -DNDEBUG -I"C:/extsoft/include" -O2 -Wall -std=gnu99 -mtune=core2 -c register_cmethods.c -o register_cmethods.o
C:/Rtools/mingw_64/bin/gcc -shared -s -static-libgcc -o GSVA.dll tmp.def kernel_estimation.o ks_test.o register_cmethods.o -LC:/extsoft/lib/x64 -LC:/extsoft/lib -LC:/Users/BIOCBU~1/BBS-3~1.10-/R/bin/x64 -lR
installing to C:/Users/biocbuild/bbs-3.10-bioc/meat/GSVA.buildbin-libdir/GSVA/libs/x64
** testing if installed package can be loaded
* MD5 sums
packaged installation of 'GSVA' as GSVA_1.34.0.zip
* DONE (GSVA)