| Back to Multiple platform build/check report for BioC 3.10 |
|
This page was generated on 2020-04-15 12:36:57 -0400 (Wed, 15 Apr 2020).
| Package 760/1823 | Hostname | OS / Arch | INSTALL | BUILD | CHECK | BUILD BIN | ||||||
| GSVA 1.34.0 Justin Guinney
| malbec1 | Linux (Ubuntu 18.04.4 LTS) / x86_64 | OK | OK | OK | |||||||
| tokay1 | Windows Server 2012 R2 Standard / x64 | OK | OK | OK | OK | |||||||
| merida1 | OS X 10.11.6 El Capitan / x86_64 | OK | OK | OK | [ OK ] |
| Package: GSVA |
| Version: 1.34.0 |
| Command: rm -rf GSVA.buildbin-libdir && mkdir GSVA.buildbin-libdir && /Users/biocbuild/BBS/utils/build-universal.sh GSVA_1.34.0.tar.gz /Library/Frameworks/R.framework/Versions/Current/Resources/bin/R GSVA.buildbin-libdir |
| StartedAt: 2020-04-15 07:41:39 -0400 (Wed, 15 Apr 2020) |
| EndedAt: 2020-04-15 07:42:27 -0400 (Wed, 15 Apr 2020) |
| EllapsedTime: 47.4 seconds |
| RetCode: 0 |
| Status: OK |
| PackageFile: GSVA_1.34.0.tgz |
| PackageFileSize: 1.361 MiB |
##############################################################################
##############################################################################
###
### Running command:
###
### rm -rf GSVA.buildbin-libdir && mkdir GSVA.buildbin-libdir && /Users/biocbuild/BBS/utils/build-universal.sh GSVA_1.34.0.tar.gz /Library/Frameworks/R.framework/Versions/Current/Resources/bin/R GSVA.buildbin-libdir
###
##############################################################################
##############################################################################
>>>>>>>
>>>>>>> INSTALLATION WITH 'R CMD INSTALL --preclean --no-multiarch --library=GSVA.buildbin-libdir GSVA_1.34.0.tar.gz'
>>>>>>>
* installing *source* package ‘GSVA’ ...
** using staged installation
** libs
clang -I"/Library/Frameworks/R.framework/Resources/include" -DNDEBUG -isysroot /Library/Developer/CommandLineTools/SDKs/MacOSX.sdk -I/usr/local/include -fPIC -Wall -g -O2 -c kernel_estimation.c -o kernel_estimation.o
clang -I"/Library/Frameworks/R.framework/Resources/include" -DNDEBUG -isysroot /Library/Developer/CommandLineTools/SDKs/MacOSX.sdk -I/usr/local/include -fPIC -Wall -g -O2 -c ks_test.c -o ks_test.o
ks_test.c:24:9: warning: unused variable 'mx_value' [-Wunused-variable]
double mx_value = 0.0;
^
1 warning generated.
clang -I"/Library/Frameworks/R.framework/Resources/include" -DNDEBUG -isysroot /Library/Developer/CommandLineTools/SDKs/MacOSX.sdk -I/usr/local/include -fPIC -Wall -g -O2 -c register_cmethods.c -o register_cmethods.o
clang -dynamiclib -Wl,-headerpad_max_install_names -undefined dynamic_lookup -single_module -multiply_defined suppress -L/Library/Frameworks/R.framework/Resources/lib -L/usr/local/lib -o GSVA.so kernel_estimation.o ks_test.o register_cmethods.o -F/Library/Frameworks/R.framework/.. -framework R -Wl,-framework -Wl,CoreFoundation
installing to /Users/biocbuild/bbs-3.10-bioc/meat/GSVA.buildbin-libdir/00LOCK-GSVA/00new/GSVA/libs
** R
** inst
** byte-compile and prepare package for lazy loading
** help
*** installing help indices
** building package indices
** installing vignettes
** testing if installed package can be loaded from temporary location
** checking absolute paths in shared objects and dynamic libraries
** testing if installed package can be loaded from final location
** testing if installed package keeps a record of temporary installation path
* DONE (GSVA)
>>>>>>>
>>>>>>> FIXING LINKS FOR GSVA.buildbin-libdir/GSVA/libs//GSVA.so
>>>>>>>
install_name_tool -change "/usr/local/lib/libgcc_s.1.dylib" "/Library/Frameworks/R.framework/Versions/3.6/Resources/lib/libgcc_s.1.dylib" "GSVA.buildbin-libdir/GSVA/libs//GSVA.so"
install_name_tool -change "/usr/local/lib/libgfortran.3.dylib" "/Library/Frameworks/R.framework/Versions/3.6/Resources/lib/libgfortran.3.dylib" "GSVA.buildbin-libdir/GSVA/libs//GSVA.so"
install_name_tool -change "/usr/local/lib/libreadline.5.2.dylib" "/Library/Frameworks/R.framework/Versions/3.6/Resources/lib/libreadline.5.2.dylib" "GSVA.buildbin-libdir/GSVA/libs//GSVA.so"
install_name_tool -change "/usr/local/lib/libreadline.dylib" "/Library/Frameworks/R.framework/Versions/3.6/Resources/lib/libreadline.dylib" "GSVA.buildbin-libdir/GSVA/libs//GSVA.so"
install_name_tool -change "/usr/local/lib/libquadmath.0.dylib" "/Library/Frameworks/R.framework/Versions/3.6/Resources/lib/libquadmath.0.dylib" "GSVA.buildbin-libdir/GSVA/libs//GSVA.so"