| Back to Multiple platform build/check report for BioC 3.10 | 
  | 
This page was generated on 2020-03-05 12:59:02 -0500 (Thu, 05 Mar 2020).
| Package 261/1823 | Hostname | OS / Arch | INSTALL | BUILD | CHECK | BUILD BIN | ||||||
| CHARGE 1.6.0 Benjamin Mayne 
  | malbec1 | Linux (Ubuntu 18.04.4 LTS) / x86_64 | OK | OK | OK | |||||||
| tokay1 | Windows Server 2012 R2 Standard / x64 | OK | OK | [ OK ] | OK | |||||||
| merida1 | OS X 10.11.6 El Capitan / x86_64 | OK | OK | OK | OK | 
| Package: CHARGE | 
| Version: 1.6.0 | 
| Command: C:\Users\biocbuild\bbs-3.10-bioc\R\bin\R.exe CMD check --force-multiarch --install=check:CHARGE.install-out.txt --library=C:\Users\biocbuild\bbs-3.10-bioc\R\library --no-vignettes --timings CHARGE_1.6.0.tar.gz | 
| StartedAt: 2020-03-05 02:26:40 -0500 (Thu, 05 Mar 2020) | 
| EndedAt: 2020-03-05 02:30:50 -0500 (Thu, 05 Mar 2020) | 
| EllapsedTime: 250.3 seconds | 
| RetCode: 0 | 
| Status: OK | 
| CheckDir: CHARGE.Rcheck | 
| Warnings: 0 | 
##############################################################################
##############################################################################
###
### Running command:
###
###   C:\Users\biocbuild\bbs-3.10-bioc\R\bin\R.exe CMD check --force-multiarch --install=check:CHARGE.install-out.txt --library=C:\Users\biocbuild\bbs-3.10-bioc\R\library --no-vignettes --timings CHARGE_1.6.0.tar.gz
###
##############################################################################
##############################################################################
* using log directory 'C:/Users/biocbuild/bbs-3.10-bioc/meat/CHARGE.Rcheck'
* using R version 3.6.2 (2019-12-12)
* using platform: x86_64-w64-mingw32 (64-bit)
* using session charset: ISO8859-1
* using option '--no-vignettes'
* checking for file 'CHARGE/DESCRIPTION' ... OK
* checking extension type ... Package
* this is package 'CHARGE' version '1.6.0'
* package encoding: UTF-8
* checking package namespace information ... OK
* checking package dependencies ... OK
* checking if this is a source package ... OK
* checking if there is a namespace ... OK
* checking for hidden files and directories ... OK
* checking for portable file names ... OK
* checking whether package 'CHARGE' can be installed ... OK
* checking installed package size ... OK
* checking package directory ... OK
* checking 'build' directory ... OK
* checking DESCRIPTION meta-information ... OK
* checking top-level files ... OK
* checking for left-over files ... OK
* checking index information ... OK
* checking package subdirectories ... OK
* checking R files for non-ASCII characters ... OK
* checking R files for syntax errors ... OK
* loading checks for arch 'i386'
** checking whether the package can be loaded ... OK
** checking whether the package can be loaded with stated dependencies ... OK
** checking whether the package can be unloaded cleanly ... OK
** checking whether the namespace can be loaded with stated dependencies ... OK
** checking whether the namespace can be unloaded cleanly ... OK
* loading checks for arch 'x64'
** checking whether the package can be loaded ... OK
** checking whether the package can be loaded with stated dependencies ... OK
** checking whether the package can be unloaded cleanly ... OK
** checking whether the namespace can be loaded with stated dependencies ... OK
** checking whether the namespace can be unloaded cleanly ... OK
* checking dependencies in R code ... OK
* checking S3 generic/method consistency ... OK
* checking replacement functions ... OK
* checking foreign function calls ... OK
* checking R code for possible problems ... NOTE
exprFinder: no visible global function definition for 'as'
Undefined global functions or variables:
  as
Consider adding
  importFrom("methods", "as")
to your NAMESPACE file (and ensure that your DESCRIPTION Imports field
contains 'methods').
* checking Rd files ... OK
* checking Rd metadata ... OK
* checking Rd cross-references ... OK
* checking for missing documentation entries ... OK
* checking for code/documentation mismatches ... OK
* checking Rd \usage sections ... OK
* checking Rd contents ... OK
* checking for unstated dependencies in examples ... OK
* checking contents of 'data' directory ... OK
* checking data for non-ASCII characters ... OK
* checking data for ASCII and uncompressed saves ... OK
* checking files in 'vignettes' ... OK
* checking examples ...
** running examples for arch 'i386' ... OK
Examples with CPU or elapsed time > 5s
           user system elapsed
exprFinder 7.22   0.58    7.83
** running examples for arch 'x64' ... OK
Examples with CPU or elapsed time > 5s
           user system elapsed
exprFinder 7.09   0.34    7.43
* checking for unstated dependencies in vignettes ... OK
* checking package vignettes in 'inst/doc' ... OK
* checking running R code from vignettes ... SKIPPED
* checking re-building of vignette outputs ... SKIPPED
* checking PDF version of manual ... OK
* DONE
Status: 1 NOTE
See
  'C:/Users/biocbuild/bbs-3.10-bioc/meat/CHARGE.Rcheck/00check.log'
for details.
CHARGE.Rcheck/00install.out
##############################################################################
##############################################################################
###
### Running command:
###
###   C:\cygwin\bin\curl.exe -O https://malbec1.bioconductor.org/BBS/3.10/bioc/src/contrib/CHARGE_1.6.0.tar.gz && rm -rf CHARGE.buildbin-libdir && mkdir CHARGE.buildbin-libdir && C:\Users\biocbuild\bbs-3.10-bioc\R\bin\R.exe CMD INSTALL --merge-multiarch --build --library=CHARGE.buildbin-libdir CHARGE_1.6.0.tar.gz && C:\Users\biocbuild\bbs-3.10-bioc\R\bin\R.exe CMD INSTALL CHARGE_1.6.0.zip && rm CHARGE_1.6.0.tar.gz CHARGE_1.6.0.zip
###
##############################################################################
##############################################################################
  % Total    % Received % Xferd  Average Speed   Time    Time     Time  Current
                                 Dload  Upload   Total   Spent    Left  Speed
  0     0    0     0    0     0      0      0 --:--:-- --:--:-- --:--:--     0
100  840k  100  840k    0     0  9973k      0 --:--:-- --:--:-- --:--:-- 10.2M
install for i386
* installing *source* package 'CHARGE' ...
** using staged installation
** R
** data
*** moving datasets to lazyload DB
** byte-compile and prepare package for lazy loading
** help
*** installing help indices
  converting help for package 'CHARGE'
    finding HTML links ... done
    CHARGE                                  html  
    bimodalTest                             html  
    clusterExpr                             html  
    cvExpr                                  html  
    datExprs                                html  
    exprFinder                              html  
    pcaExpr                                 html  
    plotcvExpr                              html  
** building package indices
** installing vignettes
** testing if installed package can be loaded from temporary location
** testing if installed package can be loaded from final location
** testing if installed package keeps a record of temporary installation path
install for x64
* installing *source* package 'CHARGE' ...
** testing if installed package can be loaded
* MD5 sums
packaged installation of 'CHARGE' as CHARGE_1.6.0.zip
* DONE (CHARGE)
* installing to library 'C:/Users/biocbuild/bbs-3.10-bioc/R/library'
package 'CHARGE' successfully unpacked and MD5 sums checked
| 
 CHARGE.Rcheck/examples_i386/CHARGE-Ex.timings 
  | 
 CHARGE.Rcheck/examples_x64/CHARGE-Ex.timings 
  |