| Back to Multiple platform build/check report for BioC 3.10 |
|
This page was generated on 2020-03-05 12:59:02 -0500 (Thu, 05 Mar 2020).
| Package 261/1823 | Hostname | OS / Arch | INSTALL | BUILD | CHECK | BUILD BIN | ||||||
| CHARGE 1.6.0 Benjamin Mayne
| malbec1 | Linux (Ubuntu 18.04.4 LTS) / x86_64 | OK | OK | OK | |||||||
| tokay1 | Windows Server 2012 R2 Standard / x64 | OK | OK | OK | [ OK ] | |||||||
| merida1 | OS X 10.11.6 El Capitan / x86_64 | OK | OK | OK | OK |
| Package: CHARGE |
| Version: 1.6.0 |
| Command: rm -rf CHARGE.buildbin-libdir && mkdir CHARGE.buildbin-libdir && C:\Users\biocbuild\bbs-3.10-bioc\R\bin\R.exe CMD INSTALL --merge-multiarch --build --library=CHARGE.buildbin-libdir CHARGE_1.6.0.tar.gz |
| StartedAt: 2020-03-05 08:45:48 -0500 (Thu, 05 Mar 2020) |
| EndedAt: 2020-03-05 08:46:41 -0500 (Thu, 05 Mar 2020) |
| EllapsedTime: 53.7 seconds |
| RetCode: 0 |
| Status: OK |
| PackageFile: CHARGE_1.6.0.zip |
| PackageFileSize: 2.232 MiB |
##############################################################################
##############################################################################
###
### Running command:
###
### rm -rf CHARGE.buildbin-libdir && mkdir CHARGE.buildbin-libdir && C:\Users\biocbuild\bbs-3.10-bioc\R\bin\R.exe CMD INSTALL --merge-multiarch --build --library=CHARGE.buildbin-libdir CHARGE_1.6.0.tar.gz
###
##############################################################################
##############################################################################
install for i386
* installing *source* package 'CHARGE' ...
** using staged installation
** R
** data
*** moving datasets to lazyload DB
** inst
** byte-compile and prepare package for lazy loading
** help
*** installing help indices
converting help for package 'CHARGE'
finding HTML links ... done
CHARGE html
bimodalTest html
clusterExpr html
cvExpr html
datExprs html
exprFinder html
pcaExpr html
plotcvExpr html
** building package indices
** installing vignettes
** testing if installed package can be loaded from temporary location
** testing if installed package can be loaded from final location
** testing if installed package keeps a record of temporary installation path
install for x64
* installing *source* package 'CHARGE' ...
** testing if installed package can be loaded
* MD5 sums
packaged installation of 'CHARGE' as CHARGE_1.6.0.zip
* DONE (CHARGE)