| Back to the "Multiple platform build/check report" | A B C D E F G H I J K L M N O P Q [R] S T U V W X Y Z |
| Package 329/419 | Hostname | OS / Arch | BUILD | CHECK | BUILD BIN | ||||
| RCytoscape 1.0.1 Paul Shannon
| lamb2 | Linux (openSUSE 11.2) / x86_64 | ERROR | skipped | |||||
| liverpool | Windows Server 2003 R2 (32-bit) / x64 | ERROR | skipped | skipped | |||||
| gewurz | Windows Server 2008 R2 Enterprise (64-bit) / x64 | OK | [ OK ] | OK | |||||
| pelham | Mac OS X Leopard (10.5.8) / i386 | OK | OK | OK |
| Package: RCytoscape |
| Version: 1.0.1 |
| Command: D:\biocbld\bbs-2.7-bioc\R\bin\R.exe CMD check --no-vignettes --timings RCytoscape_1.0.1.tar.gz |
| StartedAt: 2011-03-31 10:09:23 -0700 (Thu, 31 Mar 2011) |
| EndedAt: 2011-03-31 10:17:20 -0700 (Thu, 31 Mar 2011) |
| EllapsedTime: 477.4 seconds |
| RetCode: 0 |
| Status: OK |
| CheckDir: RCytoscape.Rcheck |
| Warnings: 0 |
* using log directory 'D:/biocbld/bbs-2.7-bioc/meat/RCytoscape.Rcheck' * using R version 2.12.2 (2011-02-25) * using platform: x86_64-pc-mingw32 (64-bit) * using session charset: ISO8859-1 * using option '--no-vignettes' * checking for file 'RCytoscape/DESCRIPTION' ... OK * checking extension type ... Package * this is package 'RCytoscape' version '1.0.1' * checking package name space information ... OK * checking package dependencies ... OK * checking if this is a source package ... OK * checking whether package 'RCytoscape' can be installed ... OK * checking package directory ... OK * checking for portable file names ... OK * checking DESCRIPTION meta-information ... OK * checking top-level files ... OK * checking index information ... OK * checking package subdirectories ... OK * checking R files for non-ASCII characters ... OK * checking R files for syntax errors ... OK * checking whether the package can be loaded ... OK * checking whether the package can be loaded with stated dependencies ... OK * checking whether the package can be unloaded cleanly ... OK * checking whether the name space can be loaded with stated dependencies ... OK * checking whether the name space can be unloaded cleanly ... OK * checking for unstated dependencies in R code ... OK * checking S3 generic/method consistency ... OK * checking replacement functions ... OK * checking foreign function calls ... OK * checking R code for possible problems ... OK * checking Rd files ... OK * checking Rd metadata ... OK * checking Rd cross-references ... OK * checking for missing documentation entries ... OK * checking for code/documentation mismatches ... OK * checking Rd \usage sections ... OK * checking Rd contents ... OK * checking for unstated dependencies in examples ... OK * checking examples ... OK * checking for unstated dependencies in tests ... OK * checking tests ... Running 'RCytoscape_unit_tests.R' OK * checking package vignettes in 'inst/doc' ... SKIPPED * checking PDF version of manual ... OK
RCytoscape.Rcheck/00install.out:
* installing *source* package 'RCytoscape' ... ** R ** inst ** preparing package for lazy loading ** help *** installing help indices ** building package indices ... ** testing if installed package can be loaded * DONE (RCytoscape)
RCytoscape.Rcheck/RCytoscape-Ex.timings:
| name | user | system | elapsed | |
| CytoscapeWindow | 0.17 | 0.05 | 0.40 | |
| CytoscapeWindowClass-class | 0.04 | 0.00 | 0.10 | |
| clearMsg | 0.27 | 0.00 | 6.42 | |
| clearSelection | 0.20 | 0.02 | 6.34 | |
| cy2.edge.names | 0.02 | 0.00 | 0.02 | |
| destroyAllWindows | 0.19 | 0.00 | 0.39 | |
| destroyWindow | 0.02 | 0.00 | 0.07 | |
| displayGraph | 0.17 | 0.00 | 6.55 | |
| dockPanel | 0.05 | 0.00 | 0.11 | |
| eda | 0.01 | 0.00 | 0.03 | |
| eda.names | 0.02 | 0.00 | 0.06 | |
| firstNeighbors | 0.03 | 0.00 | 0.08 | |
| floatPanel | 0.05 | 0.00 | 0.17 | |
| getAllEdges | 0.03 | 0.00 | 0.10 | |
| getAllNodes | 0.04 | 0.00 | 0.06 | |
| getArrowShapes | 0.04 | 0.00 | 0.08 | |
| getAttributeClassNames | 0.03 | 0.00 | 0.06 | |
| getGraph | 0.03 | 0.00 | 0.08 | |
| getLayoutNames | 0.04 | 0.00 | 0.09 | |
| getLineStyles | 0.04 | 0.00 | 0.08 | |
| getNodeShapes | 0.04 | 0.00 | 0.16 | |
| getSelectedNodeCount | 0.24 | 0.01 | 6.67 | |
| getSelectedNodes | 0.20 | 0.00 | 6.59 | |
| getWindowCount | 0.09 | 0.00 | 0.24 | |
| getWindowList | 0.07 | 0.00 | 0.15 | |
| hidePanel | 0.04 | 0.02 | 0.18 | |
| hideSelectedNodes | 0.13 | 0.01 | 0.39 | |
| initEdgeAttribute | 0 | 0 | 0 | |
| initNodeAttribute | 0 | 0 | 0 | |
| layout | 0.20 | 0.00 | 6.48 | |
| makeRandomGraph | 0.02 | 0.00 | 0.02 | |
| makeSimpleGraph | 0.01 | 0.02 | 0.03 | |
| msg | 0.17 | 0.00 | 6.26 | |
| noa | 0.04 | 0.00 | 0.03 | |
| noa.names | 0.04 | 0.00 | 0.07 | |
| ping | 0.03 | 0.00 | 0.07 | |
| redraw | 0.05 | 0.00 | 0.08 | |
| selectNodes | 0.09 | 0.00 | 0.14 | |
| sendEdgeAttributes | 0.08 | 0.00 | 4.09 | |
| sendEdgeAttributesDirect | 0.05 | 0.00 | 2.08 | |
| sendEdges | 0.03 | 0.00 | 2.08 | |
| sendNodeAttributes | 0.07 | 0.00 | 0.14 | |
| sendNodeAttributesDirect | 0.05 | 0.00 | 0.09 | |
| sendNodes | 0.05 | 0.01 | 0.08 | |
| setDefaultEdgeColor | 0.19 | 0.00 | 6.63 | |
| setDefaultEdgeLineWidth | 0.21 | 0.02 | 6.64 | |
| setDefaultNodeBorderColor | 0.24 | 0.00 | 6.56 | |
| setDefaultNodeBorderWidth | 0.23 | 0.00 | 6.55 | |
| setDefaultNodeColor | 0.21 | 0.00 | 6.50 | |
| setDefaultNodeFontSize | 0.25 | 0.00 | 6.59 | |
| setDefaultNodeLabelColor | 0.22 | 0.02 | 6.58 | |
| setDefaultNodeShape | 0.21 | 0.01 | 6.59 | |
| setDefaultNodeSize | 0.27 | 0.03 | 6.61 | |
| setEdgeColorRule | 0.06 | 0.00 | 2.13 | |
| setEdgeLineStyleRule | 0.05 | 0.02 | 2.11 | |
| setEdgeSourceArrowColorRule | 0.05 | 0.00 | 2.06 | |
| setEdgeSourceArrowRule | 0.04 | 0.00 | 5.09 | |
| setEdgeTargetArrowColorRule | 0.03 | 0.00 | 2.36 | |
| setEdgeTargetArrowRule | 0.05 | 0.00 | 2.10 | |
| setEdgeTooltipRule | 0.17 | 0.01 | 8.60 | |
| setGraph | 0.05 | 0.00 | 0.08 | |
| setNodeBorderColorRule | 0.09 | 0.00 | 4.17 | |
| setNodeColorRule | 0.10 | 0.00 | 4.13 | |
| setNodeLabelRule | 0.26 | 0.02 | 6.81 | |
| setNodeShapeRule | 0.07 | 0.01 | 2.16 | |
| setNodeSizeRule | 0.23 | 0.00 | 10.61 | |
| setNodeTooltipRule | 0.25 | 0.02 | 12.65 | |
| setPosition | 0.20 | 0.00 | 8.57 | |
| sfn | 0.19 | 0.03 | 6.73 | |
| unhideAll | 0.19 | 0.00 | 6.66 | |
| version | 0.03 | 0.00 | 0.09 | |