gaggle 1.16.0 Dan Tenenbaum
 | Snapshot Date: 2010-10-04 11:22:20 -0700 (Mon, 04 Oct 2010) |  | URL: https://hedgehog.fhcrc.org/bioconductor/branches/RELEASE_2_6/madman/Rpacks/gaggle |  | Last Changed Rev: 46401 / Revision: 49923 |  | Last Changed Date: 2010-04-22 11:21:23 -0700 (Thu, 22 Apr 2010) |  
  | wilson1  | Linux (openSUSE 11.1) / x86_64  |  OK  |  OK  |  | 
| liverpool  | Windows Server 2003 R2 (32-bit) / x64  |  OK  |  OK  |  OK  | 
| gewurz  | Windows Server 2008 R2 Enterprise (64-bit) / x64  |  OK  |  OK  |  OK  | 
| pelham  | Mac OS X Leopard (10.5.8) / i386  |  OK  |  OK  | [ OK ] | 
                INSTALLATION WITH 'R CMD INSTALL --preclean --library=gaggle.buildbin-libdir gaggle_1.16.0.tar.gz'
* installing *source* package ‘gaggle’ ...
** R
** inst
** preparing package for lazy loading
** help
*** installing help indices
** building package indices ...
** testing if installed package can be loaded
onLoad -- libname: /Users/biocbuild/bbs-2.6-bioc/meat/gaggle.buildbin-libdir pkgname: gaggle 
path to jar: /Users/biocbuild/bbs-2.6-bioc/meat/gaggle.buildbin-libdir/gaggle/jars/gaggleRShell.jar 
      script:  gaggle.R $Revision: 3504 $   $Date: 2008-09-22 10:45:45 -0700 (Mon, 22 Sep 2008) $ 
  os version:  Mac OS X 
 jvm version:  1.5.0_24 
* DONE (gaggle)