gaggle 1.16.0 Dan Tenenbaum
 | Snapshot Date: 2010-10-04 11:22:20 -0700 (Mon, 04 Oct 2010) |  | URL: https://hedgehog.fhcrc.org/bioconductor/branches/RELEASE_2_6/madman/Rpacks/gaggle |  | Last Changed Rev: 46401 / Revision: 49923 |  | Last Changed Date: 2010-04-22 11:21:23 -0700 (Thu, 22 Apr 2010) |  
  | wilson1  | Linux (openSUSE 11.1) / x86_64  |  OK  |  OK  |  | 
| liverpool  | Windows Server 2003 R2 (32-bit) / x64  |  OK  |  OK  |  OK  | 
| gewurz  | Windows Server 2008 R2 Enterprise (64-bit) / x64  | [ OK ] |  OK  |  OK  | 
| pelham  | Mac OS X Leopard (10.5.8) / i386  |  OK  |  OK  |  OK  | 
* checking for file 'gaggle/DESCRIPTION' ... OK
* preparing 'gaggle':
* checking DESCRIPTION meta-information ... OK
* installing the package to re-build vignettes
* installing *source* package 'gaggle' ...
** R
** inst
** preparing package for lazy loading
** help
*** installing help indices
** building package indices ...
** testing if installed package can be loaded
onLoad -- libname: D:/biocbld/bbs-2.6-bioc/tmpdir/Rinst446405346 pkgname: gaggle 
path to jar: D:/biocbld/bbs-2.6-bioc/tmpdir/Rinst446405346/gaggle/jars/gaggleRShell.jar 
      script:  gaggle.R $Revision: 3504 $   $Date: 2008-09-22 10:45:45 -0700 (Mon, 22 Sep 2008) $ 
  os version:  Windows Server 2008 R2 
 jvm version:  1.6.0_20 
* DONE (gaggle)
* creating vignettes ... OK
* removing junk files
* checking for LF line-endings in source and make files
* checking for empty or unneeded directories
* building 'gaggle_1.16.0.tar.gz'