hexbin 1.20.0 Nicholas Lewin-Koh
 | Snapshot Date: 2009-12-13 23:30:35 -0800 (Sun, 13 Dec 2009) |  | URL: https://hedgehog.fhcrc.org/bioconductor/branches/RELEASE_2_5/madman/Rpacks/hexbin |  | Last Changed Rev: 42684 / Revision: 43539 |  | Last Changed Date: 2009-10-27 16:33:29 -0700 (Tue, 27 Oct 2009) |  
  | wilson2  | Linux (openSUSE 11.1) / x86_64  |  OK  |  OK  |  | 
| liverpool  | Windows Server 2003 R2 (32-bit) / x64  |  OK  |  OK  |  OK  | 
| pitt  | Mac OS X Tiger (10.4.11) / i386  |  OK  |  OK  | [ OK ] | 
| pelham  | Mac OS X Leopard (10.5.8) / i386  |  OK  |  OK  |  OK  | 
                INSTALLATION WITH 'R CMD INSTALL --preclean --library=hexbin.buildbin-libdir hexbin_1.20.0.tar.gz'
* installing *source* package ‘hexbin’ ...
** libs
** arch - i386
gfortran -arch i386   -fPIC  -g -O2 -c hbin.f -o hbin.o
gfortran -arch i386   -fPIC  -g -O2 -c hcell.f -o hcell.o
gfortran -arch i386   -fPIC  -g -O2 -c herode.f -o herode.o
gfortran -arch i386   -fPIC  -g -O2 -c hsm.f -o hsm.o
gcc -arch i386 -std=gnu99 -dynamiclib -Wl,-headerpad_max_install_names -mmacosx-version-min=10.4 -undefined dynamic_lookup -single_module -multiply_defined suppress -L/usr/local/lib -o hexbin.so hbin.o hcell.o herode.o hsm.o -lgfortran -F/Library/Frameworks/R.framework/.. -framework R -Wl,-framework -Wl,CoreFoundation
** arch - ppc
gfortran -arch ppc   -fPIC  -g -O2 -c hbin.f -o hbin.o
gfortran -arch ppc   -fPIC  -g -O2 -c hcell.f -o hcell.o
gfortran -arch ppc   -fPIC  -g -O2 -c herode.f -o herode.o
gfortran -arch ppc   -fPIC  -g -O2 -c hsm.f -o hsm.o
gcc -arch ppc -std=gnu99 -dynamiclib -Wl,-headerpad_max_install_names -mmacosx-version-min=10.4 -undefined dynamic_lookup -single_module -multiply_defined suppress -L/usr/local/lib -o hexbin.so hbin.o hcell.o herode.o hsm.o -lgfortran -lSystemStubs -F/Library/Frameworks/R.framework/.. -framework R -Wl,-framework -Wl,CoreFoundation
** R
** data
** inst
** preparing package for lazy loading
Creating a new generic function for "plot" in "hexbin"
Creating a new generic function for "summary" in "hexbin"
** help
*** installing help indices
** building package indices ...
* DONE (hexbin)