hexbin 1.20.0 Nicholas Lewin-Koh
 | Snapshot Date: 2009-12-13 23:30:35 -0800 (Sun, 13 Dec 2009) |  | URL: https://hedgehog.fhcrc.org/bioconductor/branches/RELEASE_2_5/madman/Rpacks/hexbin |  | Last Changed Rev: 42684 / Revision: 43539 |  | Last Changed Date: 2009-10-27 16:33:29 -0700 (Tue, 27 Oct 2009) |  
  | wilson2  | Linux (openSUSE 11.1) / x86_64  |  OK  |  OK  |  | 
| liverpool  | Windows Server 2003 R2 (32-bit) / x64  | [ OK ] |  OK  |  OK  | 
| pitt  | Mac OS X Tiger (10.4.11) / i386  |  OK  |  OK  |  OK  | 
| pelham  | Mac OS X Leopard (10.5.8) / i386  |  OK  |  OK  |  OK  | 
* checking for file 'hexbin/DESCRIPTION' ... OK
* preparing 'hexbin':
* checking DESCRIPTION meta-information ... OK
* cleaning src
* installing the package to re-build vignettes
* installing *source* package 'hexbin' ...
** libs
  making DLL ...
gfortran     -O3  -c hbin.f -o hbin.o
gfortran     -O3  -c hcell.f -o hcell.o
gfortran     -O3  -c herode.f -o herode.o
gfortran     -O3  -c hsm.f -o hsm.o
gcc -shared -s -o hexbin.dll tmp.def hbin.o hcell.o herode.o hsm.o -lgfortran -Le:/biocbld/bbs-2.5-bioc/R/bin -lR
  ... done
** R
** data
** inst
** preparing package for lazy loading
Creating a new generic function for "plot" in "hexbin"
Creating a new generic function for "summary" in "hexbin"
** help
*** installing help indices
** building package indices ...
** MD5 sums
* DONE (hexbin)
* creating vignettes ... OK
* cleaning src
* removing junk files
* checking for LF line-endings in source and make files
* checking for empty or unneeded directories
* building 'hexbin_1.20.0.tar.gz'