| Back to the "Multiple platform build/check report" | A B [C] D E F G H I J K L M N O P Q R S T U V W X Y Z |
| Package 68/353 | Hostname | OS / Arch | BUILD | CHECK | BUILD BIN | ||||
| ChemmineR 1.6.0 Y. Eddie Cao
| wilson2 | Linux (openSUSE 11.1) / x86_64 | OK | OK | |||||
| liverpool | Windows Server 2003 R2 (32-bit) / x64 | ERROR | skipped | skipped | |||||
| pitt | Mac OS X Tiger (10.4.11) / i386 | OK | OK | OK | |||||
| pelham | Mac OS X Leopard (10.5.8) / i386 | OK | OK | [ OK ] |
| Package: ChemmineR |
| Version: 1.6.0 |
| Command: /Users/biocbuild/BBS/utils/build-universal.sh ChemmineR_1.6.0.tar.gz /Library/Frameworks/R.framework/Versions/2.10/Resources/bin/R ChemmineR.buildbin-libdir |
| StartedAt: 2009-12-14 07:27:56 -0800 (Mon, 14 Dec 2009) |
| EndedAt: 2009-12-14 07:27:58 -0800 (Mon, 14 Dec 2009) |
| EllapsedTime: 2.2 seconds |
| RetCode: 0 |
| Status: OK |
| PackageFile: ChemmineR_1.6.0.tgz |
| PackageFileSize: 759.8 KiB |
INSTALLATION WITH 'R CMD INSTALL --preclean --library=ChemmineR.buildbin-libdir ChemmineR_1.6.0.tar.gz'
* installing *source* package ‘ChemmineR’ ...
** R
** inst
** preparing package for lazy loading
** help
*** installing help indices
** building package indices ...
* DONE (ChemmineR)