| Back to the "Multiple platform build/check report" | A B [C] D E F G H I J K L M N O P Q R S T U V W X Y Z | 
| Package 151/655 | Hostname | OS / Arch | BUILD | CHECK | BUILD BIN | ||||
| cosmoGUI 1.25.1 Oliver Bembom 
  | george2 | Linux (Ubuntu 12.04.1 LTS) / x86_64 | OK | ERROR | |||||
| moscato2 | Windows Server 2008 R2 Enterprise SP1 (64-bit) / x64 | OK | [ ERROR ] | ERROR | |||||
| petty | Mac OS X Leopard (10.5.8) / i386 | OK | ERROR | ERROR | 
| Package: cosmoGUI | 
| Version: 1.25.1 | 
| Command: rm -rf cosmoGUI.buildbin-libdir && mkdir cosmoGUI.buildbin-libdir && E:\biocbld\bbs-2.12-bioc\R\bin\R.exe CMD INSTALL --build --merge-multiarch --library=cosmoGUI.buildbin-libdir cosmoGUI_1.25.1.tar.gz >cosmoGUI-install.out 2>&1 && E:\biocbld\bbs-2.12-bioc\R\bin\R.exe CMD check --library=cosmoGUI.buildbin-libdir --install="check:cosmoGUI-install.out" --force-multiarch --no-vignettes --timings cosmoGUI_1.25.1.tar.gz && mv cosmoGUI.buildbin-libdir/* cosmoGUI.Rcheck/ && rmdir cosmoGUI.buildbin-libdir | 
| StartedAt: 2013-03-19 01:52:53 -0700 (Tue, 19 Mar 2013) | 
| EndedAt: 2013-03-19 01:52:54 -0700 (Tue, 19 Mar 2013) | 
| EllapsedTime: 0.9 seconds | 
| RetCode: 1 | 
| Status: ERROR | 
| CheckDir: None | 
| Warnings: NA |