Back to the "Multiple platform build/check report"
| Package 165/214 | Hostname | OS | Arch | BUILD | CHECK | BUILD BIN |
rbsurv1.2.0Sukwoo KimLast Changed Date: 2007-04-24 11:21:48 -0700 Last Changed Rev: 24214 | lamb1 | Linux (SUSE 10.1) | x86_64 | OK | OK | |
| wellington | Linux (SUSE 9.2) | i686 | OK | OK | ||
| churchill | Solaris 2.9 | sparc | OK | [ OK ] | ||
| lemming | Windows Server 2003 (32-bit) | x64 | OK | OK | OK | |
| liverpool | Windows Server 2003 R2 (32-bit) | x64 | OK | OK | OK | |
| derby | Mac OS X (10.4.9) | i686 | OK | OK |
| Package: rbsurv |
| Version: 1.2.0 |
| Command: /loc/biocbuild/bbs-2.0-bioc/R/bin/R CMD check rbsurv_1.2.0.tar.gz |
| RetCode: 0 |
| Time: 629.9 seconds |
| Status: OK |
| CheckDir: rbsurv.Rcheck |
| Warnings: 0 |
* checking for working latex ... OK * using log directory '/loc/biocbuild/bbs-2.0-bioc/meat/rbsurv.Rcheck' * using R version 2.5.0 (2007-04-23) * checking for file 'rbsurv/DESCRIPTION' ... OK * this is package 'rbsurv' version '1.2.0' * checking package dependencies ... OK * checking if this is a source package ... OK * checking whether package 'rbsurv' can be installed ... OK * checking package directory ... OK * checking for portable file names ... OK * checking for sufficient/correct file permissions ... OK * checking DESCRIPTION meta-information ... OK * checking top-level files ... OK * checking index information ... OK * checking package subdirectories ... OK * checking R files for non-ASCII characters ... OK * checking R files for syntax errors ... OK * checking whether the package can be loaded ... OK * checking whether the package can be loaded with stated dependencies ... OK * checking whether the name space can be loaded with stated dependencies ... OK * checking for unstated dependencies in R code ... OK * checking S3 generic/method consistency ... OK * checking replacement functions ... OK * checking foreign function calls ... OK * checking R code for possible problems ... OK * checking Rd files ... OK * checking Rd cross-references ... OK * checking for missing documentation entries ... OK * checking for code/documentation mismatches ... OK * checking Rd \usage sections ... OK * checking data for non-ASCII characters ... OK * creating rbsurv-Ex.R ... OK * checking examples ... OK * checking package vignettes in 'inst/doc' ... OK * creating rbsurv-manual.tex ... OK * checking rbsurv-manual.tex ... OK
rbsurv.Rcheck/00install.out:
* Installing *source* package 'rbsurv' ...
** R
** data
** inst
** preparing package for lazy loading
Loading required package: Biobase
Loading required package: tools
Welcome to Bioconductor
Vignettes contain introductory material. To view, type
'openVignette()'. To cite Bioconductor, see
'citation("Biobase")' and for packages 'citation(pkgname)'.
Loading required package: survival
Loading required package: splines
** help
>>> Building/Updating help pages for package 'rbsurv'
Formats: text html latex example
glioma text html latex
glioma.cov text html latex
glioma.x text html latex
glioma.y text html latex
rbsurv text html latex example
** building package indices ...
* DONE (rbsurv)