Back to the "Multiple platform build/check report"
| Package 165/214 | Hostname | OS | Arch | BUILD | CHECK | BUILD BIN |
rbsurv1.2.0Sukwoo KimLast Changed Date: 2007-04-24 11:21:48 -0700 Last Changed Rev: 24214 | lamb1 | Linux (SUSE 10.1) | x86_64 | OK | OK | |
| wellington | Linux (SUSE 9.2) | i686 | OK | OK | ||
| churchill | Solaris 2.9 | sparc | [ OK ] | OK | ||
| lemming | Windows Server 2003 (32-bit) | x64 | OK | OK | OK | |
| liverpool | Windows Server 2003 R2 (32-bit) | x64 | OK | OK | OK | |
| derby | Mac OS X (10.4.9) | i686 | OK | OK |
| Package: rbsurv |
| Version: 1.2.0 |
| Command: /loc/biocbuild/bbs-2.0-bioc/R/bin/R CMD build rbsurv |
| RetCode: 0 |
| Time: 153.9 seconds |
| Status: OK |
| PackageFile: rbsurv_1.2.0.tar.gz |
* checking for file 'rbsurv/DESCRIPTION' ... OK
* preparing 'rbsurv':
* checking DESCRIPTION meta-information ... OK
* checking whether 'INDEX' is up-to-date ... NO
* use '--force' to overwrite the existing 'INDEX'
* installing the package to re-build vignettes
* Installing *source* package 'rbsurv' ...
** R
** data
** inst
** preparing package for lazy loading
Loading required package: Biobase
Loading required package: tools
Welcome to Bioconductor
Vignettes contain introductory material. To view, type
'openVignette()'. To cite Bioconductor, see
'citation("Biobase")' and for packages 'citation(pkgname)'.
Loading required package: survival
Loading required package: splines
** help
>>> Building/Updating help pages for package 'rbsurv'
Formats: text html latex example
glioma text html latex
glioma.cov text html latex
glioma.x text html latex
glioma.y text html latex
rbsurv text html latex example
** building package indices ...
* DONE (rbsurv)
* creating vignettes ... OK
* removing junk files
* checking for LF line-endings in source files
* checking for empty or unneeded directories
* building 'rbsurv_1.2.0.tar.gz'