Back to the "Multiple platform build/check report"
| Package 52/214 | Hostname | OS | Arch | BUILD | CHECK | BUILD BIN |
ctc1.10.0Antoine LucasLast Changed Date: 2007-04-24 11:21:48 -0700 Last Changed Rev: 24214 | lamb1 | Linux (SUSE 10.1) | x86_64 | OK | OK | |
| wellington | Linux (SUSE 9.2) | i686 | OK | OK | ||
| churchill | Solaris 2.9 | sparc | OK | OK | ||
| lemming | Windows Server 2003 (32-bit) | x64 | OK | OK | OK | |
| liverpool | Windows Server 2003 R2 (32-bit) | x64 | OK | [ OK ] | OK | |
| derby | Mac OS X (10.4.9) | i686 | OK | OK |
| Package: ctc |
| Version: 1.10.0 |
| Command: E:\biocbld\bbs-2.0-bioc\R\bin\R.exe CMD check ctc_1.10.0.tar.gz |
| RetCode: 0 |
| Time: 46.3 seconds |
| Status: OK |
| CheckDir: ctc.Rcheck |
| Warnings: 0 |
* checking for working latex ... OK * using log directory 'E:/biocbld/bbs-2.0-bioc/meat/ctc.Rcheck' * using R version 2.5.0 (2007-04-23) * checking for file 'ctc/DESCRIPTION' ... OK * this is package 'ctc' version '1.10.0' * checking package dependencies ... OK * checking if this is a source package ... OK * checking whether package 'ctc' can be installed ... OK * checking package directory ... OK * checking for portable file names ... OK * checking DESCRIPTION meta-information ... OK * checking top-level files ... OK * checking index information ... OK * checking package subdirectories ... OK * checking R files for non-ASCII characters ... OK * checking R files for syntax errors ... OK * checking whether the package can be loaded ... OK * checking whether the package can be loaded with stated dependencies ... OK * checking whether the name space can be loaded with stated dependencies ... OK * checking for unstated dependencies in R code ... OK * checking S3 generic/method consistency ... OK * checking replacement functions ... OK * checking foreign function calls ... OK * checking R code for possible problems ... OK * checking Rd files ... OK * checking Rd cross-references ... OK * checking for missing documentation entries ... OK * checking for code/documentation mismatches ... OK * checking Rd \usage sections ... OK * creating ctc-Ex.R ... OK * checking examples ... OK * checking package vignettes in 'inst/doc' ... OK * creating ctc-manual.tex ... OK * checking ctc-manual.tex ... OK
ctc.Rcheck/00install.out:
installing R.css in E:/biocbld/bbs-2.0-bioc/meat/ctc.Rcheck
---------- Making package ctc ------------
adding build stamp to DESCRIPTION
installing NAMESPACE file and metadata
installing R files
installing demos
installing exec files
installing inst files
installing man source files
installing indices
installing help
>>> Building/Updating help pages for package 'ctc'
Formats: text html latex example chm
hc2Newick text html latex example chm
hclust2treeview text html latex example chm
r2cluster text html latex example chm
r2gtr text html latex example chm
r2xcluster text html latex example chm
read.eisen text html latex chm
xcluster text html latex example chm
xcluster2r text html latex example chm
Microsoft HTML Help Compiler 4.74.8702
Compiling e:\biocbld\bbs-2.0-bioc\meat\ctc.Rcheck\00_pkg_src\ctc\chm\ctc.chm
Compile time: 0 minutes, 0 seconds
9 Topics
29 Local links
15 Internet links
1 Graphic
Created e:\biocbld\bbs-2.0-bioc\meat\ctc.Rcheck\00_pkg_src\ctc\chm\ctc.chm, 30,856 bytes
Compression decreased file by 10,215 bytes.
adding MD5 sums
* DONE (ctc)