Back to the "Multiple platform build/check report"
| Package 52/214 | Hostname | OS | Arch | BUILD | CHECK | BUILD BIN |
ctc1.10.0Antoine LucasLast Changed Date: 2007-04-24 11:21:48 -0700 Last Changed Rev: 24214 | lamb1 | Linux (SUSE 10.1) | x86_64 | OK | OK | |
| wellington | Linux (SUSE 9.2) | i686 | OK | OK | ||
| churchill | Solaris 2.9 | sparc | OK | OK | ||
| lemming | Windows Server 2003 (32-bit) | x64 | OK | OK | [ OK ] | |
| liverpool | Windows Server 2003 R2 (32-bit) | x64 | OK | OK | OK | |
| derby | Mac OS X (10.4.9) | i686 | OK | OK |
| Package: ctc |
| Version: 1.10.0 |
| Command: D:\biocbld\bbs-2.0-bioc\R\bin\R.exe CMD INSTALL --build --library=ctc.BUILDBINinstdir ctc_1.10.0.tar.gz |
| RetCode: 0 |
| Time: 9.0 seconds |
| Status: OK |
| PackageFile: ctc_1.10.0.zip |
installing R.css in D:/biocbld/bbs-2.0-bioc/meat/ctc.BUILDBINinstdir
Using auto-selected zip options ''
---------- Making package ctc ------------
adding build stamp to DESCRIPTION
installing NAMESPACE file and metadata
installing R files
installing demos
installing exec files
installing inst files
installing man source files
installing indices
installing help
>>> Building/Updating help pages for package 'ctc'
Formats: text html latex example chm
hc2Newick text html latex example chm
hclust2treeview text html latex example chm
r2cluster text html latex example chm
r2gtr text html latex example chm
r2xcluster text html latex example chm
read.eisen text html latex chm
xcluster text html latex example chm
xcluster2r text html latex example chm
Microsoft HTML Help Compiler 4.74.8702
Compiling d:\biocbld\bbs-2.0-bioc\meat\R.INSTALL.9352\ctc\chm\ctc.chm
Compile time: 0 minutes, 0 seconds
9 Topics
29 Local links
15 Internet links
1 Graphic
Created d:\biocbld\bbs-2.0-bioc\meat\R.INSTALL.9352\ctc\chm\ctc.chm, 30,858 bytes
Compression decreased file by 10,213 bytes.
adding MD5 sums
packaged installation of package 'ctc' as ctc_1.10.0.zip
* DONE (ctc)